BEGIN:VCALENDAR
VERSION:2.0
PRODID:-//49 West - Coffeehouse, Winebar &amp; Gallery / Annapolis, Maryland - ECPv6.15.20//NONSGML v1.0//EN
CALSCALE:GREGORIAN
METHOD:PUBLISH
X-WR-CALNAME:49 West - Coffeehouse, Winebar &amp; Gallery / Annapolis, Maryland
X-ORIGINAL-URL:https://49westcoffeehouse.com
X-WR-CALDESC:Events for 49 West - Coffeehouse, Winebar &amp; Gallery / Annapolis, Maryland
REFRESH-INTERVAL;VALUE=DURATION:PT1H
X-Robots-Tag:noindex
X-PUBLISHED-TTL:PT1H
BEGIN:VTIMEZONE
TZID:America/Halifax
BEGIN:DAYLIGHT
TZOFFSETFROM:-0400
TZOFFSETTO:-0300
TZNAME:ADT
DTSTART:20180311T060000
END:DAYLIGHT
BEGIN:STANDARD
TZOFFSETFROM:-0300
TZOFFSETTO:-0400
TZNAME:AST
DTSTART:20181104T050000
END:STANDARD
BEGIN:DAYLIGHT
TZOFFSETFROM:-0400
TZOFFSETTO:-0300
TZNAME:ADT
DTSTART:20190310T060000
END:DAYLIGHT
BEGIN:STANDARD
TZOFFSETFROM:-0300
TZOFFSETTO:-0400
TZNAME:AST
DTSTART:20191103T050000
END:STANDARD
BEGIN:DAYLIGHT
TZOFFSETFROM:-0400
TZOFFSETTO:-0300
TZNAME:ADT
DTSTART:20200308T060000
END:DAYLIGHT
BEGIN:STANDARD
TZOFFSETFROM:-0300
TZOFFSETTO:-0400
TZNAME:AST
DTSTART:20201101T050000
END:STANDARD
END:VTIMEZONE
BEGIN:VEVENT
DTSTART;TZID=America/Halifax:20190329T170000
DTEND;TZID=America/Halifax:20190329T190000
DTSTAMP:20260425T184320
CREATED:20190226T220450Z
LAST-MODIFIED:20190318T165605Z
UID:6545-1553878800-1553886000@49westcoffeehouse.com
SUMMARY:Happy Hour with Bob & Eddie
DESCRIPTION:Friday night\, March 29th\, Bob Israel and Eddie Czerminski\, who are both longtime residents of South County\, return to 49 West playing their special brand of blues and roots music.  \nBob brings musical guests Mark Puryear\, Jay Summerour\, and Coleman O’Donoghue. Mark is a grammy nominated musician and research associate at the Smithsonian Center for Folklife and Cultural Heritage specializing in the history of the blues.  Jay is a nationally recognized harmonica player and Coleman is known for his percussion for the Allman Others Band\, playing throughout the area.  \nIt’s an exciting evening of rousing music played by some of the greatest musicians in the area. Bob is known throughout the DC area\, starting with the Washington Jazz Battalion and more recently as executive producer for Blues Alley\, bringing some of the greats to South County.  Take a listen: \n  \nhttps://folkways.si.edu/phil-wiggins-and-mark-puryear-play-the-midnight-special/african-american-music-american-folk-blues/music/video/smithsonian \n  \nhttps://www.youtube.com/watch?v=QT_tRjGAlt8 \n  \nhttps://www.youtube.com/watch?v=203iEHWzR9g \n 
URL:https://49westcoffeehouse.com/event/bob-eddie-2-2/
CATEGORIES:Front Room
ATTACH;FMTTYPE=image/jpeg:https://49westcoffeehouse.com/wp-content/uploads/2019/01/jorys-pic2.jpeg
END:VEVENT
BEGIN:VEVENT
DTSTART;TZID=America/Halifax:20190329T200000
DTEND;TZID=America/Halifax:20190329T230000
DTSTAMP:20260425T184320
CREATED:20190207T002202Z
LAST-MODIFIED:20190316T190956Z
UID:6412-1553889600-1553900400@49westcoffeehouse.com
SUMMARY:Caleb Stine
DESCRIPTION:The BALTIMORE SUN has called Caleb Stine the “lynchpin of the Baltimore folk scene.” Flying just below mainstream radar\, Stine keeps the music honest– hardworking\, genuine\, and unafraid to tell it like it is. Tonight he’ll be playing some new songs with old guitars and a couple guest appearances.
URL:https://49westcoffeehouse.com/event/caleb-stine/
ATTACH;FMTTYPE=image/jpeg:https://49westcoffeehouse.com/wp-content/uploads/2019/02/940AF836-DB0C-4CDC-81FC-6DFF6E827D35.jpeg
END:VEVENT
END:VCALENDAR