BEGIN:VCALENDAR
VERSION:2.0
PRODID:-//49 West - Coffeehouse, Winebar &amp; Gallery / Annapolis, Maryland - ECPv6.15.20//NONSGML v1.0//EN
CALSCALE:GREGORIAN
METHOD:PUBLISH
X-WR-CALNAME:49 West - Coffeehouse, Winebar &amp; Gallery / Annapolis, Maryland
X-ORIGINAL-URL:https://49westcoffeehouse.com
X-WR-CALDESC:Events for 49 West - Coffeehouse, Winebar &amp; Gallery / Annapolis, Maryland
REFRESH-INTERVAL;VALUE=DURATION:PT1H
X-Robots-Tag:noindex
X-PUBLISHED-TTL:PT1H
BEGIN:VTIMEZONE
TZID:America/Halifax
BEGIN:DAYLIGHT
TZOFFSETFROM:-0400
TZOFFSETTO:-0300
TZNAME:ADT
DTSTART:20180311T060000
END:DAYLIGHT
BEGIN:STANDARD
TZOFFSETFROM:-0300
TZOFFSETTO:-0400
TZNAME:AST
DTSTART:20181104T050000
END:STANDARD
BEGIN:DAYLIGHT
TZOFFSETFROM:-0400
TZOFFSETTO:-0300
TZNAME:ADT
DTSTART:20190310T060000
END:DAYLIGHT
BEGIN:STANDARD
TZOFFSETFROM:-0300
TZOFFSETTO:-0400
TZNAME:AST
DTSTART:20191103T050000
END:STANDARD
BEGIN:DAYLIGHT
TZOFFSETFROM:-0400
TZOFFSETTO:-0300
TZNAME:ADT
DTSTART:20200308T060000
END:DAYLIGHT
BEGIN:STANDARD
TZOFFSETFROM:-0300
TZOFFSETTO:-0400
TZNAME:AST
DTSTART:20201101T050000
END:STANDARD
END:VTIMEZONE
BEGIN:VTIMEZONE
TZID:UTC
BEGIN:STANDARD
TZOFFSETFROM:+0000
TZOFFSETTO:+0000
TZNAME:UTC
DTSTART:20180101T000000
END:STANDARD
END:VTIMEZONE
BEGIN:VEVENT
DTSTART;TZID=America/Halifax:20190411T170000
DTEND;TZID=America/Halifax:20190411T190000
DTSTAMP:20260425T113425
CREATED:20190226T220243Z
LAST-MODIFIED:20190226T220243Z
UID:6543-1555002000-1555009200@49westcoffeehouse.com
SUMMARY:Happy Hour with Gary Wright\, Leah Weiss & Tom Fridrich
DESCRIPTION:HH with Gary\, Leah & Tom. \nJoin us every 2nd Thursday’s Happy Hour with Gary\, Leah & Tom
URL:https://49westcoffeehouse.com/event/happy-hour-gary-wright-leah-weiss-tom-fridrich-2-2-3-2-2-2-2-2-2-2-2-2-2/
END:VEVENT
BEGIN:VEVENT
DTSTART;TZID=UTC:20190411T200000
DTEND;TZID=UTC:20190411T230000
DTSTAMP:20260425T113425
CREATED:20190329T185521Z
LAST-MODIFIED:20190329T185521Z
UID:6723-1555012800-1555023600@49westcoffeehouse.com
SUMMARY:Steve Fidyk & The Parlour Project
DESCRIPTION:Led by drummer Steve Fidyk\, The Parlour Project is a new ensemble that trends on performing original improvisational music. Fidyk has earned national and international acclaim as a performer\, author\, and educator. He is a member of The Army Blues Big Band\, the Jazz Studies faculty at Temple University\, Philadelphia\, PA.\, and a contributing columnist for Modern Drummer Magazine. He has performed and recorded with Wayne Bergeron\, John Clayton\, Wycliffe Gordon\, Tim Hagans\, Slide Hampton\, Maureen McGovern\, James Moody\, New York Voices\, Dick Oates\, Arturo Sandoval\, Doc Severinsen\, Terell Stafford\, Tim Warfield\, and Bill Watrous. On tour with Maureen McGovern\, Fidyk has performed with orchestras throughout the country\, including The Cincinnati Pops\, Spokane Symphony\, Nashville Symphony\, Plano Symphony\, The Baltimore Symphony\, The Buffalo Philharmonic Orchestra\, and the Jerry Lewis MDA Labor Day Telethon. His discography as a leader/co-leader includes: Big Kids (U.S. Roots)\, A Perfect Match (Write Groove)\, and Live at Blues Alley (OA2). Fidyk can also be heard on over 100 recordings as a contributing artist.
URL:https://49westcoffeehouse.com/event/steve-fidyk-parlour-project-12-2-3-4-4/
CATEGORIES:Back Room,Jazz
ATTACH;FMTTYPE=image/jpeg:https://49westcoffeehouse.com/wp-content/uploads/2016/05/1687.jpg
END:VEVENT
END:VCALENDAR