BEGIN:VCALENDAR
VERSION:2.0
PRODID:-//49 West - Coffeehouse, Winebar &amp; Gallery / Annapolis, Maryland - ECPv6.15.20//NONSGML v1.0//EN
CALSCALE:GREGORIAN
METHOD:PUBLISH
X-WR-CALNAME:49 West - Coffeehouse, Winebar &amp; Gallery / Annapolis, Maryland
X-ORIGINAL-URL:https://49westcoffeehouse.com
X-WR-CALDESC:Events for 49 West - Coffeehouse, Winebar &amp; Gallery / Annapolis, Maryland
REFRESH-INTERVAL;VALUE=DURATION:PT1H
X-Robots-Tag:noindex
X-PUBLISHED-TTL:PT1H
BEGIN:VTIMEZONE
TZID:America/Halifax
BEGIN:DAYLIGHT
TZOFFSETFROM:-0400
TZOFFSETTO:-0300
TZNAME:ADT
DTSTART:20180311T060000
END:DAYLIGHT
BEGIN:STANDARD
TZOFFSETFROM:-0300
TZOFFSETTO:-0400
TZNAME:AST
DTSTART:20181104T050000
END:STANDARD
BEGIN:DAYLIGHT
TZOFFSETFROM:-0400
TZOFFSETTO:-0300
TZNAME:ADT
DTSTART:20190310T060000
END:DAYLIGHT
BEGIN:STANDARD
TZOFFSETFROM:-0300
TZOFFSETTO:-0400
TZNAME:AST
DTSTART:20191103T050000
END:STANDARD
BEGIN:DAYLIGHT
TZOFFSETFROM:-0400
TZOFFSETTO:-0300
TZNAME:ADT
DTSTART:20200308T060000
END:DAYLIGHT
BEGIN:STANDARD
TZOFFSETFROM:-0300
TZOFFSETTO:-0400
TZNAME:AST
DTSTART:20201101T050000
END:STANDARD
END:VTIMEZONE
BEGIN:VEVENT
DTSTART;TZID=America/Halifax:20190412T193000
DTEND;TZID=America/Halifax:20190412T230000
DTSTAMP:20260425T113420
CREATED:20190327T215834Z
LAST-MODIFIED:20190328T012824Z
UID:6691-1555097400-1555110000@49westcoffeehouse.com
SUMMARY:Sean Jones Quintet
DESCRIPTION:2 Shows at 7:30pm & 9pm. Please call for reservations and specify which show it will be for. If it’s for both show\, please specify that as well. \nMusic and spirituality have always been fully intertwined in the artistic vision of trumpeter\, \nbandleader\, composer\, educator and activist Sean Jones. Singing and performing as a child with \nthe church choir in his hometown of Warren\, Ohio\, Sean switched from the drums to the \ntrumpet at the age of 10. \nSean is a musical chameleon and is comfortable in any musical setting no matter what the role \nor the genre. He is equally adept in being a member of an ensemble as he is at being a \nbandleader. Sean turned a 6-month stint with the Jazz at Lincoln Center Orchestra into an offer \nfrom Wynton Marsalis for a permanent position as lead trumpeter\, a post he held from 2004 \nuntil 2010. In 2015 Jones was tapped to become a member of the SFJAZZ Collective. During this \ntime\, Sean has managed to keep a core group of talented musicians together under his \nleadership forming the foundation for his groups that have produced and released eight \nrecordings on the Mack Avenue Records\, the latest is his 2017 release Sean Jones: Live from the \nJazz Bistro. \nSean has been prominently featured with a number of artists\, recording and/or performing \nwith many major figures in jazz\, including Illinois Jacquet\, Jimmy Heath\, Frank Foster\, Nancy \nWilson\, Dianne Reeves\, Gerald Wilson and Marcus Miller. Sean was selected by Miller\, Herbie \nHancock and Wayne Shorter for their Tribute to Miles tour in 2011. \nHe has also performed with the Cleveland\, Pittsburgh and Youngstown Symphony Orchestras as \nwell as Soulful Symphony in Baltimore and in a chamber group at the Salt Bay Chamber Festival. \nSean is also an internationally recognized educator. He was recently named the Richard and \nElizabeth Case Chair of Jazz at John Hopkins University’s Peabody Institute in Baltimore. Before \ncoming to Peabody\, Sean served as the Chair of the Brass Department at the Berklee College of \nMusic in Boston.
URL:https://49westcoffeehouse.com/event/sean-jones-quintet/
CATEGORIES:Jazz
ATTACH;FMTTYPE=image/jpeg:https://49westcoffeehouse.com/wp-content/uploads/2019/03/19-1390-49-West-Jazz-Flyer.jpg
END:VEVENT
END:VCALENDAR