BEGIN:VCALENDAR
VERSION:2.0
PRODID:-//49 West - Coffeehouse, Winebar &amp; Gallery / Annapolis, Maryland - ECPv6.15.20//NONSGML v1.0//EN
CALSCALE:GREGORIAN
METHOD:PUBLISH
X-ORIGINAL-URL:https://49westcoffeehouse.com
X-WR-CALDESC:Events for 49 West - Coffeehouse, Winebar &amp; Gallery / Annapolis, Maryland
REFRESH-INTERVAL;VALUE=DURATION:PT1H
X-Robots-Tag:noindex
X-PUBLISHED-TTL:PT1H
BEGIN:VTIMEZONE
TZID:America/Halifax
BEGIN:DAYLIGHT
TZOFFSETFROM:-0400
TZOFFSETTO:-0300
TZNAME:ADT
DTSTART:20180311T060000
END:DAYLIGHT
BEGIN:STANDARD
TZOFFSETFROM:-0300
TZOFFSETTO:-0400
TZNAME:AST
DTSTART:20181104T050000
END:STANDARD
BEGIN:DAYLIGHT
TZOFFSETFROM:-0400
TZOFFSETTO:-0300
TZNAME:ADT
DTSTART:20190310T060000
END:DAYLIGHT
BEGIN:STANDARD
TZOFFSETFROM:-0300
TZOFFSETTO:-0400
TZNAME:AST
DTSTART:20191103T050000
END:STANDARD
BEGIN:DAYLIGHT
TZOFFSETFROM:-0400
TZOFFSETTO:-0300
TZNAME:ADT
DTSTART:20200308T060000
END:DAYLIGHT
BEGIN:STANDARD
TZOFFSETFROM:-0300
TZOFFSETTO:-0400
TZNAME:AST
DTSTART:20201101T050000
END:STANDARD
END:VTIMEZONE
BEGIN:VEVENT
DTSTART;TZID=America/Halifax:20190422T200000
DTEND;TZID=America/Halifax:20190422T230000
DTSTAMP:20260425T082201
CREATED:20190409T193445Z
LAST-MODIFIED:20190414T202718Z
UID:6834-1555963200-1555974000@49westcoffeehouse.com
SUMMARY:Future Country
DESCRIPTION:Future Country\, Joe E. Martin of 3rd Grade Friends and The Minus Drag returns to Annapolis with his soft sonic meditative landscapes in an intimate setting. Also on the bill creature of mystery and master of dark synth\, CA8AL and the psych folk stylings of Wyght Gold! \nDoors 8pm\n$10 \n**PLEASE CALL FOR RESERVATIONS BECAUSE SEATING IS LIMITED AND FIRST COME FIRST SERVE**
URL:https://49westcoffeehouse.com/event/future-country/
ATTACH;FMTTYPE=image/jpeg:https://49westcoffeehouse.com/wp-content/uploads/2019/04/ADD08FCA-38CE-4747-93D9-CBCB08A5CC39.jpeg
END:VEVENT
END:VCALENDAR