BEGIN:VCALENDAR
VERSION:2.0
PRODID:-//49 West - Coffeehouse, Winebar &amp; Gallery / Annapolis, Maryland - ECPv6.15.20//NONSGML v1.0//EN
CALSCALE:GREGORIAN
METHOD:PUBLISH
X-WR-CALNAME:49 West - Coffeehouse, Winebar &amp; Gallery / Annapolis, Maryland
X-ORIGINAL-URL:https://49westcoffeehouse.com
X-WR-CALDESC:Events for 49 West - Coffeehouse, Winebar &amp; Gallery / Annapolis, Maryland
REFRESH-INTERVAL;VALUE=DURATION:PT1H
X-Robots-Tag:noindex
X-PUBLISHED-TTL:PT1H
BEGIN:VTIMEZONE
TZID:America/Halifax
BEGIN:DAYLIGHT
TZOFFSETFROM:-0400
TZOFFSETTO:-0300
TZNAME:ADT
DTSTART:20180311T060000
END:DAYLIGHT
BEGIN:STANDARD
TZOFFSETFROM:-0300
TZOFFSETTO:-0400
TZNAME:AST
DTSTART:20181104T050000
END:STANDARD
BEGIN:DAYLIGHT
TZOFFSETFROM:-0400
TZOFFSETTO:-0300
TZNAME:ADT
DTSTART:20190310T060000
END:DAYLIGHT
BEGIN:STANDARD
TZOFFSETFROM:-0300
TZOFFSETTO:-0400
TZNAME:AST
DTSTART:20191103T050000
END:STANDARD
BEGIN:DAYLIGHT
TZOFFSETFROM:-0400
TZOFFSETTO:-0300
TZNAME:ADT
DTSTART:20200308T060000
END:DAYLIGHT
BEGIN:STANDARD
TZOFFSETFROM:-0300
TZOFFSETTO:-0400
TZNAME:AST
DTSTART:20201101T050000
END:STANDARD
END:VTIMEZONE
BEGIN:VTIMEZONE
TZID:UTC
BEGIN:STANDARD
TZOFFSETFROM:+0000
TZOFFSETTO:+0000
TZNAME:UTC
DTSTART:20180101T000000
END:STANDARD
END:VTIMEZONE
BEGIN:VEVENT
DTSTART;TZID=America/Halifax:20190426T170000
DTEND;TZID=America/Halifax:20190426T190000
DTSTAMP:20260425T113415
CREATED:20190226T220544Z
LAST-MODIFIED:20190226T220544Z
UID:6550-1556298000-1556305200@49westcoffeehouse.com
SUMMARY:Happy Hour with Bob & Eddie
DESCRIPTION:  \n \nCOME JOIN US FOR HAPPY HOUR 5-7PM!! \nBob Israel guitar\nEddie Czerwinski guitar\nColeman O’Donoghue percussion\nDave Marsh bass. \n  \nBob originally made his mark as the founder\, orchestra leader and principal trombonist of the Washington Jazz Battalion\, a 16-piece Big Band\, formed in 1976. The band enjoyed popularity and perform ed overseas\, in NYC\, and throughout most of the east coast. Bob’s Big Band enjoyed great popularity on the East Coast\, playing venues like: Top of the Town; Cellar Door; Blues Alley; Wax Museum; Bethesda Blues and Jazz; Bethesda Cinema Drafthouse; Arties after Dark\, among many corporate\, charity\, and association events. Bob’s skills and the unique sound his Big Band was noted by the Ronald Reagan\, George Bush\, and Bill ClintonAdministrations\, where he was formally invited to perform at their Presidential Inaugurations Balls. As a musician Bob Israel has performed in concert with Nancy Wilson\, Stanley Turrentine\, Harry Connick\, Dizzy Gillespie\, Mary Wilson and Steve Allen. In addition to performing at Inaugural Balls he has performed for many corporate and associate events as an orchestra leader. The Washington Jazz Battalion Big Band was one of Washington’s finest and attracted crowds of over a thousand people a night. The band was purchased by Blues Alley and became the Blues Alley Big Band directed by Bob Israel. \nhttps://www.youtube.com/watch?v=RalkWFleyl8&index=1&list=PLqV0XXTbqBnzOqsksvqnEO01R_-ny4eUG
URL:https://49westcoffeehouse.com/event/bob-eddie-2-2-2/
CATEGORIES:Front Room
ATTACH;FMTTYPE=image/jpeg:https://49westcoffeehouse.com/wp-content/uploads/2019/01/jorys-pic2.jpeg
END:VEVENT
BEGIN:VEVENT
DTSTART;TZID=UTC:20190426T200000
DTEND;TZID=UTC:20190426T230000
DTSTAMP:20260425T113415
CREATED:20190305T234133Z
LAST-MODIFIED:20190401T140031Z
UID:6649-1556308800-1556319600@49westcoffeehouse.com
SUMMARY:Susan Jones Quartet
DESCRIPTION:Violin is not the first instrument one thinks about in jazz circles\, but in the right hands\, it is dynamite!  Enter Susan Jones\, accompanied by a trio including husband Tom Jones on drums\, Bob Abbott on bass and Jim Cunningham on guitar\, and it’s party time!  Susan favors Django’s gypsy jazz tunes and the Great American Songbook\, so you will be tapping your toes to lots of familiar jazz melodies!  Bring a friend and enjoy a lite spring supper along with the show!
URL:https://49westcoffeehouse.com/event/susan-jones-quartet-2-2-3/
LOCATION:49 West – The Back Room\, 49 West St.\, Annapolis\, MD\, 21401\, United States
ATTACH;FMTTYPE=image/jpeg:https://49westcoffeehouse.com/wp-content/uploads/2016/09/image-2.jpeg
END:VEVENT
END:VCALENDAR