BEGIN:VCALENDAR
VERSION:2.0
PRODID:-//49 West - Coffeehouse, Winebar &amp; Gallery / Annapolis, Maryland - ECPv6.15.20//NONSGML v1.0//EN
CALSCALE:GREGORIAN
METHOD:PUBLISH
X-ORIGINAL-URL:https://49westcoffeehouse.com
X-WR-CALDESC:Events for 49 West - Coffeehouse, Winebar &amp; Gallery / Annapolis, Maryland
REFRESH-INTERVAL;VALUE=DURATION:PT1H
X-Robots-Tag:noindex
X-PUBLISHED-TTL:PT1H
BEGIN:VTIMEZONE
TZID:America/Halifax
BEGIN:DAYLIGHT
TZOFFSETFROM:-0400
TZOFFSETTO:-0300
TZNAME:ADT
DTSTART:20190310T060000
END:DAYLIGHT
BEGIN:STANDARD
TZOFFSETFROM:-0300
TZOFFSETTO:-0400
TZNAME:AST
DTSTART:20191103T050000
END:STANDARD
BEGIN:DAYLIGHT
TZOFFSETFROM:-0400
TZOFFSETTO:-0300
TZNAME:ADT
DTSTART:20200308T060000
END:DAYLIGHT
BEGIN:STANDARD
TZOFFSETFROM:-0300
TZOFFSETTO:-0400
TZNAME:AST
DTSTART:20201101T050000
END:STANDARD
BEGIN:DAYLIGHT
TZOFFSETFROM:-0400
TZOFFSETTO:-0300
TZNAME:ADT
DTSTART:20210314T060000
END:DAYLIGHT
BEGIN:STANDARD
TZOFFSETFROM:-0300
TZOFFSETTO:-0400
TZNAME:AST
DTSTART:20211107T050000
END:STANDARD
END:VTIMEZONE
BEGIN:VEVENT
DTSTART;TZID=America/Halifax:20200330T193000
DTEND;TZID=America/Halifax:20200330T223000
DTSTAMP:20260420T161928
CREATED:20200204T032421Z
LAST-MODIFIED:20200204T032421Z
UID:10933-1585596600-1585607400@49westcoffeehouse.com
SUMMARY:The 9 Songwriters Series
DESCRIPTION:The 9 Songwriter Series is back at 49 West Monday\, March 30th\, for our monthly residency. Please call to reserve your seats and show up at 7pm for dinner and drinks. The show starts at 7:30pm and features music and collaboration from: \nJustin Trawick\n\nFor more info go to www.wearethe9.com \nTHE 9 SONGWRITER SERIES\nFounded in Washington DC in 2008 by singer/songwriter Justin Trawick\, “The 9 Songwriter Series” is a touring collective and live show featuring nine acts performing together for one evening of songs and collaboration. In an industry where artists are often working independently\, “The 9” brings performers together\, often whom have never met\, to combine their talents and perform to large crowds around the country. Each installment features an ensemble of nine acts performing in a unique and captivating format\, telling stories\, and sitting in on each other’s songs with little to no rehearsal for a community experience that can’t be duplicated or emulated. To date\, over 500 different artists have participated in “The 9” at shows in DC\, Baltimore\, Annapolis\, Philadelphia\, New York\, Fairfield\, Boston\, Richmond\, Charlottesville\, Charlotte\, New Orleans\, Atlanta\, Los Angeles and San Francisco. For more info go to www.wearethe9.com
URL:https://49westcoffeehouse.com/event/the-9-songwriters-series-6-2-2-2-2-2-2/
END:VEVENT
END:VCALENDAR