BEGIN:VCALENDAR
VERSION:2.0
PRODID:-//49 West - Coffeehouse, Winebar &amp; Gallery / Annapolis, Maryland - ECPv6.15.20//NONSGML v1.0//EN
CALSCALE:GREGORIAN
METHOD:PUBLISH
X-ORIGINAL-URL:https://49westcoffeehouse.com
X-WR-CALDESC:Events for 49 West - Coffeehouse, Winebar &amp; Gallery / Annapolis, Maryland
REFRESH-INTERVAL;VALUE=DURATION:PT1H
X-Robots-Tag:noindex
X-PUBLISHED-TTL:PT1H
BEGIN:VTIMEZONE
TZID:America/Halifax
BEGIN:DAYLIGHT
TZOFFSETFROM:-0400
TZOFFSETTO:-0300
TZNAME:ADT
DTSTART:20190310T060000
END:DAYLIGHT
BEGIN:STANDARD
TZOFFSETFROM:-0300
TZOFFSETTO:-0400
TZNAME:AST
DTSTART:20191103T050000
END:STANDARD
BEGIN:DAYLIGHT
TZOFFSETFROM:-0400
TZOFFSETTO:-0300
TZNAME:ADT
DTSTART:20200308T060000
END:DAYLIGHT
BEGIN:STANDARD
TZOFFSETFROM:-0300
TZOFFSETTO:-0400
TZNAME:AST
DTSTART:20201101T050000
END:STANDARD
BEGIN:DAYLIGHT
TZOFFSETFROM:-0400
TZOFFSETTO:-0300
TZNAME:ADT
DTSTART:20210314T060000
END:DAYLIGHT
BEGIN:STANDARD
TZOFFSETFROM:-0300
TZOFFSETTO:-0400
TZNAME:AST
DTSTART:20211107T050000
END:STANDARD
BEGIN:DAYLIGHT
TZOFFSETFROM:-0400
TZOFFSETTO:-0300
TZNAME:ADT
DTSTART:20220313T060000
END:DAYLIGHT
BEGIN:STANDARD
TZOFFSETFROM:-0300
TZOFFSETTO:-0400
TZNAME:AST
DTSTART:20221106T050000
END:STANDARD
END:VTIMEZONE
BEGIN:VEVENT
DTSTART;TZID=America/Halifax:20200417T203000
DTEND;TZID=America/Halifax:20210417T230000
DTSTAMP:20260420T175928
CREATED:20200303T003627Z
LAST-MODIFIED:20200303T003724Z
UID:11081-1587155400-1618700400@49westcoffeehouse.com
SUMMARY:Dave Chappell
DESCRIPTION:  \n 
URL:https://49westcoffeehouse.com/event/dave-chappell-3-2/
END:VEVENT
BEGIN:VEVENT
DTSTART;TZID=America/Halifax:20200418T170000
DTEND;TZID=America/Halifax:20200418T190000
DTSTAMP:20260420T175928
CREATED:20200204T032912Z
LAST-MODIFIED:20200204T032912Z
UID:10941-1587229200-1587236400@49westcoffeehouse.com
SUMMARY:John Jensen
DESCRIPTION:Blues guitar
URL:https://49westcoffeehouse.com/event/john-jensen-17-2-2/
CATEGORIES:Front Room
END:VEVENT
BEGIN:VEVENT
DTSTART;TZID=America/Halifax:20200418T190000
DTEND;TZID=America/Halifax:20200418T220000
DTSTAMP:20260420T175928
CREATED:20200311T022852Z
LAST-MODIFIED:20200311T023318Z
UID:11150-1587236400-1587247200@49westcoffeehouse.com
SUMMARY:Chris Trapper
DESCRIPTION:Please go to the link to purchase tickets. We will not be taking reservations for this show. https://www.eventbrite.com/e/chris-trapper-in-annapolis-md-tickets-99309399086?aff=efbeventtix&fbclid=IwAR1gYNkqzzoNOP4-km4IfrPT5ifvh-yfi3MV8q_lKZ_X_Cbkbb0WarV8X4Q \nChris Trapper is a storyteller. With his soulful\, honeyed tenor\, sly humor and an uncanny knack for melody\, Chris has traveled the world over\, performing to a dedicated and ever growing fan base with nothing but his guitar and his songs. Raised on Prine and Kristofferson\, Trapper’s first foray in the music industry was as frontman of the critically acclaimed alt-rock band The Push Stars (Capitol Records). Over the past decade\, Chris has become a modern day acoustic troubadour\, performing over 150 dates a year as a headliner and sharing the stage with the likes of Colin Hay\, Martin Sexton and even John Prine himself. \nThe New York Times has called his work “classic pop perfection.” \nThe new CD SYMPHONIES OF DIRT & DUST is a collection of 12 songs written and performed by Chris Trapper and Produced by Jason Meeker at Silver Top Studios\, Boston\, MA. Guest musicians include Dan McLoughlin of The Push Stars on bass and NYC singer/songwriter Amy Fairchild on harmonies. \n 
URL:https://49westcoffeehouse.com/event/chris-trapper-2/
END:VEVENT
END:VCALENDAR