BEGIN:VCALENDAR
VERSION:2.0
PRODID:-//49 West - Coffeehouse, Winebar &amp; Gallery / Annapolis, Maryland - ECPv6.15.20//NONSGML v1.0//EN
CALSCALE:GREGORIAN
METHOD:PUBLISH
X-WR-CALNAME:49 West - Coffeehouse, Winebar &amp; Gallery / Annapolis, Maryland
X-ORIGINAL-URL:https://49westcoffeehouse.com
X-WR-CALDESC:Events for 49 West - Coffeehouse, Winebar &amp; Gallery / Annapolis, Maryland
REFRESH-INTERVAL;VALUE=DURATION:PT1H
X-Robots-Tag:noindex
X-PUBLISHED-TTL:PT1H
BEGIN:VTIMEZONE
TZID:America/Halifax
BEGIN:DAYLIGHT
TZOFFSETFROM:-0400
TZOFFSETTO:-0300
TZNAME:ADT
DTSTART:20210314T060000
END:DAYLIGHT
BEGIN:STANDARD
TZOFFSETFROM:-0300
TZOFFSETTO:-0400
TZNAME:AST
DTSTART:20211107T050000
END:STANDARD
BEGIN:DAYLIGHT
TZOFFSETFROM:-0400
TZOFFSETTO:-0300
TZNAME:ADT
DTSTART:20220313T060000
END:DAYLIGHT
BEGIN:STANDARD
TZOFFSETFROM:-0300
TZOFFSETTO:-0400
TZNAME:AST
DTSTART:20221106T050000
END:STANDARD
BEGIN:DAYLIGHT
TZOFFSETFROM:-0400
TZOFFSETTO:-0300
TZNAME:ADT
DTSTART:20230312T060000
END:DAYLIGHT
BEGIN:STANDARD
TZOFFSETFROM:-0300
TZOFFSETTO:-0400
TZNAME:AST
DTSTART:20231105T050000
END:STANDARD
END:VTIMEZONE
BEGIN:VEVENT
DTSTART;TZID=America/Halifax:20220611T160000
DTEND;TZID=America/Halifax:20220611T180000
DTSTAMP:20260420T195105
CREATED:20220531T173926Z
LAST-MODIFIED:20220531T173926Z
UID:12732-1654963200-1654970400@49westcoffeehouse.com
SUMMARY:John Jensen
DESCRIPTION:Blues guitar
URL:https://49westcoffeehouse.com/event/john-jensen-17-2-2-2-2-2-2-2-2-2-2-2-2-2-2-2-2-2-2-2-2-2-2-2-2-2-2-2-2-2-2-2-2-2-2-2-2-2-2/
CATEGORIES:Front Room
ATTACH;FMTTYPE=image/jpeg:https://49westcoffeehouse.com/wp-content/uploads/2016/05/johnjensen.jpg
END:VEVENT
BEGIN:VEVENT
DTSTART;TZID=America/Halifax:20220611T190000
DTEND;TZID=America/Halifax:20220611T213000
DTSTAMP:20260420T195105
CREATED:20220531T163853Z
LAST-MODIFIED:20220609T191229Z
UID:12654-1654974000-1654983000@49westcoffeehouse.com
SUMMARY:AJ Eckert & The Lovecats
DESCRIPTION:
URL:https://49westcoffeehouse.com/event/dave-chappell-danny-knicely-john-previti-2/
ATTACH;FMTTYPE=image/jpeg:https://49westcoffeehouse.com/wp-content/uploads/2022/05/8D40E4B5-BF6D-440B-BAF1-10B9C599BBFB.jpeg
END:VEVENT
END:VCALENDAR