BEGIN:VCALENDAR
VERSION:2.0
PRODID:-//49 West - Coffeehouse, Winebar &amp; Gallery / Annapolis, Maryland - ECPv6.15.20//NONSGML v1.0//EN
CALSCALE:GREGORIAN
METHOD:PUBLISH
X-ORIGINAL-URL:https://49westcoffeehouse.com
X-WR-CALDESC:Events for 49 West - Coffeehouse, Winebar &amp; Gallery / Annapolis, Maryland
REFRESH-INTERVAL;VALUE=DURATION:PT1H
X-Robots-Tag:noindex
X-PUBLISHED-TTL:PT1H
BEGIN:VTIMEZONE
TZID:America/Halifax
BEGIN:DAYLIGHT
TZOFFSETFROM:-0400
TZOFFSETTO:-0300
TZNAME:ADT
DTSTART:20210314T060000
END:DAYLIGHT
BEGIN:STANDARD
TZOFFSETFROM:-0300
TZOFFSETTO:-0400
TZNAME:AST
DTSTART:20211107T050000
END:STANDARD
BEGIN:DAYLIGHT
TZOFFSETFROM:-0400
TZOFFSETTO:-0300
TZNAME:ADT
DTSTART:20220313T060000
END:DAYLIGHT
BEGIN:STANDARD
TZOFFSETFROM:-0300
TZOFFSETTO:-0400
TZNAME:AST
DTSTART:20221106T050000
END:STANDARD
BEGIN:DAYLIGHT
TZOFFSETFROM:-0400
TZOFFSETTO:-0300
TZNAME:ADT
DTSTART:20230312T060000
END:DAYLIGHT
BEGIN:STANDARD
TZOFFSETFROM:-0300
TZOFFSETTO:-0400
TZNAME:AST
DTSTART:20231105T050000
END:STANDARD
END:VTIMEZONE
BEGIN:VEVENT
DTSTART;TZID=America/Halifax:20220620T193000
DTEND;TZID=America/Halifax:20220620T213000
DTSTAMP:20260420T195130
CREATED:20220531T170757Z
LAST-MODIFIED:20220531T201909Z
UID:12676-1655753400-1655760600@49westcoffeehouse.com
SUMMARY:Itzall Good Music Singer Songwriter Series with Naked Blue
DESCRIPTION:ITZALL Goode Music and SHC Music Presents Naked Blue\nJune 20 7:30 to 9:30  \nAdvanced Tickets $17: https://nakedblue.bpt.me\nDoor $20\nIf you do not reserve an advanced ticket\, reservations are highly recommended. You can make them by calling 49 West at 410-626-9796 \nABOUT NAKED BLUE:\nWebsite: https://www.nakedblue.com\nVideo: One Hit:  https://www.youtube.com/user/sgs1964 \nDrawing from the Americana tradition and keeping a roots-rock sensibility\, performing songwriter team Jen and Scott Smith\, and their band Naked Blue\, have become a mainstay on the singer-songwriter/pop scene. They have released 7 full-length albums and built a devoted following for their songwriting\, recordings\, and performances\, Their latest release is an extraordinary collaboration with bestselling author Lee Child based on his iconic Jack Reacher character\, entitled Just the Clothes on My Back. They’ve been touring with the new album in 2019 with headline shows including City Winery in NYC and Nashville\, Firehouse Saloon – Houston\, The Hamilton Live – DC\, World Cafe Live – Philly\, Red Clay Theatre – Duluth\, and more. \nScott and Jen’s obvious joyous connection on stage and easy rapport with their audience are the hallmarks of their performance style; defined by their interwoven guitar work\, Jen’s instantly recognizable smoky\, vulnerable voice\, and Scott’s passionate\, impeccable lead guitar. Over the years they’ve developed a reputation for great songwriting as well; credits include cuts on Evangeline’s ‘French Quarter Moon’ Margaritaville / MCA\, Troy Turner’s single on Telarc Records\, and many many tracks in TV and film\, including Brooklyn South\, The Smokers and The Girl Next Door. \nNaked Blue has worked with a host of fine artists\, sharing stages with John Mayer\, Joe Cocker\, Dan Fogelberg\, and Aimee Mann\, to name a few. Scott and Jen’s Wood and Stone Room recording studio and Wood and Stone Songwriting Retreat have led to collaboration credits on a songwriting Whos Who including Todd Wright\, Jon Carroll\, Wyatt Easterling\, Anton Fig\, and more.
URL:https://49westcoffeehouse.com/event/itzall-good-music-singer-songwriter-series-featuring-nalani-sarina-linda-nelson-2-2-3-2-2-2-2-2-2-2-2-2-2-2-2/
CATEGORIES:Back Room
ATTACH;FMTTYPE=image/jpeg:https://49westcoffeehouse.com/wp-content/uploads/2022/05/NakedBluesquare.jpg
END:VEVENT
END:VCALENDAR