BEGIN:VCALENDAR
VERSION:2.0
PRODID:-//49 West - Coffeehouse, Winebar &amp; Gallery / Annapolis, Maryland - ECPv6.15.20//NONSGML v1.0//EN
CALSCALE:GREGORIAN
METHOD:PUBLISH
X-WR-CALNAME:49 West - Coffeehouse, Winebar &amp; Gallery / Annapolis, Maryland
X-ORIGINAL-URL:https://49westcoffeehouse.com
X-WR-CALDESC:Events for 49 West - Coffeehouse, Winebar &amp; Gallery / Annapolis, Maryland
REFRESH-INTERVAL;VALUE=DURATION:PT1H
X-Robots-Tag:noindex
X-PUBLISHED-TTL:PT1H
BEGIN:VTIMEZONE
TZID:America/Halifax
BEGIN:DAYLIGHT
TZOFFSETFROM:-0400
TZOFFSETTO:-0300
TZNAME:ADT
DTSTART:20210314T060000
END:DAYLIGHT
BEGIN:STANDARD
TZOFFSETFROM:-0300
TZOFFSETTO:-0400
TZNAME:AST
DTSTART:20211107T050000
END:STANDARD
BEGIN:DAYLIGHT
TZOFFSETFROM:-0400
TZOFFSETTO:-0300
TZNAME:ADT
DTSTART:20220313T060000
END:DAYLIGHT
BEGIN:STANDARD
TZOFFSETFROM:-0300
TZOFFSETTO:-0400
TZNAME:AST
DTSTART:20221106T050000
END:STANDARD
BEGIN:DAYLIGHT
TZOFFSETFROM:-0400
TZOFFSETTO:-0300
TZNAME:ADT
DTSTART:20230312T060000
END:DAYLIGHT
BEGIN:STANDARD
TZOFFSETFROM:-0300
TZOFFSETTO:-0400
TZNAME:AST
DTSTART:20231105T050000
END:STANDARD
END:VTIMEZONE
BEGIN:VEVENT
DTSTART;TZID=America/Halifax:20220623T193000
DTEND;TZID=America/Halifax:20220623T223000
DTSTAMP:20260420T195105
CREATED:20220531T164319Z
LAST-MODIFIED:20220531T164319Z
UID:12662-1656012600-1656023400@49westcoffeehouse.com
SUMMARY:Shook/ Russo 4 Tet
DESCRIPTION:  \n \nAmy Shook – acoustic bass\nPat Shook – tenor saxophone\nFrank Russo – drums\nJonathan Epley – guitar \nThe Shook/Russo 5tet has been performing together since 2005 in the mid-Atlantic region. Their focus has always been to compose and perform their own original music within the jazz idiom\, honoring the masters by carrying on the tradition. Be it through blues\, swing\, bebop\, soul jazz\, or more modern funk and groove\, the group has developed an incredible and unique sound by merging the diverse backgrounds of each of these fine musicians into one voice. The result is a whirlwind of grooves\, melodies\, and diverse textures that are a true delight to hear. Collectively\, the members of the Shook/Russo 5tet have performed extensively throughout the United States\, as well as performed in Canada\, Mexico\, Asia\, Europe\, and the Caribbean and at festivals such as the Lionel Hampton Jazz Festival\, the Ottawa Jazz Festival\, the Stan Getz Jazz Festival\, the East Coast Jazz Festival\, the Vancouver International Jazz Festival\, and the Telluride Jazz Festival\, the Wall Street Jazz Festival and the Mid-Atlantic Jazz Festival to name a few. They currently have two CDs out on Summit Records\, and will be releasing a new album later this year\, featuring all new music by members of the band. \n 
URL:https://49westcoffeehouse.com/event/shook-russo-5-tet-22-2-2-2-2-5-2-2-2-2-2-2-3-3-4-2-2-3-2-3-2-2-2/
LOCATION:49 West – The Back Room\, 49 West St.\, Annapolis\, MD\, 21401\, United States
CATEGORIES:Back Room
ATTACH;FMTTYPE=image/jpeg:https://49westcoffeehouse.com/wp-content/uploads/2018/09/46831337_10157347388634947_8874736948594343936_n.jpg
END:VEVENT
END:VCALENDAR