BEGIN:VCALENDAR
VERSION:2.0
PRODID:-//49 West - Coffeehouse, Winebar &amp; Gallery / Annapolis, Maryland - ECPv6.15.20//NONSGML v1.0//EN
CALSCALE:GREGORIAN
METHOD:PUBLISH
X-ORIGINAL-URL:https://49westcoffeehouse.com
X-WR-CALDESC:Events for 49 West - Coffeehouse, Winebar &amp; Gallery / Annapolis, Maryland
REFRESH-INTERVAL;VALUE=DURATION:PT1H
X-Robots-Tag:noindex
X-PUBLISHED-TTL:PT1H
BEGIN:VTIMEZONE
TZID:America/Halifax
BEGIN:DAYLIGHT
TZOFFSETFROM:-0400
TZOFFSETTO:-0300
TZNAME:ADT
DTSTART:20210314T060000
END:DAYLIGHT
BEGIN:STANDARD
TZOFFSETFROM:-0300
TZOFFSETTO:-0400
TZNAME:AST
DTSTART:20211107T050000
END:STANDARD
BEGIN:DAYLIGHT
TZOFFSETFROM:-0400
TZOFFSETTO:-0300
TZNAME:ADT
DTSTART:20220313T060000
END:DAYLIGHT
BEGIN:STANDARD
TZOFFSETFROM:-0300
TZOFFSETTO:-0400
TZNAME:AST
DTSTART:20221106T050000
END:STANDARD
BEGIN:DAYLIGHT
TZOFFSETFROM:-0400
TZOFFSETTO:-0300
TZNAME:ADT
DTSTART:20230312T060000
END:DAYLIGHT
BEGIN:STANDARD
TZOFFSETFROM:-0300
TZOFFSETTO:-0400
TZNAME:AST
DTSTART:20231105T050000
END:STANDARD
END:VTIMEZONE
BEGIN:VEVENT
DTSTART;TZID=America/Halifax:20220702T160000
DTEND;TZID=America/Halifax:20220702T180000
DTSTAMP:20260420T195131
CREATED:20220531T174132Z
LAST-MODIFIED:20220701T135232Z
UID:12738-1656777600-1656784800@49westcoffeehouse.com
SUMMARY:John Jensen
DESCRIPTION:Blues guitar \n(Front Room)
URL:https://49westcoffeehouse.com/event/john-jensen-17-2-2-2-2-2-2-2-2-2-2-2-2-2-2-2-2-2-2-2-2-2-2-2-2-2-2-2-2-2-2-2-2-2-2-2-2-2-2-2-2-2/
CATEGORIES:Front Room
ATTACH;FMTTYPE=image/jpeg:https://49westcoffeehouse.com/wp-content/uploads/2016/05/johnjensen.jpg
END:VEVENT
BEGIN:VEVENT
DTSTART;TZID=America/Halifax:20220702T200000
DTEND;TZID=America/Halifax:20220702T220000
DTSTAMP:20260420T195131
CREATED:20220531T175315Z
LAST-MODIFIED:20220701T134958Z
UID:12759-1656792000-1656799200@49westcoffeehouse.com
SUMMARY:Winship
DESCRIPTION:Winship is an original music artist filtering Top 40 covers through his multi-instrumentalist background  and singer/songwriter lens\, distilling both older and newer favorites into an authentically refreshing sound on minimalist instrumentation. As a pop vocalist performing on an amplified acoustic guitar\,  he explores songs in-depth\, prioritizing quality over quantity as he imparts each song with sophisticated world rhythms & subtle artistic nuances. The result is more sophisticated\, modern storytelling\, and an ability to perform each song in not just one\, but a handful of different ways. It’s the reason why he’s booked for the overall vibe he creates\, instead of for specific song requests\, which is a divergence from the traditional cover bands in the private events industry. Winship’s song selections actually happen in real-time based on the energy of people and place\, where he expertly draws from an all-ages\, cross-generational artist palette each song to best fit the present moment.
URL:https://49westcoffeehouse.com/event/first-fridays-with-tom-mitchell-2-2/
ATTACH;FMTTYPE=image/jpeg:https://49westcoffeehouse.com/wp-content/uploads/2022/05/8127B669-CB01-40C5-A98A-C14987FF0549.jpeg
END:VEVENT
END:VCALENDAR