BEGIN:VCALENDAR
VERSION:2.0
PRODID:-//49 West - Coffeehouse, Winebar &amp; Gallery / Annapolis, Maryland - ECPv6.15.20//NONSGML v1.0//EN
CALSCALE:GREGORIAN
METHOD:PUBLISH
X-ORIGINAL-URL:https://49westcoffeehouse.com
X-WR-CALDESC:Events for 49 West - Coffeehouse, Winebar &amp; Gallery / Annapolis, Maryland
REFRESH-INTERVAL;VALUE=DURATION:PT1H
X-Robots-Tag:noindex
X-PUBLISHED-TTL:PT1H
BEGIN:VTIMEZONE
TZID:America/Halifax
BEGIN:DAYLIGHT
TZOFFSETFROM:-0400
TZOFFSETTO:-0300
TZNAME:ADT
DTSTART:20210314T060000
END:DAYLIGHT
BEGIN:STANDARD
TZOFFSETFROM:-0300
TZOFFSETTO:-0400
TZNAME:AST
DTSTART:20211107T050000
END:STANDARD
BEGIN:DAYLIGHT
TZOFFSETFROM:-0400
TZOFFSETTO:-0300
TZNAME:ADT
DTSTART:20220313T060000
END:DAYLIGHT
BEGIN:STANDARD
TZOFFSETFROM:-0300
TZOFFSETTO:-0400
TZNAME:AST
DTSTART:20221106T050000
END:STANDARD
BEGIN:DAYLIGHT
TZOFFSETFROM:-0400
TZOFFSETTO:-0300
TZNAME:ADT
DTSTART:20230312T060000
END:DAYLIGHT
BEGIN:STANDARD
TZOFFSETFROM:-0300
TZOFFSETTO:-0400
TZNAME:AST
DTSTART:20231105T050000
END:STANDARD
END:VTIMEZONE
BEGIN:VEVENT
DTSTART;TZID=America/Halifax:20220707T193000
DTEND;TZID=America/Halifax:20220707T223000
DTSTAMP:20260420T213810
CREATED:20220531T162646Z
LAST-MODIFIED:20220706T225734Z
UID:12643-1657222200-1657233000@49westcoffeehouse.com
SUMMARY:TBA
DESCRIPTION:• Jeff Antoniuk & Helluvaband •\n1st Thursdays @ 7:30pm\n49 West Coffeehouse & Winebar\nAnnapolis\, MD\nCome out to hear this great band\, and celebrate the fact that we all survived covid and that music is a wonderful thing.\nNew compositions\, deranged versions of Charlie Parker & Wayne Shorter\, and so much more. \nJeff Antoniuk – saxophone\nJohn Lee – guitar\nAlex Weber – bass\nFrank Russo – drums
URL:https://49westcoffeehouse.com/event/jeff-antoniuk-helluvaband-3-2-2-2-2-2-2-3-2-2-2-2-2-2/
ATTACH;FMTTYPE=image/jpeg:https://49westcoffeehouse.com/wp-content/uploads/2022/04/F7763650-80DD-4EF6-92CE-637FC9922724.jpeg
END:VEVENT
END:VCALENDAR