BEGIN:VCALENDAR
VERSION:2.0
PRODID:-//49 West - Coffeehouse, Winebar &amp; Gallery / Annapolis, Maryland - ECPv6.15.20//NONSGML v1.0//EN
CALSCALE:GREGORIAN
METHOD:PUBLISH
X-WR-CALNAME:49 West - Coffeehouse, Winebar &amp; Gallery / Annapolis, Maryland
X-ORIGINAL-URL:https://49westcoffeehouse.com
X-WR-CALDESC:Events for 49 West - Coffeehouse, Winebar &amp; Gallery / Annapolis, Maryland
REFRESH-INTERVAL;VALUE=DURATION:PT1H
X-Robots-Tag:noindex
X-PUBLISHED-TTL:PT1H
BEGIN:VTIMEZONE
TZID:America/Halifax
BEGIN:DAYLIGHT
TZOFFSETFROM:-0400
TZOFFSETTO:-0300
TZNAME:ADT
DTSTART:20210314T060000
END:DAYLIGHT
BEGIN:STANDARD
TZOFFSETFROM:-0300
TZOFFSETTO:-0400
TZNAME:AST
DTSTART:20211107T050000
END:STANDARD
BEGIN:DAYLIGHT
TZOFFSETFROM:-0400
TZOFFSETTO:-0300
TZNAME:ADT
DTSTART:20220313T060000
END:DAYLIGHT
BEGIN:STANDARD
TZOFFSETFROM:-0300
TZOFFSETTO:-0400
TZNAME:AST
DTSTART:20221106T050000
END:STANDARD
BEGIN:DAYLIGHT
TZOFFSETFROM:-0400
TZOFFSETTO:-0300
TZNAME:ADT
DTSTART:20230312T060000
END:DAYLIGHT
BEGIN:STANDARD
TZOFFSETFROM:-0300
TZOFFSETTO:-0400
TZNAME:AST
DTSTART:20231105T050000
END:STANDARD
END:VTIMEZONE
BEGIN:VEVENT
DTSTART;TZID=America/Halifax:20220709T200000
DTEND;TZID=America/Halifax:20220709T213000
DTSTAMP:20260420T213812
CREATED:20220706T225042Z
LAST-MODIFIED:20220706T225121Z
UID:12809-1657396800-1657402200@49westcoffeehouse.com
SUMMARY:Conor Brendan
DESCRIPTION:Conor Brendan\, 27\, is a multi-instrumentalist singer-songwriter and composer/arranger in folk pop\, Americana\, and adjacent generes. He has been a recording artist for over a decade\, with over 80 songs primarily consisting of his original music. In 2020\, Conor Brendan won first prize for two songs in the Mid Atlantic Song Contest; ‘Ghosts’ (Adult Contemporary) and ‘You’re Not Alone’ (Americana). He also won an Emergentseed Microgrant for a stripped down performance of unreleased song\, ‘Sometimes I Forget’. Conor recently signed a music licensing deal with InStyle Music to license original songs in Films\, TV\, and commercials. \nConor has performed at major venues such as the Filene Center at Wolf Trap\, Mauch Chunk Opera House\, World Café Live\, Rams Head Live\, Rams Head On Stage\, The 8×10\, Gordon Center Theater\, Metro Gallery\, Mercury Lounge\, Rockwood Music Hall\, The Bitter End\, Oregon Ridge Amphitheater\, The Cabooze\, and the Altamont Theater\, among many others\, including Boulder Theatre with Trevor Hall\, Wookiefoot\, Earth Guardians\, and Tubby Love. Conor is also an activist and a water protector who spent a month on the front lines of Standing Rock. During this time\, he performed in multiple concerts to support the Sioux Nation\, solo and accompanying One Tribe and Peter Yarrow.
URL:https://49westcoffeehouse.com/event/conor-brendan-2/
ATTACH;FMTTYPE=image/jpeg:https://49westcoffeehouse.com/wp-content/uploads/2022/07/AF6C7CCF-DDC2-4896-9225-A891F01C0789.jpeg
END:VEVENT
END:VCALENDAR