BEGIN:VCALENDAR
VERSION:2.0
PRODID:-//49 West - Coffeehouse, Winebar &amp; Gallery / Annapolis, Maryland - ECPv6.15.20//NONSGML v1.0//EN
CALSCALE:GREGORIAN
METHOD:PUBLISH
X-WR-CALNAME:49 West - Coffeehouse, Winebar &amp; Gallery / Annapolis, Maryland
X-ORIGINAL-URL:https://49westcoffeehouse.com
X-WR-CALDESC:Events for 49 West - Coffeehouse, Winebar &amp; Gallery / Annapolis, Maryland
REFRESH-INTERVAL;VALUE=DURATION:PT1H
X-Robots-Tag:noindex
X-PUBLISHED-TTL:PT1H
BEGIN:VTIMEZONE
TZID:America/Halifax
BEGIN:DAYLIGHT
TZOFFSETFROM:-0400
TZOFFSETTO:-0300
TZNAME:ADT
DTSTART:20210314T060000
END:DAYLIGHT
BEGIN:STANDARD
TZOFFSETFROM:-0300
TZOFFSETTO:-0400
TZNAME:AST
DTSTART:20211107T050000
END:STANDARD
BEGIN:DAYLIGHT
TZOFFSETFROM:-0400
TZOFFSETTO:-0300
TZNAME:ADT
DTSTART:20220313T060000
END:DAYLIGHT
BEGIN:STANDARD
TZOFFSETFROM:-0300
TZOFFSETTO:-0400
TZNAME:AST
DTSTART:20221106T050000
END:STANDARD
BEGIN:DAYLIGHT
TZOFFSETFROM:-0400
TZOFFSETTO:-0300
TZNAME:ADT
DTSTART:20230312T060000
END:DAYLIGHT
BEGIN:STANDARD
TZOFFSETFROM:-0300
TZOFFSETTO:-0400
TZNAME:AST
DTSTART:20231105T050000
END:STANDARD
END:VTIMEZONE
BEGIN:VEVENT
DTSTART;TZID=America/Halifax:20220718T193000
DTEND;TZID=America/Halifax:20220718T213000
DTSTAMP:20260420T213803
CREATED:20220531T170954Z
LAST-MODIFIED:20220708T151610Z
UID:12698-1658172600-1658179800@49westcoffeehouse.com
SUMMARY:Itzall Good Music Singer Songwriter Series with Justina Johnson & Daphne Eckman
DESCRIPTION:ITZALL Goode Music and SHC Music Presents Justina Johnson and Daphne Eckman\nJuly -18 from 7:30 to 9:30 PM \nAdvanced Tickets $17: https://johnsonandeckman49west.bpt.me\nDoor $20\nIf you do not reserve an advanced ticket\, reservations are highly recommended. You can make them by calling 49 West at 410-626-9796\nABOUT THE ARTISTS:\nDAPHNE ECKMAN\nFacebook: https://www.facebook.com/daphneeckman\nVideos:\nDrunk In Your Kitchen -https://www.youtube.com/watch?v=dMR9wcMfrd0\ncannibal – https://www.youtube.com/watch?v=MYrPVmFFQgo\n“Singer/songwriter Daphne Eckman could make you happy\, but she’d rather make you cry. Based in Annapolis\, MD\, she’s been writing music for seven years now. She calls her genre of music “indie-folk fusion” and her songwriting can be honest\, raw\, uplifting as well as heart-wrenching. Inspirations include Phoebe Bridgers\, Joni Mitchell\, Andy Shauf\, and more. Be sure to look out for new releases from Daphne in 2022.”\nJUSTINA JOHNSON\nFacebook: https://www.facebook.com/justina.johnson.5\nVideos:\nUntitled: https://www.youtube.com/watch?v=7IerXmcPPFs\nEasy: https://www.youtube.com/watch?v=rSfbkRRLm3E\nFrom A Voyage LA Interview\nhttp://voyagela.com/…/meet-justina-johnson-underground-pr\nI began performing professionally in the Washington Metropolitan area in 2016 as part of a duo that grew to a full band within a year. I was extremely fortunate to have so many people in the local music scene believe in me and my music that connected me with several other local influencers.\nBecause of the connections and insight shared with me by veteran musicians\, my music career blossomed quickly. It was a huge blessing but it came with a steep learning curve. There was a lot of trial and error – mostly error if I’m being honest – but that’s exactly what I needed to shape my path for the future of my career as a musician. I’ve gone from a duo to a full band\, to a solo act that sometimes hires her friends to play shows. I’ve written and sang Americana\, R&B\, Pop\, Rock\, and most other genres. I’ve had my hands in just about every musical cookie jar and gained some invaluable experience and knowledge that I thought should be shared with every other musician starting out. It was that thought that spawned The Underground – a PR/Marketing group for independent musicians.
URL:https://49westcoffeehouse.com/event/itzall-good-music-singer-songwriter-series-featuring-nalani-sarina-linda-nelson-2-2-3-2-2-2-2-2-2-2-2-2-2-2-2-2/
CATEGORIES:Back Room
ATTACH;FMTTYPE=image/jpeg:https://49westcoffeehouse.com/wp-content/uploads/2022/05/7FB1E26D-3457-41E5-894F-C53AFD0AA2E6.jpeg
END:VEVENT
END:VCALENDAR