BEGIN:VCALENDAR
VERSION:2.0
PRODID:-//49 West - Coffeehouse, Winebar &amp; Gallery / Annapolis, Maryland - ECPv6.15.20//NONSGML v1.0//EN
CALSCALE:GREGORIAN
METHOD:PUBLISH
X-WR-CALNAME:49 West - Coffeehouse, Winebar &amp; Gallery / Annapolis, Maryland
X-ORIGINAL-URL:https://49westcoffeehouse.com
X-WR-CALDESC:Events for 49 West - Coffeehouse, Winebar &amp; Gallery / Annapolis, Maryland
REFRESH-INTERVAL;VALUE=DURATION:PT1H
X-Robots-Tag:noindex
X-PUBLISHED-TTL:PT1H
BEGIN:VTIMEZONE
TZID:America/Halifax
BEGIN:DAYLIGHT
TZOFFSETFROM:-0400
TZOFFSETTO:-0300
TZNAME:ADT
DTSTART:20210314T060000
END:DAYLIGHT
BEGIN:STANDARD
TZOFFSETFROM:-0300
TZOFFSETTO:-0400
TZNAME:AST
DTSTART:20211107T050000
END:STANDARD
BEGIN:DAYLIGHT
TZOFFSETFROM:-0400
TZOFFSETTO:-0300
TZNAME:ADT
DTSTART:20220313T060000
END:DAYLIGHT
BEGIN:STANDARD
TZOFFSETFROM:-0300
TZOFFSETTO:-0400
TZNAME:AST
DTSTART:20221106T050000
END:STANDARD
BEGIN:DAYLIGHT
TZOFFSETFROM:-0400
TZOFFSETTO:-0300
TZNAME:ADT
DTSTART:20230312T060000
END:DAYLIGHT
BEGIN:STANDARD
TZOFFSETFROM:-0300
TZOFFSETTO:-0400
TZNAME:AST
DTSTART:20231105T050000
END:STANDARD
END:VTIMEZONE
BEGIN:VEVENT
DTSTART;TZID=America/Halifax:20220722T200000
DTEND;TZID=America/Halifax:20220722T230000
DTSTAMP:20260420T213813
CREATED:20220531T174948Z
LAST-MODIFIED:20220531T174948Z
UID:12750-1658520000-1658530800@49westcoffeehouse.com
SUMMARY:The Anansi Trio
DESCRIPTION:The Anansi Trio is a group of like-minded musicians drawing from a wide range of musical influences. Using the language of Jazz as their starting point they also use elements of Afro-Cuban and Indian music as well as other global traditions. Using percussion\, saxophones and acoustic bass they create a music that’s unique and experimental yet remains accessible. With a diverse rhythmic approach and a focus on improvisation\, The Anansi Trio hopes to put their own stamp on the American legacy known as Jazz. \n“On the groups debut album “On The Path” the sound is lean and clean\, with just the right amount of breathing room…Their album is smartly titled\, whichever direction the music takes it always feels like forward motion.” – Chris Richards\, The Washington Post \n“The Anansi Trio’s ability to put together and embellish effective melodies is amazing. These guys work wonders from the simplest of formats.” – Jerome Wilson\, All About Jazz \nBe sure to check out the “Anansi Mix” for a preview of selections that will appear on our new CD\, to be released in early 2020. 
URL:https://49westcoffeehouse.com/event/the-anansi-trio-2-2/
ATTACH;FMTTYPE=image/jpeg:https://49westcoffeehouse.com/wp-content/uploads/2020/02/mmb004.jpg
END:VEVENT
END:VCALENDAR