BEGIN:VCALENDAR
VERSION:2.0
PRODID:-//49 West - Coffeehouse, Winebar &amp; Gallery / Annapolis, Maryland - ECPv6.15.20//NONSGML v1.0//EN
CALSCALE:GREGORIAN
METHOD:PUBLISH
X-ORIGINAL-URL:https://49westcoffeehouse.com
X-WR-CALDESC:Events for 49 West - Coffeehouse, Winebar &amp; Gallery / Annapolis, Maryland
REFRESH-INTERVAL;VALUE=DURATION:PT1H
X-Robots-Tag:noindex
X-PUBLISHED-TTL:PT1H
BEGIN:VTIMEZONE
TZID:America/Halifax
BEGIN:DAYLIGHT
TZOFFSETFROM:-0400
TZOFFSETTO:-0300
TZNAME:ADT
DTSTART:20210314T060000
END:DAYLIGHT
BEGIN:STANDARD
TZOFFSETFROM:-0300
TZOFFSETTO:-0400
TZNAME:AST
DTSTART:20211107T050000
END:STANDARD
BEGIN:DAYLIGHT
TZOFFSETFROM:-0400
TZOFFSETTO:-0300
TZNAME:ADT
DTSTART:20220313T060000
END:DAYLIGHT
BEGIN:STANDARD
TZOFFSETFROM:-0300
TZOFFSETTO:-0400
TZNAME:AST
DTSTART:20221106T050000
END:STANDARD
BEGIN:DAYLIGHT
TZOFFSETFROM:-0400
TZOFFSETTO:-0300
TZNAME:ADT
DTSTART:20230312T060000
END:DAYLIGHT
BEGIN:STANDARD
TZOFFSETFROM:-0300
TZOFFSETTO:-0400
TZNAME:AST
DTSTART:20231105T050000
END:STANDARD
END:VTIMEZONE
BEGIN:VEVENT
DTSTART;TZID=America/Halifax:20220728T180000
DTEND;TZID=America/Halifax:20220728T191500
DTSTAMP:20260420T213810
CREATED:20220531T173543Z
LAST-MODIFIED:20220713T180815Z
UID:12723-1659031200-1659035700@49westcoffeehouse.com
SUMMARY:Cafe Scientifique
DESCRIPTION:Thursday\, July 28\, 6:00 – 7:15pm \nAnnapolis Cafe Scientifique @ 49 West Coffeehouse\, Winebar & Gallery presents\n“Zebrafish: Models for Cancer Research!”\nby  Max Ransibrahmanakul\, Georgetown University \nAbstract: When you think about cancer research and testing cancer therapies on models what “models” come to mind? For most people\, mice come to mind. However\, did you know that zebrafish can be just as effective if not better models than mice?\nZebrafish share most of the same types of organs and cells as the human body. They have 70 percent of our genes\, and 84 percent of the genes we exhibit that are associated with human disease have a zebrafish counterpart! This allows scientists to optimize zebrafish as a model for studying cancer types and therapies to treat them. Due to the many similarities between zebrafish and humans\, we can isolate a sample cancer tissue in a zebrafish\, observe its development in embryos\, and treat it as if it were present in the human body. Another large appeal to the use of zebrafish as models for cancer research is their availability and accessibility. Scientists can choose to breed different genotypes of zebra fish with ease by simply taking different genotypes of zebrafish together in the same tank and obtaining the eggs of this cross. In addition\, zebrafish are extremely inexpensive and obtaining more zebrafish for a controlled experiment is easy\, given that we can mate them and isolate their eggs for further study! They mature much faster than mice for example\, and they are easy to study given the transparency of their embryos. Zebrafish as models for cancer study offer a plethora of benefits for biomedical research. I look forward to talking about the methods we use in the lab to optimize the methods in which we can treat specific patients with various types of cancer!  \nBio: Max Ransi will be starting his third year at Georgetown University this Fall. He works in a lab under Principal Investigator Dr. Eric Glasgow\, where they use zebrafish as models for studying cancer tissue. Max is excited to get together with everyone and talk about the intersections between marine science and biomedical science!\nThis event is free but you may reserve seats at 49 West by calling 410-626-9796. For more info\, contact annapoliscafesci@gmail.com
URL:https://49westcoffeehouse.com/event/american-roots-with-gary-wright-and-leah-weiss-2-2-2-3-2-2-2-2/
ATTACH;FMTTYPE=image/png:https://49westcoffeehouse.com/wp-content/uploads/2022/05/86434741-04F6-43F1-BA2F-4216EC89D0A8.png
END:VEVENT
BEGIN:VEVENT
DTSTART;TZID=America/Halifax:20220728T193000
DTEND;TZID=America/Halifax:20220728T223000
DTSTAMP:20260420T213810
CREATED:20220714T202634Z
LAST-MODIFIED:20220714T202634Z
UID:12836-1659036600-1659047400@49westcoffeehouse.com
SUMMARY:Nate Stanley Trio
DESCRIPTION:
URL:https://49westcoffeehouse.com/event/nate-stanley-trio/
END:VEVENT
END:VCALENDAR