BEGIN:VCALENDAR
VERSION:2.0
PRODID:-//49 West - Coffeehouse, Winebar &amp; Gallery / Annapolis, Maryland - ECPv6.15.20//NONSGML v1.0//EN
CALSCALE:GREGORIAN
METHOD:PUBLISH
X-WR-CALNAME:49 West - Coffeehouse, Winebar &amp; Gallery / Annapolis, Maryland
X-ORIGINAL-URL:https://49westcoffeehouse.com
X-WR-CALDESC:Events for 49 West - Coffeehouse, Winebar &amp; Gallery / Annapolis, Maryland
REFRESH-INTERVAL;VALUE=DURATION:PT1H
X-Robots-Tag:noindex
X-PUBLISHED-TTL:PT1H
BEGIN:VTIMEZONE
TZID:America/Halifax
BEGIN:DAYLIGHT
TZOFFSETFROM:-0400
TZOFFSETTO:-0300
TZNAME:ADT
DTSTART:20210314T060000
END:DAYLIGHT
BEGIN:STANDARD
TZOFFSETFROM:-0300
TZOFFSETTO:-0400
TZNAME:AST
DTSTART:20211107T050000
END:STANDARD
BEGIN:DAYLIGHT
TZOFFSETFROM:-0400
TZOFFSETTO:-0300
TZNAME:ADT
DTSTART:20220313T060000
END:DAYLIGHT
BEGIN:STANDARD
TZOFFSETFROM:-0300
TZOFFSETTO:-0400
TZNAME:AST
DTSTART:20221106T050000
END:STANDARD
BEGIN:DAYLIGHT
TZOFFSETFROM:-0400
TZOFFSETTO:-0300
TZNAME:ADT
DTSTART:20230312T060000
END:DAYLIGHT
BEGIN:STANDARD
TZOFFSETFROM:-0300
TZOFFSETTO:-0400
TZNAME:AST
DTSTART:20231105T050000
END:STANDARD
END:VTIMEZONE
BEGIN:VEVENT
DTSTART;TZID=America/Halifax:20220730T160000
DTEND;TZID=America/Halifax:20220730T180000
DTSTAMP:20260420T213804
CREATED:20220531T174358Z
LAST-MODIFIED:20220531T174358Z
UID:12746-1659196800-1659204000@49westcoffeehouse.com
SUMMARY:John Jensen
DESCRIPTION:Blues guitar
URL:https://49westcoffeehouse.com/event/john-jensen-17-2-2-2-2-2-2-2-2-2-2-2-2-2-2-2-2-2-2-2-2-2-2-2-2-2-2-2-2-2-2-2-2-2-2-2-2-2-2-2-2-2-2-2-2-2/
CATEGORIES:Front Room
ATTACH;FMTTYPE=image/jpeg:https://49westcoffeehouse.com/wp-content/uploads/2016/05/johnjensen.jpg
END:VEVENT
BEGIN:VEVENT
DTSTART;TZID=America/Halifax:20220730T190000
DTEND;TZID=America/Halifax:20220730T223000
DTSTAMP:20260420T213804
CREATED:20220720T200302Z
LAST-MODIFIED:20220720T200302Z
UID:12844-1659207600-1659220200@49westcoffeehouse.com
SUMMARY:The Solid Sender Trio
DESCRIPTION:  \n \nPlease call for reservations at 410-626-9796. \nSolid Sender -Leslie Agre\, Rurik Reshetilof and Jimmy Jacobs
URL:https://49westcoffeehouse.com/event/the-solid-sender-trio-3-2-2-2-2-3-2-2-2-2-2-2/
ATTACH;FMTTYPE=image/jpeg:https://49westcoffeehouse.com/wp-content/uploads/2021/06/189267113_953711248799962_523674880269339458_n.jpg
END:VEVENT
END:VCALENDAR