BEGIN:VCALENDAR
VERSION:2.0
PRODID:-//49 West - Coffeehouse, Winebar &amp; Gallery / Annapolis, Maryland - ECPv6.15.20//NONSGML v1.0//EN
CALSCALE:GREGORIAN
METHOD:PUBLISH
X-ORIGINAL-URL:https://49westcoffeehouse.com
X-WR-CALDESC:Events for 49 West - Coffeehouse, Winebar &amp; Gallery / Annapolis, Maryland
REFRESH-INTERVAL;VALUE=DURATION:PT1H
X-Robots-Tag:noindex
X-PUBLISHED-TTL:PT1H
BEGIN:VTIMEZONE
TZID:America/Halifax
BEGIN:DAYLIGHT
TZOFFSETFROM:-0400
TZOFFSETTO:-0300
TZNAME:ADT
DTSTART:20210314T060000
END:DAYLIGHT
BEGIN:STANDARD
TZOFFSETFROM:-0300
TZOFFSETTO:-0400
TZNAME:AST
DTSTART:20211107T050000
END:STANDARD
BEGIN:DAYLIGHT
TZOFFSETFROM:-0400
TZOFFSETTO:-0300
TZNAME:ADT
DTSTART:20220313T060000
END:DAYLIGHT
BEGIN:STANDARD
TZOFFSETFROM:-0300
TZOFFSETTO:-0400
TZNAME:AST
DTSTART:20221106T050000
END:STANDARD
BEGIN:DAYLIGHT
TZOFFSETFROM:-0400
TZOFFSETTO:-0300
TZNAME:ADT
DTSTART:20230312T060000
END:DAYLIGHT
BEGIN:STANDARD
TZOFFSETFROM:-0300
TZOFFSETTO:-0400
TZNAME:AST
DTSTART:20231105T050000
END:STANDARD
END:VTIMEZONE
BEGIN:VEVENT
DTSTART;TZID=America/Halifax:20220805T193000
DTEND;TZID=America/Halifax:20220805T223000
DTSTAMP:20260420T232359
CREATED:20220709T182149Z
LAST-MODIFIED:20220731T222749Z
UID:12829-1659727800-1659738600@49westcoffeehouse.com
SUMMARY:1st Fridays with Tom Mitchell\, John Previti & Lucas Chohany
DESCRIPTION:Friday\, August 5th\nWhat: Tom Mitchell’s 1st Fridays at 49 West\nSpecial guest\, guitarist Lucas Chohany joins Tom & John!\nWhere: 49 West Café\, 49 West Street Annapolis\, Md 21401\nMore: 8pm to 10:30 pm  / $12\nYummy food\, Great drinks and swell friends! \nCome on out and let’s keep each other company!  Thanks for supporting live music. \nLove\, Tom\nwww.tommitchell.us
URL:https://49westcoffeehouse.com/event/1st-fridays-with-tom-mitchell/
ATTACH;FMTTYPE=image/png:https://49westcoffeehouse.com/wp-content/uploads/2022/07/1EF9CE8C-7143-4188-8ACB-C69808A16084.png
END:VEVENT
END:VCALENDAR