BEGIN:VCALENDAR
VERSION:2.0
PRODID:-//49 West - Coffeehouse, Winebar &amp; Gallery / Annapolis, Maryland - ECPv6.15.20//NONSGML v1.0//EN
CALSCALE:GREGORIAN
METHOD:PUBLISH
X-WR-CALNAME:49 West - Coffeehouse, Winebar &amp; Gallery / Annapolis, Maryland
X-ORIGINAL-URL:https://49westcoffeehouse.com
X-WR-CALDESC:Events for 49 West - Coffeehouse, Winebar &amp; Gallery / Annapolis, Maryland
REFRESH-INTERVAL;VALUE=DURATION:PT1H
X-Robots-Tag:noindex
X-PUBLISHED-TTL:PT1H
BEGIN:VTIMEZONE
TZID:America/Halifax
BEGIN:DAYLIGHT
TZOFFSETFROM:-0400
TZOFFSETTO:-0300
TZNAME:ADT
DTSTART:20210314T060000
END:DAYLIGHT
BEGIN:STANDARD
TZOFFSETFROM:-0300
TZOFFSETTO:-0400
TZNAME:AST
DTSTART:20211107T050000
END:STANDARD
BEGIN:DAYLIGHT
TZOFFSETFROM:-0400
TZOFFSETTO:-0300
TZNAME:ADT
DTSTART:20220313T060000
END:DAYLIGHT
BEGIN:STANDARD
TZOFFSETFROM:-0300
TZOFFSETTO:-0400
TZNAME:AST
DTSTART:20221106T050000
END:STANDARD
BEGIN:DAYLIGHT
TZOFFSETFROM:-0400
TZOFFSETTO:-0300
TZNAME:ADT
DTSTART:20230312T060000
END:DAYLIGHT
BEGIN:STANDARD
TZOFFSETFROM:-0300
TZOFFSETTO:-0400
TZNAME:AST
DTSTART:20231105T050000
END:STANDARD
END:VTIMEZONE
BEGIN:VEVENT
DTSTART;TZID=America/Halifax:20220808T193000
DTEND;TZID=America/Halifax:20220808T220000
DTSTAMP:20260420T231943
CREATED:20220726T200809Z
LAST-MODIFIED:20220808T150947Z
UID:12886-1659987000-1659996000@49westcoffeehouse.com
SUMMARY:2nd Monday Songwriters Showcase with Matt Hutchison & Jimi Davies
DESCRIPTION:Angie Miller hosting with special guests Matt Hutchison and Jimi Davies. 2nd Monday at 49 West is a monthly concert series featuring local and regional songwriters. It’s a chance to see some great artists up close and personal in the cozy back room of this downtown Annapolis coffeehouse and wine bar. Call 410-626-9796 for reservations. Visit the 49 West website for more info. $12 cover.
URL:https://49westcoffeehouse.com/event/2nd-monday-songwriters-showcase-16-4/
ATTACH;FMTTYPE=image/jpeg:https://49westcoffeehouse.com/wp-content/uploads/2022/07/7D2C0B77-572E-4A54-BA3A-6AC6DB53887E.jpeg
END:VEVENT
END:VCALENDAR