BEGIN:VCALENDAR
VERSION:2.0
PRODID:-//49 West - Coffeehouse, Winebar &amp; Gallery / Annapolis, Maryland - ECPv6.15.20//NONSGML v1.0//EN
CALSCALE:GREGORIAN
METHOD:PUBLISH
X-WR-CALNAME:49 West - Coffeehouse, Winebar &amp; Gallery / Annapolis, Maryland
X-ORIGINAL-URL:https://49westcoffeehouse.com
X-WR-CALDESC:Events for 49 West - Coffeehouse, Winebar &amp; Gallery / Annapolis, Maryland
REFRESH-INTERVAL;VALUE=DURATION:PT1H
X-Robots-Tag:noindex
X-PUBLISHED-TTL:PT1H
BEGIN:VTIMEZONE
TZID:America/Halifax
BEGIN:DAYLIGHT
TZOFFSETFROM:-0400
TZOFFSETTO:-0300
TZNAME:ADT
DTSTART:20210314T060000
END:DAYLIGHT
BEGIN:STANDARD
TZOFFSETFROM:-0300
TZOFFSETTO:-0400
TZNAME:AST
DTSTART:20211107T050000
END:STANDARD
BEGIN:DAYLIGHT
TZOFFSETFROM:-0400
TZOFFSETTO:-0300
TZNAME:ADT
DTSTART:20220313T060000
END:DAYLIGHT
BEGIN:STANDARD
TZOFFSETFROM:-0300
TZOFFSETTO:-0400
TZNAME:AST
DTSTART:20221106T050000
END:STANDARD
BEGIN:DAYLIGHT
TZOFFSETFROM:-0400
TZOFFSETTO:-0300
TZNAME:ADT
DTSTART:20230312T060000
END:DAYLIGHT
BEGIN:STANDARD
TZOFFSETFROM:-0300
TZOFFSETTO:-0400
TZNAME:AST
DTSTART:20231105T050000
END:STANDARD
END:VTIMEZONE
BEGIN:VEVENT
DTSTART;TZID=America/Halifax:20220813T200000
DTEND;TZID=America/Halifax:20220813T220000
DTSTAMP:20260420T232253
CREATED:20200303T013245Z
LAST-MODIFIED:20220809T001932Z
UID:11130-1660420800-1660428000@49westcoffeehouse.com
SUMMARY:Stef Scaggiari\, piano with Mark Russell
DESCRIPTION:SATURDAY AUGUST 13 @ 8PM \nSTEF SCAGGIARI \nPIANO and VOCALS \nWith \nMARK RUSSELL \nELECTRIC BASS \nStef is Annapolis’ Ambassador of Jazz having performed in Annapolis for over 30 years. Prior to that\, he was the President’s  Own pianist at the White House.\nStef and Mark will perform Classic Jazz and I might even convince Stef to play his rendition of “Rhapsody in Blue”! \nRESERVATIONS 410.626.9796 \nMUSIC COVER $25.00 \nYummy food and drinks are available during the show!
URL:https://49westcoffeehouse.com/event/stef-scaggiari-piano-with-special-guest/
ATTACH;FMTTYPE=image/jpeg:https://49westcoffeehouse.com/wp-content/uploads/2020/03/14910925-452D-4EF4-8681-6B6C26831C29.jpeg
END:VEVENT
END:VCALENDAR