BEGIN:VCALENDAR
VERSION:2.0
PRODID:-//49 West - Coffeehouse, Winebar &amp; Gallery / Annapolis, Maryland - ECPv6.15.20//NONSGML v1.0//EN
CALSCALE:GREGORIAN
METHOD:PUBLISH
X-WR-CALNAME:49 West - Coffeehouse, Winebar &amp; Gallery / Annapolis, Maryland
X-ORIGINAL-URL:https://49westcoffeehouse.com
X-WR-CALDESC:Events for 49 West - Coffeehouse, Winebar &amp; Gallery / Annapolis, Maryland
REFRESH-INTERVAL;VALUE=DURATION:PT1H
X-Robots-Tag:noindex
X-PUBLISHED-TTL:PT1H
BEGIN:VTIMEZONE
TZID:America/Halifax
BEGIN:DAYLIGHT
TZOFFSETFROM:-0400
TZOFFSETTO:-0300
TZNAME:ADT
DTSTART:20210314T060000
END:DAYLIGHT
BEGIN:STANDARD
TZOFFSETFROM:-0300
TZOFFSETTO:-0400
TZNAME:AST
DTSTART:20211107T050000
END:STANDARD
BEGIN:DAYLIGHT
TZOFFSETFROM:-0400
TZOFFSETTO:-0300
TZNAME:ADT
DTSTART:20220313T060000
END:DAYLIGHT
BEGIN:STANDARD
TZOFFSETFROM:-0300
TZOFFSETTO:-0400
TZNAME:AST
DTSTART:20221106T050000
END:STANDARD
BEGIN:DAYLIGHT
TZOFFSETFROM:-0400
TZOFFSETTO:-0300
TZNAME:ADT
DTSTART:20230312T060000
END:DAYLIGHT
BEGIN:STANDARD
TZOFFSETFROM:-0300
TZOFFSETTO:-0400
TZNAME:AST
DTSTART:20231105T050000
END:STANDARD
END:VTIMEZONE
BEGIN:VEVENT
DTSTART;TZID=America/Halifax:20220825T181500
DTEND;TZID=America/Halifax:20220825T193000
DTSTAMP:20260420T232254
CREATED:20220822T190154Z
LAST-MODIFIED:20220822T190154Z
UID:12934-1661451300-1661455800@49westcoffeehouse.com
SUMMARY:Cafe Scientifique
DESCRIPTION:Thursday\, August 25\, 6:00 – 7:15pm ET: \nAnnapolis Cafe Scientifique: “Documenting Flooding in our Community: How to Use MyCoast Maryland”.\nBy Kate Vogel\, Coastal Resilience Planner\, with the MD Dep’t of Natural Resources\, Chesapeake & Coastal Service. \nCreated in 2019\, MyCoast Maryland is an initiative within the Maryland Department of Natural Resources’\, Chesapeake and Coastal Service\, designed to give community members a platform to share photos to document on the ground impacts of flooding and damage that are attributed to rain\, storms\, or high tides. This helps to determine how often a community is flooding and where\, which can help identify and prioritize climate change resilience and restoration opportunities. By using MyCoast you are helping document important weather and climate related events in your community.
URL:https://49westcoffeehouse.com/event/cafe-scientifique-33/
ATTACH;FMTTYPE=image/jpeg:https://49westcoffeehouse.com/wp-content/uploads/2022/08/8CEAD378-F06B-4291-90E1-E9008AF0413F-scaled.jpeg
END:VEVENT
BEGIN:VEVENT
DTSTART;TZID=America/Halifax:20220825T200000
DTEND;TZID=America/Halifax:20220825T220000
DTSTAMP:20260420T232254
CREATED:20220822T190357Z
LAST-MODIFIED:20220822T190357Z
UID:12937-1661457600-1661464800@49westcoffeehouse.com
SUMMARY:The 99 Hit Combo
DESCRIPTION:
URL:https://49westcoffeehouse.com/event/the-99-hit-combo/
END:VEVENT
END:VCALENDAR