BEGIN:VCALENDAR
VERSION:2.0
PRODID:-//49 West - Coffeehouse, Winebar &amp; Gallery / Annapolis, Maryland - ECPv6.15.20//NONSGML v1.0//EN
CALSCALE:GREGORIAN
METHOD:PUBLISH
X-WR-CALNAME:49 West - Coffeehouse, Winebar &amp; Gallery / Annapolis, Maryland
X-ORIGINAL-URL:https://49westcoffeehouse.com
X-WR-CALDESC:Events for 49 West - Coffeehouse, Winebar &amp; Gallery / Annapolis, Maryland
REFRESH-INTERVAL;VALUE=DURATION:PT1H
X-Robots-Tag:noindex
X-PUBLISHED-TTL:PT1H
BEGIN:VTIMEZONE
TZID:America/Halifax
BEGIN:DAYLIGHT
TZOFFSETFROM:-0400
TZOFFSETTO:-0300
TZNAME:ADT
DTSTART:20210314T060000
END:DAYLIGHT
BEGIN:STANDARD
TZOFFSETFROM:-0300
TZOFFSETTO:-0400
TZNAME:AST
DTSTART:20211107T050000
END:STANDARD
BEGIN:DAYLIGHT
TZOFFSETFROM:-0400
TZOFFSETTO:-0300
TZNAME:ADT
DTSTART:20220313T060000
END:DAYLIGHT
BEGIN:STANDARD
TZOFFSETFROM:-0300
TZOFFSETTO:-0400
TZNAME:AST
DTSTART:20221106T050000
END:STANDARD
BEGIN:DAYLIGHT
TZOFFSETFROM:-0400
TZOFFSETTO:-0300
TZNAME:ADT
DTSTART:20230312T060000
END:DAYLIGHT
BEGIN:STANDARD
TZOFFSETFROM:-0300
TZOFFSETTO:-0400
TZNAME:AST
DTSTART:20231105T050000
END:STANDARD
END:VTIMEZONE
BEGIN:VEVENT
DTSTART;TZID=America/Halifax:20220911T190000
DTEND;TZID=America/Halifax:20220911T210000
DTSTAMP:20260421T045014
CREATED:20220516T192859Z
LAST-MODIFIED:20220516T192859Z
UID:12590-1662922800-1662930000@49westcoffeehouse.com
SUMMARY:Lenny Marcus Trio
DESCRIPTION:LENNY MARCUS TRIO\nJazz Times Magazine has described Lenny Marcus’ music  as “Infectious!” No wonder\,  since Lenny worked for many years in New Orleans studying and performing with legends such as Ray Bryant\, Ellis Marsalis and Alvin Batiste . He has a strong blues oriented left hand\,  thanks to Bryant. Lenny possesses a superior melodic imagination and highly developed arranging and orchestration skills that become palpable throughout a diversity of styles-swinging\, cool\, sophisticated \,  Jazzified Beethoven masterpieces\, Latin\, toe- tapping \, high energy  as well as beautifully contemplative and engaging.  \nHis latest release\, Gloria’s Step TOUTED as “ Swinging elegant fun\,” has reached #10 on Canadian jazz charts & 34 in the top 50 of USA charts. An earlier release\, Sun Ray \, a Ray Bryant tribute\, was considered to be  one the top jazz albums of 2012\, and his follow up ‘TONK’ in 2013 was acclaimed by noteable jazz critic Owen Cordle of JazzTimes magazine. \nInternational famed players who have performed and recorded with LMT  include Charlie Byrd\, Herb Ellis\,Frank Foster\,Brian Lynch\, David “ Fathead “ Newman (Ray Charles tenor) and Jane Powell. \nLenny has performed in three New Orleans Jazz and Heritage  Fest\, Spoleto \, Barbados and Grenada Jazz festivals in addition to appearing four times in Wash DC at the famed Blues Alley with his trio.
URL:https://49westcoffeehouse.com/event/lennie-marcus-2/
ATTACH;FMTTYPE=image/jpeg:https://49westcoffeehouse.com/wp-content/uploads/2022/04/MSM5549.jpeg
END:VEVENT
END:VCALENDAR