BEGIN:VCALENDAR
VERSION:2.0
PRODID:-//49 West - Coffeehouse, Winebar &amp; Gallery / Annapolis, Maryland - ECPv6.15.20//NONSGML v1.0//EN
CALSCALE:GREGORIAN
METHOD:PUBLISH
X-WR-CALNAME:49 West - Coffeehouse, Winebar &amp; Gallery / Annapolis, Maryland
X-ORIGINAL-URL:https://49westcoffeehouse.com
X-WR-CALDESC:Events for 49 West - Coffeehouse, Winebar &amp; Gallery / Annapolis, Maryland
REFRESH-INTERVAL;VALUE=DURATION:PT1H
X-Robots-Tag:noindex
X-PUBLISHED-TTL:PT1H
BEGIN:VTIMEZONE
TZID:America/Halifax
BEGIN:DAYLIGHT
TZOFFSETFROM:-0400
TZOFFSETTO:-0300
TZNAME:ADT
DTSTART:20210314T060000
END:DAYLIGHT
BEGIN:STANDARD
TZOFFSETFROM:-0300
TZOFFSETTO:-0400
TZNAME:AST
DTSTART:20211107T050000
END:STANDARD
BEGIN:DAYLIGHT
TZOFFSETFROM:-0400
TZOFFSETTO:-0300
TZNAME:ADT
DTSTART:20220313T060000
END:DAYLIGHT
BEGIN:STANDARD
TZOFFSETFROM:-0300
TZOFFSETTO:-0400
TZNAME:AST
DTSTART:20221106T050000
END:STANDARD
BEGIN:DAYLIGHT
TZOFFSETFROM:-0400
TZOFFSETTO:-0300
TZNAME:ADT
DTSTART:20230312T060000
END:DAYLIGHT
BEGIN:STANDARD
TZOFFSETFROM:-0300
TZOFFSETTO:-0400
TZNAME:AST
DTSTART:20231105T050000
END:STANDARD
END:VTIMEZONE
BEGIN:VEVENT
DTSTART;TZID=America/Halifax:20220925T073000
DTEND;TZID=America/Halifax:20220925T213000
DTSTAMP:20260421T045005
CREATED:20220919T162807Z
LAST-MODIFIED:20220919T162900Z
UID:13040-1664091000-1664141400@49westcoffeehouse.com
SUMMARY:A Tribute to Dick Morgan
DESCRIPTION:The theme of this program is “A Tribute to DICK MORGAN”. \nDick first performed with Charlie Byrd at Virginia Beach when he was seventeen and in the 1960’s Charlie suggested he move to DC\, where bands were integrated\, and Dick followed that advice. \nDick’s longtime bass player DAVE EINHORN will join us Sunday evening TADATAKA UNNO. \nYou will hear jazz classics and the repertoire of Dick Morgan again!
URL:https://49westcoffeehouse.com/event/a-tribute-to-dick-morgan/
ATTACH;FMTTYPE=image/png:https://49westcoffeehouse.com/wp-content/uploads/2022/09/B8D52049-C8FD-431E-96E6-6AE9BAE6D62A.png
END:VEVENT
END:VCALENDAR