BEGIN:VCALENDAR
VERSION:2.0
PRODID:-//49 West - Coffeehouse, Winebar &amp; Gallery / Annapolis, Maryland - ECPv6.15.20//NONSGML v1.0//EN
CALSCALE:GREGORIAN
METHOD:PUBLISH
X-ORIGINAL-URL:https://49westcoffeehouse.com
X-WR-CALDESC:Events for 49 West - Coffeehouse, Winebar &amp; Gallery / Annapolis, Maryland
REFRESH-INTERVAL;VALUE=DURATION:PT1H
X-Robots-Tag:noindex
X-PUBLISHED-TTL:PT1H
BEGIN:VTIMEZONE
TZID:America/Halifax
BEGIN:DAYLIGHT
TZOFFSETFROM:-0400
TZOFFSETTO:-0300
TZNAME:ADT
DTSTART:20210314T060000
END:DAYLIGHT
BEGIN:STANDARD
TZOFFSETFROM:-0300
TZOFFSETTO:-0400
TZNAME:AST
DTSTART:20211107T050000
END:STANDARD
BEGIN:DAYLIGHT
TZOFFSETFROM:-0400
TZOFFSETTO:-0300
TZNAME:ADT
DTSTART:20220313T060000
END:DAYLIGHT
BEGIN:STANDARD
TZOFFSETFROM:-0300
TZOFFSETTO:-0400
TZNAME:AST
DTSTART:20221106T050000
END:STANDARD
BEGIN:DAYLIGHT
TZOFFSETFROM:-0400
TZOFFSETTO:-0300
TZNAME:ADT
DTSTART:20230312T060000
END:DAYLIGHT
BEGIN:STANDARD
TZOFFSETFROM:-0300
TZOFFSETTO:-0400
TZNAME:AST
DTSTART:20231105T050000
END:STANDARD
END:VTIMEZONE
BEGIN:VEVENT
DTSTART;TZID=America/Halifax:20221003T193000
DTEND;TZID=America/Halifax:20221003T223000
DTSTAMP:20260421T093457
CREATED:20220926T175217Z
LAST-MODIFIED:20220926T175217Z
UID:13060-1664825400-1664836200@49westcoffeehouse.com
SUMMARY:Back Room Sessions with Carly Winter & Lance Taylor
DESCRIPTION:The Back Room Sessions is a song & story concert series happening on the 1st Monday of every month at 49 West Coffeehouse in Historic Annapolis\, MD. The featured artists are curated by local garage-folk artist Skribe who also hosts & performs a set. All shows are recorded so please keep refrain from conversation during performances. $15 cover will be added to your check and goes to the artists. Doors at 7:30.\n49 West Coffehouse & Winebar provides an intimate artsy concert experience with full table service and no TVs.\nThere are 40 seats and we often sell out so call 49 West at (410) 626-9796 to reserve your table now!\nFeatured artists for Monday April 4th 2022 are Carly Winter & Lance Taylor! \nCarly Winter\nhttps://www.youtube.com/channel/UC8dHkGzTueu9lrc-k06-WTA?app=desktop \nLance Taylor\nhttps://lancetaylor.bandcamp.com/\nSkribe\nhttps://www.skribestudios.com/
URL:https://49westcoffeehouse.com/event/back-room-sessions-with-carly-winter-lance-taylor/
ATTACH;FMTTYPE=image/jpeg:https://49westcoffeehouse.com/wp-content/uploads/2022/09/24094E14-9068-4734-A6DD-5B5CA48B64F5.jpeg
END:VEVENT
END:VCALENDAR