BEGIN:VCALENDAR
VERSION:2.0
PRODID:-//49 West - Coffeehouse, Winebar &amp; Gallery / Annapolis, Maryland - ECPv6.15.20//NONSGML v1.0//EN
CALSCALE:GREGORIAN
METHOD:PUBLISH
X-ORIGINAL-URL:https://49westcoffeehouse.com
X-WR-CALDESC:Events for 49 West - Coffeehouse, Winebar &amp; Gallery / Annapolis, Maryland
REFRESH-INTERVAL;VALUE=DURATION:PT1H
X-Robots-Tag:noindex
X-PUBLISHED-TTL:PT1H
BEGIN:VTIMEZONE
TZID:America/Halifax
BEGIN:DAYLIGHT
TZOFFSETFROM:-0400
TZOFFSETTO:-0300
TZNAME:ADT
DTSTART:20210314T060000
END:DAYLIGHT
BEGIN:STANDARD
TZOFFSETFROM:-0300
TZOFFSETTO:-0400
TZNAME:AST
DTSTART:20211107T050000
END:STANDARD
BEGIN:DAYLIGHT
TZOFFSETFROM:-0400
TZOFFSETTO:-0300
TZNAME:ADT
DTSTART:20220313T060000
END:DAYLIGHT
BEGIN:STANDARD
TZOFFSETFROM:-0300
TZOFFSETTO:-0400
TZNAME:AST
DTSTART:20221106T050000
END:STANDARD
BEGIN:DAYLIGHT
TZOFFSETFROM:-0400
TZOFFSETTO:-0300
TZNAME:ADT
DTSTART:20230312T060000
END:DAYLIGHT
BEGIN:STANDARD
TZOFFSETFROM:-0300
TZOFFSETTO:-0400
TZNAME:AST
DTSTART:20231105T050000
END:STANDARD
END:VTIMEZONE
BEGIN:VEVENT
DTSTART;TZID=America/Halifax:20221017T193000
DTEND;TZID=America/Halifax:20221017T213000
DTSTAMP:20260421T061545
CREATED:20220429T194520Z
LAST-MODIFIED:20220921T031132Z
UID:12536-1666035000-1666042200@49westcoffeehouse.com
SUMMARY:Marc Douglas Berardo and Dana Cooper at 49 West
DESCRIPTION:Advanced Tickets $17 –  https://BerardoCooper49West.eventbrite.com\nDoor $20 – Reservations for door tickets are highly recommended.\nYou can make them by calling 49 West at 410-626-9796 \nABOUT MARC DOUGLAS BERARDO\nWebsite: https://www.marcdouglas.com\nVideo: The Hard Part – https://www.youtube.com/watch?v=hn-47D94g18 \n“Marc Douglas Berardo writes songs that are witty without being superficial\, intelligent without being ponderous\, fun without being silly. He performs them with an infectious verve. On top of that\, he doesn’t seem to have the slightest idea of just how good he is. David Olney\, Legendary Songwriter and Performer\, Nashville\, TN \n“High-quality story-telling picking and playing.” Rob Ellen – The Medicine Show Radio Moose Mobile\, U.K.\nRhode Island-based Marc Douglas Berardo is a hardworking\, fast-moving\, adventure-seeking\, keen observer who lives for the story and the song. He is nationally recognized for his music and performances (Rocky Mountain Folks Fest Song contest\, Telluride Troubadour Contest\, Sisters Folk Festival\, South Florida Folk Fest\, 2013 Rams Head Onstage Rammie for Show of the Year.) \nNo Depression Magazine called his latest CD Whalebone: a highly polished personal collection with songs that are on the delicate trapeze of poignancy. \nIn May of 2014\, Berardo won the 2014 Wildflower Art and Music Festival Song Contest in Texas. The following week he performed as a finalist in the legendary Kerrville New Folk Contest at the Kerrville Folk Festival.  In early 2015\, Berardo’s interview and live performance feature on Sirius/XM Satellite Radio’s The Village was voted one of the best of the year by listeners. \nMarc Douglas Berardo has shared the stage with heavyweights such as The New Riders of The Purple Sage\, The Doobie Brothers\, Jimmy LaFave\, Martin Sexton\, Terri Hendrix\, Kevin Welch\, and Red Molly\, Eric Taylor\, The Pousette Dart Band\, John Hiatt\, and Livingston Taylor. \nAbout his music\, Marc says … I try to write about people and situations that interest and entertain me. Subjects and places that I feel a connection with and that are unique in a quiet way. Real people and places caught in the moment\, almost like a documentary film or a novel. \nOn February 25\, Marc released a single and official video for “The Hard Part”\, a track from his upcoming record.\nBravery. The new song The Hard Part from Marc Douglas Berardo’s forthcoming album inspires you to be brave in the darkest time. With a folk-rock groove\, he takes you to a place within yourself to make changes you want to see in the world. Compassion is one of Berardo’s superpower ingredients in his songwriting. MarySue Twohy\, SiriusXM Program Director\, SiriusXM Satellite Radio \nABOUT DANA COOPER\nWebsite: https://www.danacoopermusic.com\nVideo: Dream Darling – https://www.youtube.com/watch?v=rDMFOnHwCf8 \nCooper’s lifelong passion & devotion to music began at age 2 in Kansas City. His father\, George\, was a huge influence. One of Dana’s earliest memories is of his father taking him to the Calico Cat\, popping a coin in the jukebox\, and listening to Dana sing along with Hank Williams & Ernest Tubb. \nAt age 20 a move to LA resulted in a record deal with Elektra Records where he recorded his first album with members of The Section Russ Kunkel and Leland Sklar\, as well as other luminary players Jim Horn\, Al Perkins\, Jim Gordon\, Joe Osborne\, and Lee Holdridge. This album still wins accolades today and was recently reissued on the Warner/Japan label.\nAfter several years in California and a year recording in Seattle\, Cooper moved to Texas where he wrote and performed with Shake Russell. They released several independent albums and one album for Southcoast/MCA. \nDana formed his own experimental bands\, DC3\, and Nuclear Family\, and released his first solo project Complicated Stuff. In 1988 he moved to Nashville\, TN to pursue his songwriting career collaborating with other songwriters including\, Tom Kimmel\, Sally Barris\, Don Henry\, Pat Alger\, \nHal Ketchum\, Kim Carnes\, Josh Leo\, Pierce Pettis\, Kim Richey\, and Allen Shamblin\nHis years as a Troubadour is measured by his impressive 28 Albums
URL:https://49westcoffeehouse.com/event/marc-douglas-berardo-and-dana-cooper-at-49-west/
ATTACH;FMTTYPE=image/jpeg:https://49westcoffeehouse.com/wp-content/uploads/2022/04/279550804_1119312365307503_7562347130679187382_n.jpg
END:VEVENT
END:VCALENDAR