BEGIN:VCALENDAR
VERSION:2.0
PRODID:-//49 West - Coffeehouse, Winebar &amp; Gallery / Annapolis, Maryland - ECPv6.15.20//NONSGML v1.0//EN
CALSCALE:GREGORIAN
METHOD:PUBLISH
X-ORIGINAL-URL:https://49westcoffeehouse.com
X-WR-CALDESC:Events for 49 West - Coffeehouse, Winebar &amp; Gallery / Annapolis, Maryland
REFRESH-INTERVAL;VALUE=DURATION:PT1H
X-Robots-Tag:noindex
X-PUBLISHED-TTL:PT1H
BEGIN:VTIMEZONE
TZID:America/Halifax
BEGIN:DAYLIGHT
TZOFFSETFROM:-0400
TZOFFSETTO:-0300
TZNAME:ADT
DTSTART:20210314T060000
END:DAYLIGHT
BEGIN:STANDARD
TZOFFSETFROM:-0300
TZOFFSETTO:-0400
TZNAME:AST
DTSTART:20211107T050000
END:STANDARD
BEGIN:DAYLIGHT
TZOFFSETFROM:-0400
TZOFFSETTO:-0300
TZNAME:ADT
DTSTART:20220313T060000
END:DAYLIGHT
BEGIN:STANDARD
TZOFFSETFROM:-0300
TZOFFSETTO:-0400
TZNAME:AST
DTSTART:20221106T050000
END:STANDARD
BEGIN:DAYLIGHT
TZOFFSETFROM:-0400
TZOFFSETTO:-0300
TZNAME:ADT
DTSTART:20230312T060000
END:DAYLIGHT
BEGIN:STANDARD
TZOFFSETFROM:-0300
TZOFFSETTO:-0400
TZNAME:AST
DTSTART:20231105T050000
END:STANDARD
END:VTIMEZONE
BEGIN:VEVENT
DTSTART;TZID=America/Halifax:20221105T170000
DTEND;TZID=America/Halifax:20221105T190000
DTSTAMP:20260421T061613
CREATED:20220903T115012Z
LAST-MODIFIED:20220903T115012Z
UID:13032-1667667600-1667674800@49westcoffeehouse.com
SUMMARY:John Jensen
DESCRIPTION:
URL:https://49westcoffeehouse.com/event/john-jensen-18-2-2-2-2-2-2-2-2/
ATTACH;FMTTYPE=image/jpeg:https://49westcoffeehouse.com/wp-content/uploads/2016/05/johnjensen.jpg
END:VEVENT
BEGIN:VEVENT
DTSTART;TZID=America/Halifax:20221105T193000
DTEND;TZID=America/Halifax:20221105T220000
DTSTAMP:20260421T061613
CREATED:20221018T195429Z
LAST-MODIFIED:20221018T195429Z
UID:13107-1667676600-1667685600@49westcoffeehouse.com
SUMMARY:Big Curve Music Presents: Swampcandy’s Single Release with Phyco Mike\, Mark Colegrove & Daphne Eckman
DESCRIPTION:With guests Phyco Mike (Lackey)\, Mark Colegrove and Daphne Eckman\, come celebrate the first single released by Swampcandy as an official Big Curve Music artist.   $20 cover seating is limited. Reserve your table now by calling 49west @ 410-626-9796
URL:https://49westcoffeehouse.com/event/big-curve-music-presents-swampcandys-single-release-with-phyco-mike-mark-colegrove-daphne-eckman/
ATTACH;FMTTYPE=image/jpeg:https://49westcoffeehouse.com/wp-content/uploads/2022/10/7579F33B-9916-44B2-BEA6-C77774643FAC.jpeg
END:VEVENT
END:VCALENDAR