BEGIN:VCALENDAR
VERSION:2.0
PRODID:-//49 West - Coffeehouse, Winebar &amp; Gallery / Annapolis, Maryland - ECPv6.15.20//NONSGML v1.0//EN
CALSCALE:GREGORIAN
METHOD:PUBLISH
X-ORIGINAL-URL:https://49westcoffeehouse.com
X-WR-CALDESC:Events for 49 West - Coffeehouse, Winebar &amp; Gallery / Annapolis, Maryland
REFRESH-INTERVAL;VALUE=DURATION:PT1H
X-Robots-Tag:noindex
X-PUBLISHED-TTL:PT1H
BEGIN:VTIMEZONE
TZID:America/Halifax
BEGIN:DAYLIGHT
TZOFFSETFROM:-0400
TZOFFSETTO:-0300
TZNAME:ADT
DTSTART:20210314T060000
END:DAYLIGHT
BEGIN:STANDARD
TZOFFSETFROM:-0300
TZOFFSETTO:-0400
TZNAME:AST
DTSTART:20211107T050000
END:STANDARD
BEGIN:DAYLIGHT
TZOFFSETFROM:-0400
TZOFFSETTO:-0300
TZNAME:ADT
DTSTART:20220313T060000
END:DAYLIGHT
BEGIN:STANDARD
TZOFFSETFROM:-0300
TZOFFSETTO:-0400
TZNAME:AST
DTSTART:20221106T050000
END:STANDARD
BEGIN:DAYLIGHT
TZOFFSETFROM:-0400
TZOFFSETTO:-0300
TZNAME:ADT
DTSTART:20230312T060000
END:DAYLIGHT
BEGIN:STANDARD
TZOFFSETFROM:-0300
TZOFFSETTO:-0400
TZNAME:AST
DTSTART:20231105T050000
END:STANDARD
END:VTIMEZONE
BEGIN:VEVENT
DTSTART;TZID=America/Halifax:20221126T190000
DTEND;TZID=America/Halifax:20221126T230000
DTSTAMP:20260421T093533
CREATED:20221018T205732Z
LAST-MODIFIED:20221107T155031Z
UID:13173-1669489200-1669503600@49westcoffeehouse.com
SUMMARY:Erin Harpe & Jim Countryman 2 SHOWS 7pm & 9pm!
DESCRIPTION:Please call for reservations and indicated which show you would like to reserve for.  7pm or the 9pm show.  \nMaryland native/Boston transplant Erin Harpe comes back to Annapolis on Friday\, November 29th at 49 West Coffeehouse\, Winebar & Gallery! Come celebrate the day after Thanksgiving as you enjoy an evening of acoustic blues featuring Erin Harpe on acoustic guitar\, foot percussion and kazoo\, and Jim Countryman on ukulele bass.  \n49 West St.\, Annapolis\, MD. $20\, 21+\, 7pm or 9pm.\n(Space is limited\, call (410) 626-9796 for reservations.) \nRecently Erin won the Boston Blues Challenge\, and will be headin’ down to Memphis for the 2019 International Blues Challenge as a solo performer! As if this wasn’t exciting enough\, Erin Harpe & the Delta Swingers were also nominated for “Blues Artist of the Year” by the Boston Music Awards! Cast your vote here (until Nov. 4): https://bostonmusicawards.com/vote/ \nhttps://www.erinharpe.com/
URL:https://49westcoffeehouse.com/event/erin-harpe-2-3/
CATEGORIES:Back Room
ATTACH;FMTTYPE=image/jpeg:https://49westcoffeehouse.com/wp-content/uploads/2018/11/42D9DCDD-A212-4412-B79E-ACFDB4E08FD7.jpeg
END:VEVENT
END:VCALENDAR