BEGIN:VCALENDAR
VERSION:2.0
PRODID:-//49 West - Coffeehouse, Winebar &amp; Gallery / Annapolis, Maryland - ECPv6.15.20//NONSGML v1.0//EN
CALSCALE:GREGORIAN
METHOD:PUBLISH
X-ORIGINAL-URL:https://49westcoffeehouse.com
X-WR-CALDESC:Events for 49 West - Coffeehouse, Winebar &amp; Gallery / Annapolis, Maryland
REFRESH-INTERVAL;VALUE=DURATION:PT1H
X-Robots-Tag:noindex
X-PUBLISHED-TTL:PT1H
BEGIN:VTIMEZONE
TZID:America/Halifax
BEGIN:DAYLIGHT
TZOFFSETFROM:-0400
TZOFFSETTO:-0300
TZNAME:ADT
DTSTART:20210314T060000
END:DAYLIGHT
BEGIN:STANDARD
TZOFFSETFROM:-0300
TZOFFSETTO:-0400
TZNAME:AST
DTSTART:20211107T050000
END:STANDARD
BEGIN:DAYLIGHT
TZOFFSETFROM:-0400
TZOFFSETTO:-0300
TZNAME:ADT
DTSTART:20220313T060000
END:DAYLIGHT
BEGIN:STANDARD
TZOFFSETFROM:-0300
TZOFFSETTO:-0400
TZNAME:AST
DTSTART:20221106T050000
END:STANDARD
BEGIN:DAYLIGHT
TZOFFSETFROM:-0400
TZOFFSETTO:-0300
TZNAME:ADT
DTSTART:20230312T060000
END:DAYLIGHT
BEGIN:STANDARD
TZOFFSETFROM:-0300
TZOFFSETTO:-0400
TZNAME:AST
DTSTART:20231105T050000
END:STANDARD
END:VTIMEZONE
BEGIN:VEVENT
DTSTART;TZID=America/Halifax:20221203T190000
DTEND;TZID=America/Halifax:20221203T220000
DTSTAMP:20260421T093022
CREATED:20221115T171721Z
LAST-MODIFIED:20221115T212538Z
UID:13228-1670094000-1670104800@49westcoffeehouse.com
SUMMARY:Journos
DESCRIPTION:Check us out Saturday\, December 3 at 7pm at 49 West in Annapolis for the official Journos CD release Party. Reservations are strongly encouraged\, so call  410-626-9796 today and book your table.  \nEnter Journos: a charismatic and compelling duo made up of award-winning journalist and lyricist Bryan Russo and workhorse punk-rocker Ryan Abbott\, whose musical range and bold message is as assertive as it is disruptive.  \nBryan Russo has spent close to 20 years working diligently as a singer/songwriter in the Mid-Atlantic region of the US sharing the stage with more than 30 national recording artists. Described to have the bluesy depth of a “young Tom Waits or Billy Joel” by Grammy Nominated producer David Ivory\, his previous independent releases received high praise from critics and listeners\, including Pennsyltucky (2018)\, which was named as a Top 5 finalist in the 2019 Great American Song Contest. Known for his biting lyrics\, Russo blends profound storytelling with a glint of satire and he isn’t afraid to let his raw and emotional vocals set the stage.  \nAbbott is perhaps most known for his surf punk trio The Phantom Limbs\, with which he wrote an EP trilogy followed by an LP entitled Get Wet with the Mothman. Powered by genre busting guitar riffs and lyrics anchored in horror movie imagery\, the band toured the country and made a splash in underground punk scenes. Later\, Abbott scored a hit with his acoustic trio The Dead Pens\, a group comprised of Abbott\, classical cellist Sally McGee and singer/pianist Danah Koch\, drawing attention and accolades from Relix Magazine and the College Radio Charts (#160). The Abbott penned song “Claire” found its way onto major Spotify and terrestrial radio playlists\, garnering global spins.  \nPlaying the role of the court jester whose job was to remind the monarchy of its inescapable mortality\, Journos’ clever witticisms coupled with their chaotic musical pulse produce a terrific collection of deep-thinking hard-drinking songs. A scathing editorial\, Journos’ debut full-length album In the Key of WTF is a sonic statement that neither buries the lead nor misses the point.
URL:https://49westcoffeehouse.com/event/journos/
ATTACH;FMTTYPE=image/jpeg:https://49westcoffeehouse.com/wp-content/uploads/2022/11/313453469_996776711724603_6142025731569350087_n.jpg
END:VEVENT
END:VCALENDAR