BEGIN:VCALENDAR
VERSION:2.0
PRODID:-//49 West - Coffeehouse, Winebar &amp; Gallery / Annapolis, Maryland - ECPv6.15.20//NONSGML v1.0//EN
CALSCALE:GREGORIAN
METHOD:PUBLISH
X-WR-CALNAME:49 West - Coffeehouse, Winebar &amp; Gallery / Annapolis, Maryland
X-ORIGINAL-URL:https://49westcoffeehouse.com
X-WR-CALDESC:Events for 49 West - Coffeehouse, Winebar &amp; Gallery / Annapolis, Maryland
REFRESH-INTERVAL;VALUE=DURATION:PT1H
X-Robots-Tag:noindex
X-PUBLISHED-TTL:PT1H
BEGIN:VTIMEZONE
TZID:America/Halifax
BEGIN:DAYLIGHT
TZOFFSETFROM:-0400
TZOFFSETTO:-0300
TZNAME:ADT
DTSTART:20220313T060000
END:DAYLIGHT
BEGIN:STANDARD
TZOFFSETFROM:-0300
TZOFFSETTO:-0400
TZNAME:AST
DTSTART:20221106T050000
END:STANDARD
BEGIN:DAYLIGHT
TZOFFSETFROM:-0400
TZOFFSETTO:-0300
TZNAME:ADT
DTSTART:20230312T060000
END:DAYLIGHT
BEGIN:STANDARD
TZOFFSETFROM:-0300
TZOFFSETTO:-0400
TZNAME:AST
DTSTART:20231105T050000
END:STANDARD
BEGIN:DAYLIGHT
TZOFFSETFROM:-0400
TZOFFSETTO:-0300
TZNAME:ADT
DTSTART:20240310T060000
END:DAYLIGHT
BEGIN:STANDARD
TZOFFSETFROM:-0300
TZOFFSETTO:-0400
TZNAME:AST
DTSTART:20241103T050000
END:STANDARD
END:VTIMEZONE
BEGIN:VEVENT
DTSTART;TZID=America/Halifax:20230102T193000
DTEND;TZID=America/Halifax:20230102T223000
DTSTAMP:20260421T125714
CREATED:20221209T005102Z
LAST-MODIFIED:20221226T171256Z
UID:13353-1672687800-1672698600@49westcoffeehouse.com
SUMMARY:SHAWN SHAKYA going away party at 49!
DESCRIPTION:{“total_effects_actions”:0\,”total_draw_time”:0\,”layers_used”:0\,”effects_tried”:0\,”total_draw_actions”:0\,”total_editor_actions”:{“border”:0\,”frame”:0\,”mask”:0\,”lensflare”:0\,”clipart”:0\,”text”:0\,”square_fit”:0\,”shape_mask”:0\,”callout”:0}\,”effects_applied”:0\,”uid”:”888D6386-D807-4C02-A303-24B40A706B87_1504771301367″\,”entry_point”:”create_flow_fte”\,”photos_added”:0\,”total_effects_time”:0\,”tools_used”:{“tilt_shift”:0\,”resize”:0\,”adjust”:0\,”curves”:0\,”motion”:0\,”perspective”:0\,”clone”:0\,”crop”:0\,”enhance”:1\,”sele\nShakya is moving to Chicago! This will be his last show in Annapolis for a good while so don’t miss it! Let’s come together and give him a proper send off. Live sets from Shawn Shakya (ft Nick Gladstone) & Skribe.
URL:https://49westcoffeehouse.com/event/back-room-sessions-5-2/
ATTACH;FMTTYPE=image/jpeg:https://49westcoffeehouse.com/wp-content/uploads/2022/12/321985663_870278690960733_385288747938595611_n.jpg
END:VEVENT
END:VCALENDAR