BEGIN:VCALENDAR
VERSION:2.0
PRODID:-//49 West - Coffeehouse, Winebar &amp; Gallery / Annapolis, Maryland - ECPv6.15.20//NONSGML v1.0//EN
CALSCALE:GREGORIAN
METHOD:PUBLISH
X-ORIGINAL-URL:https://49westcoffeehouse.com
X-WR-CALDESC:Events for 49 West - Coffeehouse, Winebar &amp; Gallery / Annapolis, Maryland
REFRESH-INTERVAL;VALUE=DURATION:PT1H
X-Robots-Tag:noindex
X-PUBLISHED-TTL:PT1H
BEGIN:VTIMEZONE
TZID:UTC
BEGIN:STANDARD
TZOFFSETFROM:+0000
TZOFFSETTO:+0000
TZNAME:UTC
DTSTART:20240101T000000
END:STANDARD
END:VTIMEZONE
BEGIN:VTIMEZONE
TZID:America/New_York
BEGIN:DAYLIGHT
TZOFFSETFROM:-0500
TZOFFSETTO:-0400
TZNAME:EDT
DTSTART:20240310T070000
END:DAYLIGHT
BEGIN:STANDARD
TZOFFSETFROM:-0400
TZOFFSETTO:-0500
TZNAME:EST
DTSTART:20241103T060000
END:STANDARD
BEGIN:DAYLIGHT
TZOFFSETFROM:-0500
TZOFFSETTO:-0400
TZNAME:EDT
DTSTART:20250309T070000
END:DAYLIGHT
BEGIN:STANDARD
TZOFFSETFROM:-0400
TZOFFSETTO:-0500
TZNAME:EST
DTSTART:20251102T060000
END:STANDARD
BEGIN:DAYLIGHT
TZOFFSETFROM:-0500
TZOFFSETTO:-0400
TZNAME:EDT
DTSTART:20260308T070000
END:DAYLIGHT
BEGIN:STANDARD
TZOFFSETFROM:-0400
TZOFFSETTO:-0500
TZNAME:EST
DTSTART:20261101T060000
END:STANDARD
END:VTIMEZONE
BEGIN:VEVENT
DTSTART;TZID=UTC:20251217T170000
DTEND;TZID=UTC:20251217T190000
DTSTAMP:20260424T182130
CREATED:20251120T171543Z
LAST-MODIFIED:20251120T171543Z
UID:18799-1765990800-1765998000@49westcoffeehouse.com
SUMMARY:Dave Chappell & Friends- AKA HippieHappy Hour
DESCRIPTION:Dave Chappell\, Jimmy Jacobs\, Rurik Reshetiloff & more!
URL:https://49westcoffeehouse.com/event/dave-chappell-friends-60-1-42-3-3-2-2-2-2-3-2-2-2-2-2-3-2-3-2-2-2-2-2-2-2-2/
LOCATION:49 West – The Back Room\, 49 West St.\, Annapolis\, MD\, 21401\, United States
ATTACH;FMTTYPE=image/jpeg:https://49westcoffeehouse.com/wp-content/uploads/2021/06/8C3B9EB8-D24E-4351-8EE3-E55ADEB7360B.jpeg
END:VEVENT
BEGIN:VEVENT
DTSTART;TZID=America/New_York:20251217T194500
DTEND;TZID=America/New_York:20251217T220000
DTSTAMP:20260424T182130
CREATED:20251120T171258Z
LAST-MODIFIED:20251210T001334Z
UID:18789-1766000700-1766008800@49westcoffeehouse.com
SUMMARY:Mr VCR & Friends
DESCRIPTION:
URL:https://49westcoffeehouse.com/event/mr-vcr-friends-6/
ATTACH;FMTTYPE=image/jpeg:https://49westcoffeehouse.com/wp-content/uploads/2025/11/50381143436393975.jpeg
END:VEVENT
BEGIN:VEVENT
DTSTART;TZID=America/New_York:20251217T194500
DTEND;TZID=America/New_York:20251217T223000
DTSTAMP:20260424T182130
CREATED:20251120T171210Z
LAST-MODIFIED:20251120T171210Z
UID:18786-1766000700-1766010600@49westcoffeehouse.com
SUMMARY:Not Your Mothers Paint Night
DESCRIPTION:
URL:https://49westcoffeehouse.com/event/not-your-mothers-paint-night-2-2-2-2-2-2-2/
ATTACH;FMTTYPE=image/jpeg:https://49westcoffeehouse.com/wp-content/uploads/2025/01/5003166362577823565.jpeg
END:VEVENT
END:VCALENDAR