BEGIN:VCALENDAR
VERSION:2.0
PRODID:-//49 West - Coffeehouse, Winebar &amp; Gallery / Annapolis, Maryland - ECPv6.15.20//NONSGML v1.0//EN
CALSCALE:GREGORIAN
METHOD:PUBLISH
X-WR-CALNAME:49 West - Coffeehouse, Winebar &amp; Gallery / Annapolis, Maryland
X-ORIGINAL-URL:https://49westcoffeehouse.com
X-WR-CALDESC:Events for 49 West - Coffeehouse, Winebar &amp; Gallery / Annapolis, Maryland
REFRESH-INTERVAL;VALUE=DURATION:PT1H
X-Robots-Tag:noindex
X-PUBLISHED-TTL:PT1H
BEGIN:VTIMEZONE
TZID:UTC
BEGIN:STANDARD
TZOFFSETFROM:+0000
TZOFFSETTO:+0000
TZNAME:UTC
DTSTART:20150101T000000
END:STANDARD
END:VTIMEZONE
BEGIN:VEVENT
DTSTART;TZID=UTC:20180225T190000
DTEND;TZID=UTC:20180225T220000
DTSTAMP:20260420T035957
CREATED:20180104T020120Z
LAST-MODIFIED:20180104T023020Z
UID:4110-1519585200-1519596000@49westcoffeehouse.com
SUMMARY:Last Sundays @ 49 West Pillowbook
DESCRIPTION:“pillowbook” is a collaboration between vocalist Joanne Juskus and guitarist Adrian Bond.
URL:https://49westcoffeehouse.com/event/last-sundays-49-west-pillowbook-14/
LOCATION:49 West – The Back Room\, 49 West St.\, Annapolis\, MD\, 21401\, United States
CATEGORIES:Ambient,Folk,Singer-Songwriter
ATTACH;FMTTYPE=image/jpeg:https://49westcoffeehouse.com/wp-content/uploads/2016/07/Last-Sundays-@-49-West-Pillowbook.jpg
END:VEVENT
BEGIN:VEVENT
DTSTART;TZID=UTC:20180128T190000
DTEND;TZID=UTC:20180128T220000
DTSTAMP:20260420T035957
CREATED:20171128T004519Z
LAST-MODIFIED:20171128T004519Z
UID:3896-1517166000-1517176800@49westcoffeehouse.com
SUMMARY:Last Sundays @ 49 West Pillowbook
DESCRIPTION:“pillowbook” is a collaboration between vocalist Joanne Juskus and guitarist Adrian Bond.
URL:https://49westcoffeehouse.com/event/last-sundays-49-west-pillowbook-13/
LOCATION:49 West – The Back Room\, 49 West St.\, Annapolis\, MD\, 21401\, United States
CATEGORIES:Ambient,Folk,Singer-Songwriter
ATTACH;FMTTYPE=image/jpeg:https://49westcoffeehouse.com/wp-content/uploads/2016/07/Last-Sundays-@-49-West-Pillowbook.jpg
END:VEVENT
BEGIN:VEVENT
DTSTART;TZID=UTC:20171126T190000
DTEND;TZID=UTC:20171126T220000
DTSTAMP:20260420T035957
CREATED:20170928T195913Z
LAST-MODIFIED:20170928T195914Z
UID:3782-1511722800-1511733600@49westcoffeehouse.com
SUMMARY:Last Sundays @ 49 West Pillowbook
DESCRIPTION:“pillowbook” is a collaboration between vocalist Joanne Juskus and guitarist Adrian Bond.
URL:https://49westcoffeehouse.com/event/last-sundays-49-west-pillowbook-12/
LOCATION:49 West – The Back Room\, 49 West St.\, Annapolis\, MD\, 21401\, United States
CATEGORIES:Ambient,Folk,Singer-Songwriter
ATTACH;FMTTYPE=image/jpeg:https://49westcoffeehouse.com/wp-content/uploads/2016/07/Last-Sundays-@-49-West-Pillowbook.jpg
END:VEVENT
BEGIN:VEVENT
DTSTART;TZID=UTC:20171029T190000
DTEND;TZID=UTC:20171029T220000
DTSTAMP:20260420T035957
CREATED:20170829T004031Z
LAST-MODIFIED:20170829T004031Z
UID:3614-1509303600-1509314400@49westcoffeehouse.com
SUMMARY:Last Sundays @ 49 West Pillowbook
DESCRIPTION:“pillowbook” is a collaboration between vocalist Joanne Juskus and guitarist Adrian Bond.
URL:https://49westcoffeehouse.com/event/last-sundays-49-west-pillowbook-11/
LOCATION:49 West – The Back Room\, 49 West St.\, Annapolis\, MD\, 21401\, United States
CATEGORIES:Ambient,Folk,Singer-Songwriter
ATTACH;FMTTYPE=image/jpeg:https://49westcoffeehouse.com/wp-content/uploads/2016/07/Last-Sundays-@-49-West-Pillowbook.jpg
END:VEVENT
BEGIN:VEVENT
DTSTART;TZID=UTC:20170924T190000
DTEND;TZID=UTC:20170924T220000
DTSTAMP:20260420T035957
CREATED:20170519T223523Z
LAST-MODIFIED:20170707T211124Z
UID:3090-1506279600-1506290400@49westcoffeehouse.com
SUMMARY:Last Sundays @ 49 West Pillowbook
DESCRIPTION:“pillowbook” is a collaboration between vocalist Joanne Juskus and guitarist Adrian Bond.
URL:https://49westcoffeehouse.com/event/last-sundays-49-west-pillowbook-8/
LOCATION:49 West – The Back Room\, 49 West St.\, Annapolis\, MD\, 21401\, United States
CATEGORIES:Ambient,Folk,Singer-Songwriter
ATTACH;FMTTYPE=image/jpeg:https://49westcoffeehouse.com/wp-content/uploads/2016/07/Last-Sundays-@-49-West-Pillowbook.jpg
END:VEVENT
BEGIN:VEVENT
DTSTART;TZID=UTC:20170827T190000
DTEND;TZID=UTC:20170827T220000
DTSTAMP:20260420T035957
CREATED:20170703T224321Z
LAST-MODIFIED:20170703T224321Z
UID:3294-1503860400-1503871200@49westcoffeehouse.com
SUMMARY:Last Sundays @ 49 West Pillowbook
DESCRIPTION:“pillowbook” is a collaboration between vocalist Joanne Juskus and guitarist Adrian Bond.
URL:https://49westcoffeehouse.com/event/last-sundays-49-west-pillowbook-10/
LOCATION:49 West – The Back Room\, 49 West St.\, Annapolis\, MD\, 21401\, United States
CATEGORIES:Ambient,Folk,Singer-Songwriter
ATTACH;FMTTYPE=image/jpeg:https://49westcoffeehouse.com/wp-content/uploads/2016/07/Last-Sundays-@-49-West-Pillowbook.jpg
END:VEVENT
BEGIN:VEVENT
DTSTART;TZID=UTC:20170730T190000
DTEND;TZID=UTC:20170730T220000
DTSTAMP:20260420T035957
CREATED:20170605T223102Z
LAST-MODIFIED:20170605T223102Z
UID:3158-1501441200-1501452000@49westcoffeehouse.com
SUMMARY:Last Sundays @ 49 West Pillowbook
DESCRIPTION:“pillowbook” is a collaboration between vocalist Joanne Juskus and guitarist Adrian Bond.
URL:https://49westcoffeehouse.com/event/last-sundays-49-west-pillowbook-9/
LOCATION:49 West – The Back Room\, 49 West St.\, Annapolis\, MD\, 21401\, United States
CATEGORIES:Ambient,Folk,Singer-Songwriter
ATTACH;FMTTYPE=image/jpeg:https://49westcoffeehouse.com/wp-content/uploads/2016/07/Last-Sundays-@-49-West-Pillowbook.jpg
END:VEVENT
BEGIN:VEVENT
DTSTART;TZID=UTC:20170625T190000
DTEND;TZID=UTC:20170625T220000
DTSTAMP:20260420T035957
CREATED:20170418T015447Z
LAST-MODIFIED:20170418T015447Z
UID:2951-1498417200-1498428000@49westcoffeehouse.com
SUMMARY:Last Sundays @ 49 West Pillowbook
DESCRIPTION:“pillowbook” is a collaboration between vocalist Joanne Juskus and guitarist Adrian Bond.
URL:https://49westcoffeehouse.com/event/last-sundays-49-west-pillowbook-7/
LOCATION:49 West – The Back Room\, 49 West St.\, Annapolis\, MD\, 21401\, United States
CATEGORIES:Ambient,Folk,Singer-Songwriter
ATTACH;FMTTYPE=image/jpeg:https://49westcoffeehouse.com/wp-content/uploads/2016/07/Last-Sundays-@-49-West-Pillowbook.jpg
END:VEVENT
BEGIN:VEVENT
DTSTART;TZID=UTC:20170528T190000
DTEND;TZID=UTC:20170528T220000
DTSTAMP:20260420T035957
CREATED:20170327T225736Z
LAST-MODIFIED:20170327T225736Z
UID:2800-1495998000-1496008800@49westcoffeehouse.com
SUMMARY:Last Sundays @ 49 West Pillowbook
DESCRIPTION:“pillowbook” is a collaboration between vocalist Joanne Juskus and guitarist Adrian Bond.
URL:https://49westcoffeehouse.com/event/last-sundays-49-west-pillowbook-6/
LOCATION:49 West – The Back Room\, 49 West St.\, Annapolis\, MD\, 21401\, United States
CATEGORIES:Ambient,Folk,Singer-Songwriter
ATTACH;FMTTYPE=image/jpeg:https://49westcoffeehouse.com/wp-content/uploads/2016/07/Last-Sundays-@-49-West-Pillowbook.jpg
END:VEVENT
BEGIN:VEVENT
DTSTART;TZID=UTC:20170430T193000
DTEND;TZID=UTC:20170430T220000
DTSTAMP:20260420T035957
CREATED:20170307T022905Z
LAST-MODIFIED:20170307T022905Z
UID:2702-1493580600-1493589600@49westcoffeehouse.com
SUMMARY:Last Sundays @ 49 West Pillowbook
DESCRIPTION:“pillowbook” is a collaboration between vocalist Joanne Juskus and guitarist Adrian Bond.
URL:https://49westcoffeehouse.com/event/last-sundays-49-west-pillowbook-5/
LOCATION:49 West – The Back Room\, 49 West St.\, Annapolis\, MD\, 21401\, United States
CATEGORIES:Ambient,Folk,Singer-Songwriter
ATTACH;FMTTYPE=image/jpeg:https://49westcoffeehouse.com/wp-content/uploads/2016/07/Last-Sundays-@-49-West-Pillowbook.jpg
END:VEVENT
BEGIN:VEVENT
DTSTART;TZID=UTC:20170326T193000
DTEND;TZID=UTC:20170326T220000
DTSTAMP:20260420T035957
CREATED:20170207T021434Z
LAST-MODIFIED:20170207T021434Z
UID:2607-1490556600-1490565600@49westcoffeehouse.com
SUMMARY:Last Sundays @ 49 West Pillowbook
DESCRIPTION:“pillowbook” is a collaboration between vocalist Joanne Juskus and guitarist Adrian Bond.
URL:https://49westcoffeehouse.com/event/last-sundays-49-west-pillowbook-4/
LOCATION:49 West – The Back Room\, 49 West St.\, Annapolis\, MD\, 21401\, United States
CATEGORIES:Ambient,Folk,Singer-Songwriter
ATTACH;FMTTYPE=image/jpeg:https://49westcoffeehouse.com/wp-content/uploads/2016/07/Last-Sundays-@-49-West-Pillowbook.jpg
END:VEVENT
BEGIN:VEVENT
DTSTART;TZID=UTC:20161127T193000
DTEND;TZID=UTC:20161127T220000
DTSTAMP:20260420T035957
CREATED:20160913T001706Z
LAST-MODIFIED:20160913T020659Z
UID:1743-1480275000-1480284000@49westcoffeehouse.com
SUMMARY:Last Sundays @49 West
DESCRIPTION:
URL:https://49westcoffeehouse.com/event/last-sundays-49-west/
LOCATION:49 West – The Front Room\, 49 West St.\, Annapolis\, MD\, 21401\, United States
CATEGORIES:Ambient,Back Room,Folk
ATTACH;FMTTYPE=image/jpeg:https://49westcoffeehouse.com/wp-content/uploads/2016/07/image-10.jpeg
END:VEVENT
BEGIN:VEVENT
DTSTART;TZID=UTC:20160925T200000
DTEND;TZID=UTC:20160925T220000
DTSTAMP:20260420T035957
CREATED:20160725T233105Z
LAST-MODIFIED:20160819T170543Z
UID:1533-1474833600-1474840800@49westcoffeehouse.com
SUMMARY:Last Sundays @49 West
DESCRIPTION:Last Sundays@49 and pillowbook present Black Rhinoceros\, a new duo featuring the amazing (and to us older musicians\, annoyingly expert) Ahren Field (guitar/vox) and the wonderfully talented Erin Snedecor (cello/vox). Their smart arrangements turn complex melodies\, chord progressions\, and harmonies into beautiful and catchy pop tunes that ring in your head for hours. They’re mesmerizing! And the back room at 49 West is the perfect\, intimate room in which to lean back\, relax\, have some delicious coffee\, wine or spirit\, maybe one of those delicious 49 West desserts or a meal. \nAlso performing is series host\, pillowbook (guitarist/composer Adrian Bond and Telesma lead singer\, Joanne Juskus). Come see and hear Adrian’s miracle ca. 1866 Martin parlor guitar played lovingly in the service of 200 year old English\, Scottish and Irish folk music\, Child ballads and the like. \n$10 cover \nTo sample some Black Rhinoceros on YouTube:\n\nhttps://www.youtube.com/watch?v=j6Ey5R8ILbM
URL:https://49westcoffeehouse.com/event/last-sunday-49-west/
LOCATION:49 West – The Back Room\, 49 West St.\, Annapolis\, MD\, 21401\, United States
CATEGORIES:Ambient,Back Room,Folk
ATTACH;FMTTYPE=image/jpeg:https://49westcoffeehouse.com/wp-content/uploads/2016/07/image-10.jpeg
END:VEVENT
BEGIN:VEVENT
DTSTART;TZID=UTC:20160828T193000
DTEND;TZID=UTC:20160828T220000
DTSTAMP:20260420T035957
CREATED:20160725T210336Z
LAST-MODIFIED:20160725T210336Z
UID:1486-1472412600-1472421600@49westcoffeehouse.com
SUMMARY:Last Sundays @ 49 West Pillowbook
DESCRIPTION:“pillowbook” is a collaboration between vocalist Joanne Juskus and guitarist Adrian Bond.
URL:https://49westcoffeehouse.com/event/last-sundays-49-west-pillowbook-3/
LOCATION:49 West – The Back Room\, 49 West St.\, Annapolis\, MD\, 21401\, United States
CATEGORIES:Ambient,Folk,Singer-Songwriter
ATTACH;FMTTYPE=image/jpeg:https://49westcoffeehouse.com/wp-content/uploads/2016/07/Last-Sundays-@-49-West-Pillowbook.jpg
END:VEVENT
BEGIN:VEVENT
DTSTART;TZID=UTC:20160731T193000
DTEND;TZID=UTC:20160731T220000
DTSTAMP:20260420T035957
CREATED:20160725T000747Z
LAST-MODIFIED:20160725T000747Z
UID:1440-1469993400-1470002400@49westcoffeehouse.com
SUMMARY:Last Sundays @ 49 West Pillowbook
DESCRIPTION:“pillowbook” is a collaboration between vocalist Joanne Juskus and guitarist Adrian Bond.
URL:https://49westcoffeehouse.com/event/last-sundays-49-west-pillowbook-2/
LOCATION:49 West – The Back Room\, 49 West St.\, Annapolis\, MD\, 21401\, United States
CATEGORIES:Ambient,Folk,Singer-Songwriter
ATTACH;FMTTYPE=image/jpeg:https://49westcoffeehouse.com/wp-content/uploads/2016/07/Last-Sundays-@-49-West-Pillowbook.jpg
END:VEVENT
BEGIN:VEVENT
DTSTART;TZID=UTC:20160626T193000
DTEND;TZID=UTC:20160626T220000
DTSTAMP:20260420T035957
CREATED:20160711T213039Z
LAST-MODIFIED:20160711T213039Z
UID:1374-1466969400-1466978400@49westcoffeehouse.com
SUMMARY:Last Sundays @ 49 West Pillowbook
DESCRIPTION:“pillowbook” is a collaboration between vocalist Joanne Juskus and guitarist Adrian Bond.
URL:https://49westcoffeehouse.com/event/last-sundays-49-west-pillowbook/
LOCATION:49 West – The Back Room\, 49 West St.\, Annapolis\, MD\, 21401\, United States
CATEGORIES:Ambient,Folk,Singer-Songwriter
ATTACH;FMTTYPE=image/jpeg:https://49westcoffeehouse.com/wp-content/uploads/2016/07/Last-Sundays-@-49-West-Pillowbook.jpg
END:VEVENT
BEGIN:VEVENT
DTSTART;TZID=UTC:20160529T193000
DTEND;TZID=UTC:20160529T223000
DTSTAMP:20260420T035957
CREATED:20160510T054440Z
LAST-MODIFIED:20160510T054440Z
UID:1277-1464550200-1464561000@49westcoffeehouse.com
SUMMARY:Last Sundays at 49 West
DESCRIPTION:Pillow book ( Adrian Bond & Joanne Juskus) and special guests
URL:https://49westcoffeehouse.com/event/last-sundays-at-49-west/
LOCATION:MD
CATEGORIES:Ambient,Ancient,Back Room
ATTACH;FMTTYPE=image/jpeg:https://49westcoffeehouse.com/wp-content/uploads/2016/05/11062414_924751470924065_4646813590977179391_n.jpg
END:VEVENT
END:VCALENDAR