BEGIN:VCALENDAR
VERSION:2.0
PRODID:-//49 West - Coffeehouse, Winebar &amp; Gallery / Annapolis, Maryland - ECPv6.15.20//NONSGML v1.0//EN
CALSCALE:GREGORIAN
METHOD:PUBLISH
X-ORIGINAL-URL:https://49westcoffeehouse.com
X-WR-CALDESC:Events for 49 West - Coffeehouse, Winebar &amp; Gallery / Annapolis, Maryland
REFRESH-INTERVAL;VALUE=DURATION:PT1H
X-Robots-Tag:noindex
X-PUBLISHED-TTL:PT1H
BEGIN:VTIMEZONE
TZID:UTC
BEGIN:STANDARD
TZOFFSETFROM:+0000
TZOFFSETTO:+0000
TZNAME:UTC
DTSTART:20150101T000000
END:STANDARD
END:VTIMEZONE
BEGIN:VEVENT
DTSTART;TZID=UTC:20160731T193000
DTEND;TZID=UTC:20160731T220000
DTSTAMP:20260420T073050
CREATED:20160725T000747Z
LAST-MODIFIED:20160725T000747Z
UID:1440-1469993400-1470002400@49westcoffeehouse.com
SUMMARY:Last Sundays @ 49 West Pillowbook
DESCRIPTION:“pillowbook” is a collaboration between vocalist Joanne Juskus and guitarist Adrian Bond.
URL:https://49westcoffeehouse.com/event/last-sundays-49-west-pillowbook-2/
LOCATION:49 West – The Back Room\, 49 West St.\, Annapolis\, MD\, 21401\, United States
CATEGORIES:Ambient,Folk,Singer-Songwriter
ATTACH;FMTTYPE=image/jpeg:https://49westcoffeehouse.com/wp-content/uploads/2016/07/Last-Sundays-@-49-West-Pillowbook.jpg
END:VEVENT
BEGIN:VEVENT
DTSTART;TZID=UTC:20160626T193000
DTEND;TZID=UTC:20160626T220000
DTSTAMP:20260420T073050
CREATED:20160711T213039Z
LAST-MODIFIED:20160711T213039Z
UID:1374-1466969400-1466978400@49westcoffeehouse.com
SUMMARY:Last Sundays @ 49 West Pillowbook
DESCRIPTION:“pillowbook” is a collaboration between vocalist Joanne Juskus and guitarist Adrian Bond.
URL:https://49westcoffeehouse.com/event/last-sundays-49-west-pillowbook/
LOCATION:49 West – The Back Room\, 49 West St.\, Annapolis\, MD\, 21401\, United States
CATEGORIES:Ambient,Folk,Singer-Songwriter
ATTACH;FMTTYPE=image/jpeg:https://49westcoffeehouse.com/wp-content/uploads/2016/07/Last-Sundays-@-49-West-Pillowbook.jpg
END:VEVENT
BEGIN:VEVENT
DTSTART;TZID=UTC:20160529T193000
DTEND;TZID=UTC:20160529T223000
DTSTAMP:20260420T073050
CREATED:20160510T054440Z
LAST-MODIFIED:20160510T054440Z
UID:1277-1464550200-1464561000@49westcoffeehouse.com
SUMMARY:Last Sundays at 49 West
DESCRIPTION:Pillow book ( Adrian Bond & Joanne Juskus) and special guests
URL:https://49westcoffeehouse.com/event/last-sundays-at-49-west/
LOCATION:MD
CATEGORIES:Ambient,Ancient,Back Room
ATTACH;FMTTYPE=image/jpeg:https://49westcoffeehouse.com/wp-content/uploads/2016/05/11062414_924751470924065_4646813590977179391_n.jpg
END:VEVENT
END:VCALENDAR