BEGIN:VCALENDAR
VERSION:2.0
PRODID:-//49 West - Coffeehouse, Winebar &amp; Gallery / Annapolis, Maryland - ECPv6.15.20//NONSGML v1.0//EN
CALSCALE:GREGORIAN
METHOD:PUBLISH
X-WR-CALNAME:49 West - Coffeehouse, Winebar &amp; Gallery / Annapolis, Maryland
X-ORIGINAL-URL:https://49westcoffeehouse.com
X-WR-CALDESC:Events for 49 West - Coffeehouse, Winebar &amp; Gallery / Annapolis, Maryland
REFRESH-INTERVAL;VALUE=DURATION:PT1H
X-Robots-Tag:noindex
X-PUBLISHED-TTL:PT1H
BEGIN:VTIMEZONE
TZID:UTC
BEGIN:STANDARD
TZOFFSETFROM:+0000
TZOFFSETTO:+0000
TZNAME:UTC
DTSTART:20180101T000000
END:STANDARD
END:VTIMEZONE
BEGIN:VEVENT
DTSTART;TZID=UTC:20210901T170000
DTEND;TZID=UTC:20210901T190000
DTSTAMP:20260424T133107
CREATED:20210718T204825Z
LAST-MODIFIED:20210831T181801Z
UID:11435-1630515600-1630522800@49westcoffeehouse.com
SUMMARY:Dave Chappell & Friends
DESCRIPTION:Jimmy Jacobs\, Rurik Reshetiloff & more!
URL:https://49westcoffeehouse.com/event/dean-rosenthal-friends-60-2-2-2-2-2-2-2-2-2-2-2-2-2-2-2-2-2-2-2-2-2-2-2-2-2-2-2-3-2-2-2-2-2-2-3-2-2-2-2-2-2-2-2-2-2-2-2-2-2-2-2-2-2-2-2-2-2-2-3-2-2-2-2-2-2-2-2-2-2-2-2-2-2-2-2-2-2-2-2-2-2-3-2-2-2-2-3/
LOCATION:49 West – The Front Room\, 49 West St.\, Annapolis\, MD\, 21401\, United States
CATEGORIES:Blues,Folk,Roots-American
END:VEVENT
BEGIN:VEVENT
DTSTART;TZID=UTC:20210825T170000
DTEND;TZID=UTC:20210825T190000
DTSTAMP:20260424T133107
CREATED:20210718T204422Z
LAST-MODIFIED:20210729T182613Z
UID:11441-1629910800-1629918000@49westcoffeehouse.com
SUMMARY:Dave Chappell & Friends
DESCRIPTION:Jimmy Jacobs\, Rurik Reshetiloff & more!
URL:https://49westcoffeehouse.com/event/dean-rosenthal-friends-60-2-2-2-2-2-2-2-2-2-2-2-2-2-2-2-2-2-2-2-2-2-2-2-2-2-2-2-3-2-2-2-2-2-2-3-2-2-2-2-2-2-2-2-2-2-2-2-2-2-2-2-2-2-2-2-2-2-2-3-2-2-2-2-2-2-2-2-2-2-2-2-2-2-2-2-2-2-2-2-2-2-3-2-2-2-2-7/
LOCATION:49 West – The Front Room\, 49 West St.\, Annapolis\, MD\, 21401\, United States
CATEGORIES:Blues,Folk,Front Room,Roots-American
END:VEVENT
BEGIN:VEVENT
DTSTART;TZID=UTC:20210818T170000
DTEND;TZID=UTC:20210818T190000
DTSTAMP:20260424T133107
CREATED:20210817T212130Z
LAST-MODIFIED:20210817T212130Z
UID:11525-1629306000-1629313200@49westcoffeehouse.com
SUMMARY:Dave Chappell & Friends
DESCRIPTION:Jimmy Jacobs\, Rurik Reshetiloff & more!
URL:https://49westcoffeehouse.com/event/dean-rosenthal-friends-60-2-2-2-2-2-2-2-2-2-2-2-2-2-2-2-2-2-2-2-2-2-2-2-2-2-2-2-3-2-2-2-2-2-2-3-2-2-2-2-2-2-2-2-2-2-2-2-2-2-2-2-2-2-2-2-2-2-2-3-2-2-2-2-2-2-2-2-2-2-2-2-2-2-2-2-2-2-2-2-2-2-3-2-2-2-2-6/
LOCATION:49 West – The Front Room\, 49 West St.\, Annapolis\, MD\, 21401\, United States
CATEGORIES:Blues,Folk,Front Room,Roots-American
END:VEVENT
BEGIN:VEVENT
DTSTART;TZID=UTC:20210804T170000
DTEND;TZID=UTC:20210804T190000
DTSTAMP:20260424T133107
CREATED:20210718T204209Z
LAST-MODIFIED:20210729T182849Z
UID:11437-1628096400-1628103600@49westcoffeehouse.com
SUMMARY:Dave Chappell & Friends
DESCRIPTION:Jimmy Jacobs\, Rurik Reshetiloff & more!
URL:https://49westcoffeehouse.com/event/dean-rosenthal-friends-60-2-2-2-2-2-2-2-2-2-2-2-2-2-2-2-2-2-2-2-2-2-2-2-2-2-2-2-3-2-2-2-2-2-2-3-2-2-2-2-2-2-2-2-2-2-2-2-2-2-2-2-2-2-2-2-2-2-2-3-2-2-2-2-2-2-2-2-2-2-2-2-2-2-2-2-2-2-2-2-2-2-3-2-2-2-2-5/
LOCATION:49 West – The Front Room\, 49 West St.\, Annapolis\, MD\, 21401\, United States
CATEGORIES:Blues,Folk,Front Room,Roots-American
END:VEVENT
BEGIN:VEVENT
DTSTART;TZID=UTC:20210728T170000
DTEND;TZID=UTC:20210728T190000
DTSTAMP:20260424T133107
CREATED:20210603T180004Z
LAST-MODIFIED:20210729T183142Z
UID:11329-1627491600-1627498800@49westcoffeehouse.com
SUMMARY:Dave Chappell & Friends
DESCRIPTION:Jimmy Jacobs\, Rurik Reshetiloff & more!
URL:https://49westcoffeehouse.com/event/dean-rosenthal-friends-60-2-2-2-2-2-2-2-2-2-2-2-2-2-2-2-2-2-2-2-2-2-2-2-2-2-2-2-3-2-2-2-2-2-2-3-2-2-2-2-2-2-2-2-2-2-2-2-2-2-2-2-2-2-2-2-2-2-2-3-2-2-2-2-2-2-2-2-2-2-2-2-2-2-2-2-2-2-2-2-2-2-3-2-2-2-2-4/
LOCATION:49 West – The Front Room\, 49 West St.\, Annapolis\, MD\, 21401\, United States
CATEGORIES:Blues,Folk,Front Room,Roots-American
END:VEVENT
BEGIN:VEVENT
DTSTART;TZID=UTC:20210721T170000
DTEND;TZID=UTC:20210721T190000
DTSTAMP:20260424T133107
CREATED:20210603T175921Z
LAST-MODIFIED:20210718T204938Z
UID:11327-1626886800-1626894000@49westcoffeehouse.com
SUMMARY:Dean Rosenthal & Friends
DESCRIPTION:  \n  \n \n  \n  \n  \nDean Rosenthal\, Jimmy Jacobs\, Rurik Reshetiloff & Guest
URL:https://49westcoffeehouse.com/event/dean-rosenthal-friends-60-2-2-2-2-2-2-2-2-2-2-2-2-2-2-2-2-2-2-2-2-2-2-2-2-2-2-2-3-2-2-2-2-2-2-3-2-2-2-2-2-2-2-2-2-2-2-2-2-2-2-2-2-2-2-2-2-2-2-3-2-2-2-2-2-2-2-2-2-2-2-2-2-2-2-2-2-2-2-2-2-2-3-2-2-2-2-2/
LOCATION:49 West – The Front Room\, 49 West St.\, Annapolis\, MD\, 21401\, United States
CATEGORIES:Blues,Folk,Front Room,Roots-American
END:VEVENT
BEGIN:VEVENT
DTSTART;TZID=UTC:20210707T170000
DTEND;TZID=UTC:20210707T190000
DTSTAMP:20260424T133107
CREATED:20210603T175812Z
LAST-MODIFIED:20210603T175812Z
UID:11325-1625677200-1625684400@49westcoffeehouse.com
SUMMARY:Dean Rosenthal & Friends aka Hippie Happy Hour!
DESCRIPTION:  \n  \n \n  \n  \n  \nDean Rosenthal\, Jimmy Jacobs\, Rurik Reshetiloff & Guest
URL:https://49westcoffeehouse.com/event/dean-rosenthal-friends-60-2-2-2-2-2-2-2-2-2-2-2-2-2-2-2-2-2-2-2-2-2-2-2-2-2-2-2-3-2-2-2-2-2-2-3-2-2-2-2-2-2-2-2-2-2-2-2-2-2-2-2-2-2-2-2-2-2-2-3-2-2-2-2-2-2-2-2-2-2-2-2-2-2-2-2-2-2-2-2-2-2-3-2-2-2-2/
LOCATION:49 West – The Front Room\, 49 West St.\, Annapolis\, MD\, 21401\, United States
CATEGORIES:Blues,Folk,Front Room,Roots-American
END:VEVENT
BEGIN:VEVENT
DTSTART;TZID=UTC:20210630T170000
DTEND;TZID=UTC:20210630T190000
DTSTAMP:20260424T133107
CREATED:20210603T175723Z
LAST-MODIFIED:20210603T175723Z
UID:11323-1625072400-1625079600@49westcoffeehouse.com
SUMMARY:Dean Rosenthal & Friends aka Hippie Happy Hour!
DESCRIPTION:  \n  \n \n  \n  \n  \nDean Rosenthal\, Jimmy Jacobs\, Rurik Reshetiloff & Guest
URL:https://49westcoffeehouse.com/event/dean-rosenthal-friends-60-2-2-2-2-2-2-2-2-2-2-2-2-2-2-2-2-2-2-2-2-2-2-2-2-2-2-2-3-2-2-2-2-2-2-3-2-2-2-2-2-2-2-2-2-2-2-2-2-2-2-2-2-2-2-2-2-2-2-3-2-2-2-2-2-2-2-2-2-2-2-2-2-2-2-2-2-2-2-2-2-2-3-2-2-2/
LOCATION:49 West – The Front Room\, 49 West St.\, Annapolis\, MD\, 21401\, United States
CATEGORIES:Blues,Folk,Front Room,Roots-American
END:VEVENT
BEGIN:VEVENT
DTSTART;TZID=UTC:20210623T170000
DTEND;TZID=UTC:20210623T190000
DTSTAMP:20260424T133107
CREATED:20210603T175636Z
LAST-MODIFIED:20210603T175636Z
UID:11321-1624467600-1624474800@49westcoffeehouse.com
SUMMARY:Dean Rosenthal & Friends aka Hippie Happy Hour!
DESCRIPTION:  \n  \n \n  \n  \n  \nDean Rosenthal\, Jimmy Jacobs\, Rurik Reshetiloff & Guest
URL:https://49westcoffeehouse.com/event/dean-rosenthal-friends-60-2-2-2-2-2-2-2-2-2-2-2-2-2-2-2-2-2-2-2-2-2-2-2-2-2-2-2-3-2-2-2-2-2-2-3-2-2-2-2-2-2-2-2-2-2-2-2-2-2-2-2-2-2-2-2-2-2-2-3-2-2-2-2-2-2-2-2-2-2-2-2-2-2-2-2-2-2-2-2-2-2-3-2-2/
LOCATION:49 West – The Front Room\, 49 West St.\, Annapolis\, MD\, 21401\, United States
CATEGORIES:Blues,Folk,Front Room,Roots-American
END:VEVENT
BEGIN:VEVENT
DTSTART;TZID=UTC:20210616T170000
DTEND;TZID=UTC:20210616T190000
DTSTAMP:20260424T133107
CREATED:20210603T175551Z
LAST-MODIFIED:20210603T175551Z
UID:11319-1623862800-1623870000@49westcoffeehouse.com
SUMMARY:Dean Rosenthal & Friends aka Hippie Happy Hour!
DESCRIPTION:  \n  \n \n  \n  \n  \nDean Rosenthal\, Jimmy Jacobs\, Rurik Reshetiloff & Guest
URL:https://49westcoffeehouse.com/event/dean-rosenthal-friends-60-2-2-2-2-2-2-2-2-2-2-2-2-2-2-2-2-2-2-2-2-2-2-2-2-2-2-2-3-2-2-2-2-2-2-3-2-2-2-2-2-2-2-2-2-2-2-2-2-2-2-2-2-2-2-2-2-2-2-3-2-2-2-2-2-2-2-2-2-2-2-2-2-2-2-2-2-2-2-2-2-2-3-2/
LOCATION:49 West – The Front Room\, 49 West St.\, Annapolis\, MD\, 21401\, United States
CATEGORIES:Blues,Folk,Front Room,Roots-American
END:VEVENT
BEGIN:VEVENT
DTSTART;TZID=UTC:20210602T170000
DTEND;TZID=UTC:20210602T190000
DTSTAMP:20260424T133107
CREATED:20210603T175504Z
LAST-MODIFIED:20210603T175504Z
UID:11317-1622653200-1622660400@49westcoffeehouse.com
SUMMARY:Dean Rosenthal & Friends aka Hippie Happy Hour!
DESCRIPTION:  \n  \n \n  \n  \n  \nDean Rosenthal\, Jimmy Jacobs\, Rurik Reshetiloff & Guest
URL:https://49westcoffeehouse.com/event/dean-rosenthal-friends-60-2-2-2-2-2-2-2-2-2-2-2-2-2-2-2-2-2-2-2-2-2-2-2-2-2-2-2-3-2-2-2-2-2-2-3-2-2-2-2-2-2-2-2-2-2-2-2-2-2-2-2-2-2-2-2-2-2-2-3-2-2-2-2-2-2-2-2-2-2-2-2-2-2-2-2-2-2-2-2-2-2-3/
LOCATION:49 West – The Front Room\, 49 West St.\, Annapolis\, MD\, 21401\, United States
CATEGORIES:Blues,Folk,Front Room,Roots-American
END:VEVENT
BEGIN:VEVENT
DTSTART;TZID=UTC:20210602T170000
DTEND;TZID=UTC:20210602T190000
DTSTAMP:20260424T133107
CREATED:20210522T175438Z
LAST-MODIFIED:20210522T175438Z
UID:11306-1622653200-1622660400@49westcoffeehouse.com
SUMMARY:Dean Rosenthal & Friends
DESCRIPTION:  \n  \n  \n  \n  \nDean Rosenthal\, Tom Fridrich\, Gary Wright
URL:https://49westcoffeehouse.com/event/dean-rosenthal-friends-60-2-2-2-2-2-2-2-2-2-2-2-2-2-2-2-2-2-2-2-2-2-2-2-2-2-2-2-3-2-2-2-2-2-2-3-2-2-2-2-2-2-2-2-2-2-2-2-2-2-2-2-2-2-2-2-2-2-2-3-2-2-2-2-2-2-2-2-2-2-2-2-2-2-2-2-2-2-2-2-2-2-2/
LOCATION:49 West – The Front Room\, 49 West St.\, Annapolis\, MD\, 21401\, United States
CATEGORIES:Blues,Folk,Front Room,Roots-American
END:VEVENT
BEGIN:VEVENT
DTSTART;TZID=UTC:20210526T170000
DTEND;TZID=UTC:20210526T190000
DTSTAMP:20260424T133107
CREATED:20210522T175353Z
LAST-MODIFIED:20210522T175353Z
UID:11304-1622048400-1622055600@49westcoffeehouse.com
SUMMARY:Dean Rosenthal & Friends
DESCRIPTION:  \n  \n  \n  \n  \nDean Rosenthal\, Tom Fridrich\, Gary Wright
URL:https://49westcoffeehouse.com/event/dean-rosenthal-friends-60-2-2-2-2-2-2-2-2-2-2-2-2-2-2-2-2-2-2-2-2-2-2-2-2-2-2-2-3-2-2-2-2-2-2-3-2-2-2-2-2-2-2-2-2-2-2-2-2-2-2-2-2-2-2-2-2-2-2-3-2-2-2-2-2-2-2-2-2-2-2-2-2-2-2-2-2-2-2-2-2-2/
LOCATION:49 West – The Front Room\, 49 West St.\, Annapolis\, MD\, 21401\, United States
CATEGORIES:Blues,Folk,Front Room,Roots-American
END:VEVENT
BEGIN:VEVENT
DTSTART;TZID=UTC:20210519T170000
DTEND;TZID=UTC:20210519T190000
DTSTAMP:20260424T133107
CREATED:20200224T232413Z
LAST-MODIFIED:20210516T020312Z
UID:10907-1621443600-1621450800@49westcoffeehouse.com
SUMMARY:Dean Rosenthal & Friends
DESCRIPTION:  \n  \n  \n  \n  \nDean Rosenthal\, Tom Fridrich\, Gary Wright
URL:https://49westcoffeehouse.com/event/dean-rosenthal-friends-60-2-2-2-2-2-2-2-2-2-2-2-2-2-2-2-2-2-2-2-2-2-2-2-2-2-2-2-3-2-2-2-2-2-2-3-2-2-2-2-2-2-2-2-2-2-2-2-2-2-2-2-2-2-2-2-2-2-2-3-2-2-2-2-2-2-2-2-2-2-2-2-2-2-2-2-2-2-2-2-2/
LOCATION:49 West – The Front Room\, 49 West St.\, Annapolis\, MD\, 21401\, United States
CATEGORIES:Blues,Folk,Front Room,Roots-American
END:VEVENT
BEGIN:VEVENT
DTSTART;TZID=UTC:20200318T170000
DTEND;TZID=UTC:20200318T190000
DTSTAMP:20260424T133107
CREATED:20200204T031109Z
LAST-MODIFIED:20200204T031109Z
UID:10905-1584550800-1584558000@49westcoffeehouse.com
SUMMARY:Dean Rosenthal & Friends
DESCRIPTION:  \n  \n  \n  \n  \nDean Rosenthal\, Tom Fridrich\, Gary Wright
URL:https://49westcoffeehouse.com/event/dean-rosenthal-friends-60-2-2-2-2-2-2-2-2-2-2-2-2-2-2-2-2-2-2-2-2-2-2-2-2-2-2-2-3-2-2-2-2-2-2-3-2-2-2-2-2-2-2-2-2-2-2-2-2-2-2-2-2-2-2-2-2-2-2-3-2-2-2-2-2-2-2-2-2-2-2-2-2-2-2-2-2-2-2-2/
LOCATION:49 West – The Front Room\, 49 West St.\, Annapolis\, MD\, 21401\, United States
CATEGORIES:Blues,Folk,Front Room,Roots-American
END:VEVENT
BEGIN:VEVENT
DTSTART;TZID=UTC:20200304T170000
DTEND;TZID=UTC:20200304T190000
DTSTAMP:20260424T133107
CREATED:20200204T030956Z
LAST-MODIFIED:20200204T030956Z
UID:10903-1583341200-1583348400@49westcoffeehouse.com
SUMMARY:Dean Rosenthal & Friends
DESCRIPTION:  \n  \n  \n  \n  \nDean Rosenthal\, Tom Fridrich\, Gary Wright
URL:https://49westcoffeehouse.com/event/dean-rosenthal-friends-60-2-2-2-2-2-2-2-2-2-2-2-2-2-2-2-2-2-2-2-2-2-2-2-2-2-2-2-3-2-2-2-2-2-2-3-2-2-2-2-2-2-2-2-2-2-2-2-2-2-2-2-2-2-2-2-2-2-2-3-2-2-2-2-2-2-2-2-2-2-2-2-2-2-2-2-2-2-2/
LOCATION:49 West – The Front Room\, 49 West St.\, Annapolis\, MD\, 21401\, United States
CATEGORIES:Blues,Folk,Front Room,Roots-American
END:VEVENT
BEGIN:VEVENT
DTSTART;TZID=UTC:20200226T170000
DTEND;TZID=UTC:20200226T190000
DTSTAMP:20260424T133107
CREATED:20191229T190415Z
LAST-MODIFIED:20191229T190416Z
UID:10511-1582736400-1582743600@49westcoffeehouse.com
SUMMARY:Dean Rosenthal & Friends
DESCRIPTION:  \n  \n  \n  \n  \nDean Rosenthal\, Tom Fridrich\, Gary Wright
URL:https://49westcoffeehouse.com/event/dean-rosenthal-friends-60-2-2-2-2-2-2-2-2-2-2-2-2-2-2-2-2-2-2-2-2-2-2-2-2-2-2-2-3-2-2-2-2-2-2-3-2-2-2-2-2-2-2-2-2-2-2-2-2-2-2-2-2-2-2-2-2-2-2-3-2-2-2-2-2-2-2-2-2-2-2-2-2-2-2-2-2-2/
LOCATION:49 West – The Front Room\, 49 West St.\, Annapolis\, MD\, 21401\, United States
CATEGORIES:Blues,Folk,Front Room,Roots-American
END:VEVENT
BEGIN:VEVENT
DTSTART;TZID=UTC:20200219T170000
DTEND;TZID=UTC:20200219T190000
DTSTAMP:20260424T133107
CREATED:20191229T190322Z
LAST-MODIFIED:20191229T190322Z
UID:10509-1582131600-1582138800@49westcoffeehouse.com
SUMMARY:Dean Rosenthal & Friends
DESCRIPTION:  \n  \n  \n  \n  \nDean Rosenthal\, Tom Fridrich\, Gary Wright
URL:https://49westcoffeehouse.com/event/dean-rosenthal-friends-60-2-2-2-2-2-2-2-2-2-2-2-2-2-2-2-2-2-2-2-2-2-2-2-2-2-2-2-3-2-2-2-2-2-2-3-2-2-2-2-2-2-2-2-2-2-2-2-2-2-2-2-2-2-2-2-2-2-2-3-2-2-2-2-2-2-2-2-2-2-2-2-2-2-2-2-2/
LOCATION:49 West – The Front Room\, 49 West St.\, Annapolis\, MD\, 21401\, United States
CATEGORIES:Blues,Folk,Front Room,Roots-American
END:VEVENT
BEGIN:VEVENT
DTSTART;TZID=UTC:20200205T170000
DTEND;TZID=UTC:20200205T190000
DTSTAMP:20260424T133107
CREATED:20191229T190233Z
LAST-MODIFIED:20191229T190233Z
UID:10507-1580922000-1580929200@49westcoffeehouse.com
SUMMARY:Dean Rosenthal & Friends
DESCRIPTION:  \n  \n  \n  \n  \nDean Rosenthal\, Tom Fridrich\, Gary Wright
URL:https://49westcoffeehouse.com/event/dean-rosenthal-friends-60-2-2-2-2-2-2-2-2-2-2-2-2-2-2-2-2-2-2-2-2-2-2-2-2-2-2-2-3-2-2-2-2-2-2-3-2-2-2-2-2-2-2-2-2-2-2-2-2-2-2-2-2-2-2-2-2-2-2-3-2-2-2-2-2-2-2-2-2-2-2-2-2-2-2-2/
LOCATION:49 West – The Front Room\, 49 West St.\, Annapolis\, MD\, 21401\, United States
CATEGORIES:Blues,Folk,Front Room,Roots-American
END:VEVENT
BEGIN:VEVENT
DTSTART;TZID=UTC:20200129T170000
DTEND;TZID=UTC:20200129T190000
DTSTAMP:20260424T133107
CREATED:20191229T190127Z
LAST-MODIFIED:20191229T190127Z
UID:10505-1580317200-1580324400@49westcoffeehouse.com
SUMMARY:Dean Rosenthal & Friends
DESCRIPTION:  \n  \n  \n  \n  \nDean Rosenthal\, Tom Fridrich\, Gary Wright
URL:https://49westcoffeehouse.com/event/dean-rosenthal-friends-60-2-2-2-2-2-2-2-2-2-2-2-2-2-2-2-2-2-2-2-2-2-2-2-2-2-2-2-3-2-2-2-2-2-2-3-2-2-2-2-2-2-2-2-2-2-2-2-2-2-2-2-2-2-2-2-2-2-2-3-2-2-2-2-2-2-2-2-2-2-2-2-2-2-2/
LOCATION:49 West – The Front Room\, 49 West St.\, Annapolis\, MD\, 21401\, United States
CATEGORIES:Blues,Folk,Front Room,Roots-American
END:VEVENT
BEGIN:VEVENT
DTSTART;TZID=UTC:20200122T170000
DTEND;TZID=UTC:20200122T190000
DTSTAMP:20260424T133107
CREATED:20191229T185841Z
LAST-MODIFIED:20191229T185841Z
UID:10503-1579712400-1579719600@49westcoffeehouse.com
SUMMARY:Dean Rosenthal & Friends
DESCRIPTION:  \n  \n  \n  \n  \nDean Rosenthal\, Tom Fridrich\, Gary Wright
URL:https://49westcoffeehouse.com/event/dean-rosenthal-friends-60-2-2-2-2-2-2-2-2-2-2-2-2-2-2-2-2-2-2-2-2-2-2-2-2-2-2-2-3-2-2-2-2-2-2-3-2-2-2-2-2-2-2-2-2-2-2-2-2-2-2-2-2-2-2-2-2-2-2-3-2-2-2-2-2-2-2-2-2-2-2-2-2-2/
LOCATION:49 West – The Front Room\, 49 West St.\, Annapolis\, MD\, 21401\, United States
CATEGORIES:Blues,Folk,Front Room,Roots-American
END:VEVENT
BEGIN:VEVENT
DTSTART;TZID=UTC:20200115T170000
DTEND;TZID=UTC:20200115T190000
DTSTAMP:20260424T133107
CREATED:20191229T185505Z
LAST-MODIFIED:20191229T185505Z
UID:10501-1579107600-1579114800@49westcoffeehouse.com
SUMMARY:Dean Rosenthal & Friends
DESCRIPTION:  \n  \n  \n  \n  \nDean Rosenthal\, Tom Fridrich\, Gary Wright
URL:https://49westcoffeehouse.com/event/dean-rosenthal-friends-60-2-2-2-2-2-2-2-2-2-2-2-2-2-2-2-2-2-2-2-2-2-2-2-2-2-2-2-3-2-2-2-2-2-2-3-2-2-2-2-2-2-2-2-2-2-2-2-2-2-2-2-2-2-2-2-2-2-2-3-2-2-2-2-2-2-2-2-2-2-2-2-2/
LOCATION:49 West – The Front Room\, 49 West St.\, Annapolis\, MD\, 21401\, United States
CATEGORIES:Blues,Folk,Front Room,Roots-American
END:VEVENT
BEGIN:VEVENT
DTSTART;TZID=UTC:20200101T170000
DTEND;TZID=UTC:20200101T190000
DTSTAMP:20260424T133107
CREATED:20191229T185326Z
LAST-MODIFIED:20191229T185326Z
UID:10499-1577898000-1577905200@49westcoffeehouse.com
SUMMARY:Dean Rosenthal & Friends
DESCRIPTION:  \n  \n  \n  \n  \nRing in the New Year at Happy Hour with Dean Rosenthal’s  Racket! \nDean Rosenthal\, Tom Fridrich\, Gary Wright
URL:https://49westcoffeehouse.com/event/dean-rosenthal-friends-60-2-2-2-2-2-2-2-2-2-2-2-2-2-2-2-2-2-2-2-2-2-2-2-2-2-2-2-3-2-2-2-2-2-2-3-2-2-2-2-2-2-2-2-2-2-2-2-2-2-2-2-2-2-2-2-2-2-2-3-2-2-2-2-2-2-2-2-2-2-2-2/
LOCATION:49 West – The Front Room\, 49 West St.\, Annapolis\, MD\, 21401\, United States
CATEGORIES:Blues,Folk,Front Room,Roots-American
END:VEVENT
BEGIN:VEVENT
DTSTART;TZID=UTC:20191218T170000
DTEND;TZID=UTC:20191218T190000
DTSTAMP:20260424T133107
CREATED:20191028T221707Z
LAST-MODIFIED:20191028T221707Z
UID:10293-1576688400-1576695600@49westcoffeehouse.com
SUMMARY:Dean Rosenthal & Friends
DESCRIPTION:  \n  \n  \n  \n  \nDean Rosenthal\, Tom Fridrich\, Gary Wright
URL:https://49westcoffeehouse.com/event/dean-rosenthal-friends-60-2-2-2-2-2-2-2-2-2-2-2-2-2-2-2-2-2-2-2-2-2-2-2-2-2-2-2-3-2-2-2-2-2-2-3-2-2-2-2-2-2-2-2-2-2-2-2-2-2-2-2-2-2-2-2-2-2-2-3-2-2-2-2-2-2-2-2-2-2-2/
LOCATION:49 West – The Front Room\, 49 West St.\, Annapolis\, MD\, 21401\, United States
CATEGORIES:Blues,Folk,Front Room,Roots-American
END:VEVENT
BEGIN:VEVENT
DTSTART;TZID=UTC:20191204T170000
DTEND;TZID=UTC:20191204T190000
DTSTAMP:20260424T133107
CREATED:20191028T221619Z
LAST-MODIFIED:20191028T221619Z
UID:10291-1575478800-1575486000@49westcoffeehouse.com
SUMMARY:Dean Rosenthal & Friends
DESCRIPTION:  \n  \n  \n  \n  \nDean Rosenthal\, Tom Fridrich\, Gary Wright
URL:https://49westcoffeehouse.com/event/dean-rosenthal-friends-60-2-2-2-2-2-2-2-2-2-2-2-2-2-2-2-2-2-2-2-2-2-2-2-2-2-2-2-3-2-2-2-2-2-2-3-2-2-2-2-2-2-2-2-2-2-2-2-2-2-2-2-2-2-2-2-2-2-2-3-2-2-2-2-2-2-2-2-2-2/
LOCATION:49 West – The Front Room\, 49 West St.\, Annapolis\, MD\, 21401\, United States
CATEGORIES:Blues,Folk,Front Room,Roots-American
END:VEVENT
BEGIN:VEVENT
DTSTART;TZID=UTC:20191127T170000
DTEND;TZID=UTC:20191127T190000
DTSTAMP:20260424T133107
CREATED:20191003T182838Z
LAST-MODIFIED:20191003T182838Z
UID:10103-1574874000-1574881200@49westcoffeehouse.com
SUMMARY:Dean Rosenthal & Friends
DESCRIPTION:  \n  \n  \n  \n  \nDean Rosenthal\, Tom Fridrich\, Gary Wright
URL:https://49westcoffeehouse.com/event/dean-rosenthal-friends-60-2-2-2-2-2-2-2-2-2-2-2-2-2-2-2-2-2-2-2-2-2-2-2-2-2-2-2-3-2-2-2-2-2-2-3-2-2-2-2-2-2-2-2-2-2-2-2-2-2-2-2-2-2-2-2-2-2-2-3-2-2-2-2-2-2-2-2-2/
LOCATION:49 West – The Front Room\, 49 West St.\, Annapolis\, MD\, 21401\, United States
CATEGORIES:Blues,Folk,Front Room,Roots-American
END:VEVENT
BEGIN:VEVENT
DTSTART;TZID=UTC:20191120T170000
DTEND;TZID=UTC:20191120T190000
DTSTAMP:20260424T133107
CREATED:20191003T182753Z
LAST-MODIFIED:20191003T182753Z
UID:10101-1574269200-1574276400@49westcoffeehouse.com
SUMMARY:Dean Rosenthal & Friends
DESCRIPTION:  \n  \n  \n  \n  \nDean Rosenthal\, Tom Fridrich\, Gary Wright
URL:https://49westcoffeehouse.com/event/dean-rosenthal-friends-60-2-2-2-2-2-2-2-2-2-2-2-2-2-2-2-2-2-2-2-2-2-2-2-2-2-2-2-3-2-2-2-2-2-2-3-2-2-2-2-2-2-2-2-2-2-2-2-2-2-2-2-2-2-2-2-2-2-2-3-2-2-2-2-2-2-2-2/
LOCATION:49 West – The Front Room\, 49 West St.\, Annapolis\, MD\, 21401\, United States
CATEGORIES:Blues,Folk,Front Room,Roots-American
END:VEVENT
BEGIN:VEVENT
DTSTART;TZID=UTC:20191106T170000
DTEND;TZID=UTC:20191106T190000
DTSTAMP:20260424T133107
CREATED:20191003T182707Z
LAST-MODIFIED:20191003T182707Z
UID:10099-1573059600-1573066800@49westcoffeehouse.com
SUMMARY:Dean Rosenthal & Friends
DESCRIPTION:  \n  \n  \n  \n  \nDean Rosenthal\, Tom Fridrich\, Gary Wright
URL:https://49westcoffeehouse.com/event/dean-rosenthal-friends-60-2-2-2-2-2-2-2-2-2-2-2-2-2-2-2-2-2-2-2-2-2-2-2-2-2-2-2-3-2-2-2-2-2-2-3-2-2-2-2-2-2-2-2-2-2-2-2-2-2-2-2-2-2-2-2-2-2-2-3-2-2-2-2-2-2-2/
LOCATION:49 West – The Front Room\, 49 West St.\, Annapolis\, MD\, 21401\, United States
CATEGORIES:Blues,Folk,Front Room,Roots-American
END:VEVENT
BEGIN:VEVENT
DTSTART;TZID=UTC:20191030T170000
DTEND;TZID=UTC:20191030T190000
DTSTAMP:20260424T133107
CREATED:20190903T205902Z
LAST-MODIFIED:20190903T205902Z
UID:7642-1572454800-1572462000@49westcoffeehouse.com
SUMMARY:Dean Rosenthal & Friends
DESCRIPTION:  \n  \n  \n  \n  \nDean Rosenthal\, Tom Fridrich\, Gary Wright
URL:https://49westcoffeehouse.com/event/dean-rosenthal-friends-60-2-2-2-2-2-2-2-2-2-2-2-2-2-2-2-2-2-2-2-2-2-2-2-2-2-2-2-3-2-2-2-2-2-2-3-2-2-2-2-2-2-2-2-2-2-2-2-2-2-2-2-2-2-2-2-2-2-2-3-2-2-2-2-2-2/
LOCATION:49 West – The Front Room\, 49 West St.\, Annapolis\, MD\, 21401\, United States
CATEGORIES:Blues,Folk,Front Room,Roots-American
END:VEVENT
BEGIN:VEVENT
DTSTART;TZID=UTC:20191023T170000
DTEND;TZID=UTC:20191023T190000
DTSTAMP:20260424T133107
CREATED:20190903T205815Z
LAST-MODIFIED:20190903T205815Z
UID:7640-1571850000-1571857200@49westcoffeehouse.com
SUMMARY:Dean Rosenthal & Friends
DESCRIPTION:  \n  \n  \n  \n  \nDean Rosenthal\, Tom Fridrich\, Gary Wright
URL:https://49westcoffeehouse.com/event/dean-rosenthal-friends-60-2-2-2-2-2-2-2-2-2-2-2-2-2-2-2-2-2-2-2-2-2-2-2-2-2-2-2-3-2-2-2-2-2-2-3-2-2-2-2-2-2-2-2-2-2-2-2-2-2-2-2-2-2-2-2-2-2-2-3-2-2-2-2-2/
LOCATION:49 West – The Front Room\, 49 West St.\, Annapolis\, MD\, 21401\, United States
CATEGORIES:Blues,Folk,Front Room,Roots-American
END:VEVENT
END:VCALENDAR