BEGIN:VCALENDAR
VERSION:2.0
PRODID:-//49 West - Coffeehouse, Winebar &amp; Gallery / Annapolis, Maryland - ECPv6.15.20//NONSGML v1.0//EN
CALSCALE:GREGORIAN
METHOD:PUBLISH
X-ORIGINAL-URL:https://49westcoffeehouse.com
X-WR-CALDESC:Events for 49 West - Coffeehouse, Winebar &amp; Gallery / Annapolis, Maryland
REFRESH-INTERVAL;VALUE=DURATION:PT1H
X-Robots-Tag:noindex
X-PUBLISHED-TTL:PT1H
BEGIN:VTIMEZONE
TZID:America/Halifax
BEGIN:DAYLIGHT
TZOFFSETFROM:-0400
TZOFFSETTO:-0300
TZNAME:ADT
DTSTART:20230312T060000
END:DAYLIGHT
BEGIN:STANDARD
TZOFFSETFROM:-0300
TZOFFSETTO:-0400
TZNAME:AST
DTSTART:20231105T050000
END:STANDARD
BEGIN:DAYLIGHT
TZOFFSETFROM:-0400
TZOFFSETTO:-0300
TZNAME:ADT
DTSTART:20240310T060000
END:DAYLIGHT
BEGIN:STANDARD
TZOFFSETFROM:-0300
TZOFFSETTO:-0400
TZNAME:AST
DTSTART:20241103T050000
END:STANDARD
BEGIN:DAYLIGHT
TZOFFSETFROM:-0400
TZOFFSETTO:-0300
TZNAME:ADT
DTSTART:20250309T060000
END:DAYLIGHT
BEGIN:STANDARD
TZOFFSETFROM:-0300
TZOFFSETTO:-0400
TZNAME:AST
DTSTART:20251102T050000
END:STANDARD
END:VTIMEZONE
BEGIN:VTIMEZONE
TZID:UTC
BEGIN:STANDARD
TZOFFSETFROM:+0000
TZOFFSETTO:+0000
TZNAME:UTC
DTSTART:20230101T000000
END:STANDARD
END:VTIMEZONE
BEGIN:VEVENT
DTSTART;TZID=America/Halifax:20240802T200000
DTEND;TZID=America/Halifax:20240802T223000
DTSTAMP:20260423T091650
CREATED:20240727T180858Z
LAST-MODIFIED:20240730T050630Z
UID:16059-1722628800-1722637800@49westcoffeehouse.com
SUMMARY:1st Fridays at 49 West with Sam Farthing\, Sami Arefin & Zach Zerlét
DESCRIPTION:Friday\, August 2\nWhat: 1st Fridays at 49 West with Sam Farthing\, Sami Arefin & Zach Zerlét\nWhere: 49 West Café\, 49 West Street Annapolis\, Md 21401\nMore: 8pm to 10:30 pm  / $15\nFood\, Drinks and swell friends \nSam Farthing Music
URL:https://49westcoffeehouse.com/event/sam-farthing-jazz-trio/
ATTACH;FMTTYPE=image/png:https://49westcoffeehouse.com/wp-content/uploads/2024/07/IMG_2828.png
END:VEVENT
BEGIN:VEVENT
DTSTART;TZID=America/Halifax:20240803T193000
DTEND;TZID=America/Halifax:20240803T223000
DTSTAMP:20260423T091650
CREATED:20240727T182127Z
LAST-MODIFIED:20240729T183942Z
UID:16071-1722713400-1722724200@49westcoffeehouse.com
SUMMARY:The Solid Sender Trio
DESCRIPTION:  \n \nPlease call for reservations at 410-626-9796. \nSolid Sender -Leslie Agre\, Rurik Reshetilof and Jimmy Jacobs
URL:https://49westcoffeehouse.com/event/the-solid-sender-trio-3-2-2-2-2-3-2-2-2-2-2-2-2-2-3-2-2-2-2-2-2-2-2/
ATTACH;FMTTYPE=image/jpeg:https://49westcoffeehouse.com/wp-content/uploads/2021/06/189267113_953711248799962_523674880269339458_n.jpg
END:VEVENT
BEGIN:VEVENT
DTSTART;TZID=America/Halifax:20240805T193000
DTEND;TZID=America/Halifax:20240805T220000
DTSTAMP:20260423T091650
CREATED:20240727T183311Z
LAST-MODIFIED:20240729T221320Z
UID:16084-1722886200-1722895200@49westcoffeehouse.com
SUMMARY:Back Room Sessions with Jennifer Schimpf & Anthony Frijia hosted by Skribe
DESCRIPTION:Next Monday Aug 5th at 49 West Annapolis. Jenn Schimpf\, Anthony Frijia\, & Skribe. Call for a reservation.
URL:https://49westcoffeehouse.com/event/back-room-sessions-hosted-by-skribe/
ATTACH;FMTTYPE=image/jpeg:https://49westcoffeehouse.com/wp-content/uploads/2024/07/IMG_2815-scaled.jpeg
END:VEVENT
BEGIN:VEVENT
DTSTART;TZID=UTC:20240806T190000
DTEND;TZID=UTC:20240806T213000
DTSTAMP:20260423T091650
CREATED:20240727T175619Z
LAST-MODIFIED:20240727T175619Z
UID:16049-1722970800-1722979800@49westcoffeehouse.com
SUMMARY:Unified Jazz Ensemble
DESCRIPTION:The Unified Jazz Ensemble is a dynamic group of masterful musicians from the USA. This ensemble has years of experience educating and entertaining diverse audiences. This is acoustic jazz\, a classic American art form\, done to perfection with audience interaction at its best.
URL:https://49westcoffeehouse.com/event/unified-jazz-ensemble-96-2-2-2-2-2-2-3-2-2-2-2-2-2-2-2-2-2-2-2-2-2-2-2-2-2-2-2-2-2-2-2-2-2-3-2-2-3-2-2-2-2-2-2-2-2-2-2-2-2-2-2-3-2-2-2-2-2-2-3-2-2-2-2-2-2-2-2-2-2-2-2-2-2-3-2-2-2-2-2-2-2-2-2-2-2-2-105/
LOCATION:49 West – The Back Room\, 49 West St.\, Annapolis\, MD\, 21401\, United States
ATTACH;FMTTYPE=image/jpeg:https://49westcoffeehouse.com/wp-content/uploads/2016/07/image.jpeg
END:VEVENT
BEGIN:VEVENT
DTSTART;TZID=UTC:20240806T190000
DTEND;TZID=UTC:20240806T213000
DTSTAMP:20260423T091650
CREATED:20240727T175953Z
LAST-MODIFIED:20240727T175953Z
UID:16051-1722970800-1722979800@49westcoffeehouse.com
SUMMARY:Unified Jazz Ensemble
DESCRIPTION:The Unified Jazz Ensemble is a dynamic group of masterful musicians from the USA. This ensemble has years of experience educating and entertaining diverse audiences. This is acoustic jazz\, a classic American art form\, done to perfection with audience interaction at its best.
URL:https://49westcoffeehouse.com/event/unified-jazz-ensemble-96-2-2-2-2-2-2-3-2-2-2-2-2-2-2-2-2-2-2-2-2-2-2-2-2-2-2-2-2-2-2-2-2-2-3-2-2-3-2-2-2-2-2-2-2-2-2-2-2-2-2-2-3-2-2-2-2-2-2-3-2-2-2-2-2-2-2-2-2-2-2-2-2-2-3-2-2-2-2-2-2-2-2-2-2-2-2-110/
LOCATION:49 West – The Back Room\, 49 West St.\, Annapolis\, MD\, 21401\, United States
ATTACH;FMTTYPE=image/jpeg:https://49westcoffeehouse.com/wp-content/uploads/2016/07/image.jpeg
END:VEVENT
BEGIN:VEVENT
DTSTART;TZID=UTC:20240807T170000
DTEND;TZID=UTC:20240807T190000
DTSTAMP:20260423T091650
CREATED:20240624T221950Z
LAST-MODIFIED:20240624T221950Z
UID:15893-1723050000-1723057200@49westcoffeehouse.com
SUMMARY:Dave Chappell & Friends- AKA HippieHappy Hour
DESCRIPTION:Dave Chappell\, Jimmy Jacobs\, Rurik Reshetiloff & more!
URL:https://49westcoffeehouse.com/event/dean-rosenthal-friends-60-2-2-2-2-2-2-2-2-2-2-2-2-2-2-2-2-2-2-2-2-2-2-2-2-2-2-2-3-2-2-2-2-2-2-3-2-2-2-2-2-2-2-2-2-2-2-2-2-2-2-2-2-2-2-2-2-2-2-3-2-2-2-2-2-2-2-2-2-2-2-2-2-2-2-2-2-2-2-2-2-2-3-2-2-2-1-23/
LOCATION:49 West – The Front Room\, 49 West St.\, Annapolis\, MD\, 21401\, United States
ATTACH;FMTTYPE=image/jpeg:https://49westcoffeehouse.com/wp-content/uploads/2021/06/8C3B9EB8-D24E-4351-8EE3-E55ADEB7360B.jpeg
END:VEVENT
BEGIN:VEVENT
DTSTART;TZID=America/Halifax:20240808T193000
DTEND;TZID=America/Halifax:20240808T213000
DTSTAMP:20260423T091650
CREATED:20240727T182933Z
LAST-MODIFIED:20240727T182933Z
UID:16077-1723145400-1723152600@49westcoffeehouse.com
SUMMARY:The Annapolis RoundUp
DESCRIPTION:
URL:https://49westcoffeehouse.com/event/the-annapolis-roundup-2-2-2/
ATTACH;FMTTYPE=image/jpeg:https://49westcoffeehouse.com/wp-content/uploads/2024/04/ALT-COPY-of-Round-Up-PRINT-1080-x-1350-px.jpeg
END:VEVENT
BEGIN:VEVENT
DTSTART;TZID=America/Halifax:20240809T193000
DTEND;TZID=America/Halifax:20240809T220000
DTSTAMP:20260423T091650
CREATED:20240802T224022Z
LAST-MODIFIED:20240802T224130Z
UID:16149-1723231800-1723240800@49westcoffeehouse.com
SUMMARY:Zachariah Lambert Trio
DESCRIPTION:Zachariah Lambert Trio \nZachariah Lambert – Guitar\nRiley Young – Drums\nMike Graham Jr. – Bass \nZachariah Lambert is a guitarist\, composer and arranger based in Brooklyn\, NY. Zachariah avidly studies jazz and classical traditions while remaining true to his roots in blues and rock guitar. Balancing the roles of performer and composer\, Zach actively combines elements of all his influences\, defying the limits of genre and challenging audiences’ expectations of what music can be.
URL:https://49westcoffeehouse.com/event/zachariah-lambert-trio/
ATTACH;FMTTYPE=image/jpeg:https://49westcoffeehouse.com/wp-content/uploads/2024/08/ZL-Landscape.jpeg
END:VEVENT
BEGIN:VEVENT
DTSTART;TZID=America/Halifax:20240810T193000
DTEND;TZID=America/Halifax:20240810T220000
DTSTAMP:20260423T091650
CREATED:20240806T223122Z
LAST-MODIFIED:20240806T223122Z
UID:16159-1723318200-1723327200@49westcoffeehouse.com
SUMMARY:Jeanette Lynn & TBA
DESCRIPTION:
URL:https://49westcoffeehouse.com/event/jeanette-lynn-tba/
END:VEVENT
BEGIN:VEVENT
DTSTART;TZID=America/Halifax:20240812T193000
DTEND;TZID=America/Halifax:20240812T220000
DTSTAMP:20260423T091650
CREATED:20240727T185550Z
LAST-MODIFIED:20240727T185550Z
UID:16090-1723491000-1723500000@49westcoffeehouse.com
SUMMARY:2nd Monday Songwriters Showcase
DESCRIPTION:Charles Kavoossi\, Rik Ferrell\, and Jen and Scott Smith of Naked Blue.
URL:https://49westcoffeehouse.com/event/2nd-monday-songwriters-showcase-23/
ATTACH;FMTTYPE=image/jpeg:https://49westcoffeehouse.com/wp-content/uploads/2024/07/aeea027b-cf5f-4cae-a2f6-899c6c29e0a0.jpg
END:VEVENT
BEGIN:VEVENT
DTSTART;TZID=UTC:20240813T190000
DTEND;TZID=UTC:20240813T213000
DTSTAMP:20260423T091650
CREATED:20240727T180223Z
LAST-MODIFIED:20240727T180223Z
UID:16053-1723575600-1723584600@49westcoffeehouse.com
SUMMARY:Unified Jazz Ensemble
DESCRIPTION:The Unified Jazz Ensemble is a dynamic group of masterful musicians from the USA. This ensemble has years of experience educating and entertaining diverse audiences. This is acoustic jazz\, a classic American art form\, done to perfection with audience interaction at its best.
URL:https://49westcoffeehouse.com/event/unified-jazz-ensemble-96-2-2-2-2-2-2-3-2-2-2-2-2-2-2-2-2-2-2-2-2-2-2-2-2-2-2-2-2-2-2-2-2-2-3-2-2-3-2-2-2-2-2-2-2-2-2-2-2-2-2-2-3-2-2-2-2-2-2-3-2-2-2-2-2-2-2-2-2-2-2-2-2-2-3-2-2-2-2-2-2-2-2-2-2-2-2-111/
LOCATION:49 West – The Back Room\, 49 West St.\, Annapolis\, MD\, 21401\, United States
ATTACH;FMTTYPE=image/jpeg:https://49westcoffeehouse.com/wp-content/uploads/2016/07/image.jpeg
END:VEVENT
BEGIN:VEVENT
DTSTART;TZID=America/Halifax:20240814T170000
DTEND;TZID=America/Halifax:20240814T190000
DTSTAMP:20260423T091650
CREATED:20240624T225210Z
LAST-MODIFIED:20240624T225210Z
UID:15941-1723654800-1723662000@49westcoffeehouse.com
SUMMARY:Pam & Paula  Classical Duo
DESCRIPTION:Join us for classical night every 2nd Wednesday of the month.
URL:https://49westcoffeehouse.com/event/pam-godfrey-classical-duo-2-2-2-2-2-2-2-2-2-2-2-3-2-2-2-2-2-3-2/
CATEGORIES:Front Room
ATTACH;FMTTYPE=image/jpeg:https://49westcoffeehouse.com/wp-content/uploads/2016/07/12310651_10153754538979795_6551929407477628731_n.jpg
END:VEVENT
BEGIN:VEVENT
DTSTART;TZID=America/Halifax:20240814T200000
DTEND;TZID=America/Halifax:20240814T223000
DTSTAMP:20260423T091650
CREATED:20240727T190223Z
LAST-MODIFIED:20240727T190223Z
UID:16099-1723665600-1723674600@49westcoffeehouse.com
SUMMARY:Songbird Collective
DESCRIPTION:
URL:https://49westcoffeehouse.com/event/songbird-collective/
END:VEVENT
BEGIN:VEVENT
DTSTART;TZID=America/Halifax:20240815T193000
DTEND;TZID=America/Halifax:20240815T223000
DTSTAMP:20260423T091650
CREATED:20240727T183434Z
LAST-MODIFIED:20240727T183434Z
UID:16086-1723750200-1723761000@49westcoffeehouse.com
SUMMARY:Jazz Wire Jam Session
DESCRIPTION:Jeff Antoniuk’s Monthly JazzWire Jam Session\n 7:30 pm – 10:30 pm ($10 cover) \nOne of the top jazz jam sessions in the DC/MD/VA area is right here at 49 West! Hosted by jazz education legend Jeff Antoniuk\, and sponsored by JazzWire (www.JazzWire.net)\, this is friendly\, welcoming and swinging good time. Adult amateurs and semi-pros\, high school students and hot shot college players all converge on the 3rd Thursday of the month to share their stuff. \nThe first set (7:30pm) features one of Jeff Antoniuk’s Jazz Band Masterclass  (www.JazzBandMasterclass.com) groups in concert. From 8:30pm on\, they are the house band for the jam session. Come one\, come all\, and tell your friends. There isn’t a more fun night out this month!   Cover $10
URL:https://49westcoffeehouse.com/event/american-roots-with-gary-wright-and-leah-weiss-2-2-2-3-2-2-2-3-2-2-2-2-2-2-2-2-3-2-2-2-2-2-2-2-2/
ATTACH;FMTTYPE=image/jpeg:https://49westcoffeehouse.com/wp-content/uploads/2021/11/F97DB336-05CF-459A-ADC8-ED97B6201FBD-1.jpeg
END:VEVENT
BEGIN:VEVENT
DTSTART;TZID=America/Halifax:20240816T190000
DTEND;TZID=America/Halifax:20240816T230000
DTSTAMP:20260423T091650
CREATED:20240727T181608Z
LAST-MODIFIED:20240727T181608Z
UID:16064-1723834800-1723849200@49westcoffeehouse.com
SUMMARY:Daphne Eckman Band with JOBIE and Dogs In Green
DESCRIPTION:Daphne Eckman and JOBIE\, an indie folk songwriter based in Richmond\, VA will be headlining\, the last night of their tour (and her birthday!!) with other Richmond band ‘dogs in green’\nTickets are $25\, reserve tables now!!\ncall 410-626-9796
URL:https://49westcoffeehouse.com/event/daphne-eckman-band-with-jobie-and-dogs-in-green/
ATTACH;FMTTYPE=image/jpeg:https://49westcoffeehouse.com/wp-content/uploads/2024/07/452565965_1036530431812802_7406512188993601986_n.jpg
END:VEVENT
BEGIN:VEVENT
DTSTART;TZID=America/Halifax:20240817T193000
DTEND;TZID=America/Halifax:20240817T223000
DTSTAMP:20260423T091650
CREATED:20240812T135540Z
LAST-MODIFIED:20240814T161906Z
UID:16164-1723923000-1723933800@49westcoffeehouse.com
SUMMARY:Hester Prynne & The Allnighters
DESCRIPTION:Russell Stone\, Jimmy Jacobs\, Leslie Webber\, Rurik Reshetiloff & Kevin Whisman
URL:https://49westcoffeehouse.com/event/tba-6-2/
ATTACH;FMTTYPE=image/jpeg:https://49westcoffeehouse.com/wp-content/uploads/2024/06/IMG_2762.jpeg
END:VEVENT
BEGIN:VEVENT
DTSTART;TZID=America/Halifax:20240817T193000
DTEND;TZID=America/Halifax:20240817T230000
DTSTAMP:20260423T091650
CREATED:20240729T185028Z
LAST-MODIFIED:20240729T185028Z
UID:16123-1723923000-1723935600@49westcoffeehouse.com
SUMMARY:Dean Rosenthal’s 4 Piece Racket
DESCRIPTION:
URL:https://49westcoffeehouse.com/event/dean-rosenthals-4-piece-racket-3/
END:VEVENT
BEGIN:VEVENT
DTSTART;TZID=America/Halifax:20240818T193000
DTEND;TZID=America/Halifax:20240818T210000
DTSTAMP:20260423T091650
CREATED:20240727T183226Z
LAST-MODIFIED:20240729T221642Z
UID:16082-1724009400-1724014800@49westcoffeehouse.com
SUMMARY:Dream Punch with Foolish Pleasure and Joe Norton
DESCRIPTION:
URL:https://49westcoffeehouse.com/event/dream-punch-3/
ATTACH;FMTTYPE=image/jpeg:https://49westcoffeehouse.com/wp-content/uploads/2024/07/IMG_2817-scaled.jpeg
END:VEVENT
BEGIN:VEVENT
DTSTART;TZID=America/Halifax:20240819T193000
DTEND;TZID=America/Halifax:20240819T220000
DTSTAMP:20260423T091650
CREATED:20240727T185737Z
LAST-MODIFIED:20240727T185737Z
UID:16093-1724095800-1724104800@49westcoffeehouse.com
SUMMARY:ITZALL GOODE and SHC Music Tribe Present Tommy Womack with Special Guest Jay Byrd
DESCRIPTION:Monday\, August 19 at 7:30 PM\nITZALL GOODE and SHC Music Tribe Present\nTommy Womack with Special Guest Jay Byrd\nTickets $20 Door $23 – https://tommywomack.bpt.me\nIf you reserve an advanced ticket\, do not call the venue to reserve a seat. Your ticket is your reservation. If you do not want to buy a ticket online\, you can make a reservation by calling 410-626-9796 For more info\, email shcmusictribe@gmail.com\nABOUT TOMMY: tommywomack.com\n“Long a fixture of the Nashville music scene\, he just keeps getting better and better. Songs come from a tortured & sometimes uniquely humorous perspective and make the opening set fly by. If Tommy plays your town make a point to catch him in his element\, you will not be disappointed.”\n-Americana Highways\nTommy has appeared on David Letterman and Jay Leno. He has played with Matraca Berg\, David Olney\, Todd Snider\, Peter Cooper\, Marshall Chapman\, and Will Kimbrough to name but a few. Jimmy Buffet recorded ” Nobody From Nowhere” written by Tommy and Will Kimbrough Buffet Hotel released in 2009. https://www.youtube.com/watch?v=Fb0W7bOLN1o\nNashville rock veteran Tommy Womack acknowledges using a little poetic license. He began gs with the Bowling Green\, Ky.-based indie-rock outfit Government Cheese and his time in The Bis-Quits through his two-decade-plus solo career and his work in the group Daddy. Also a one-time member of the brilliantly named Government Cheese\, By the late ’90s he spun off as a solo artist and has gone strong ever since (not counting a serious and temporarily debilitating car wreck\, and a stint in rehab). Tommy is a troubadour who’s nearly seen and done it all\, and he gives it right back to his audiences and fans via a telltale\, sung/spoken delivery system that’s nakedly frank\, plaintive\, and amusing. Tommy has spent the bulk of his solo career sliding closer to the roots music scene\,\nCritics praise Womack’s songwriting abilities\, pointing out the numerous characters that live in his songs. However\, Womacks true strength is in his composition of memorable lines\, clever and intelligent lyrical bombs often thrown into the middle of songs to infect the listeners’ consciousness days after hearing a song. Witness some of the poetic explosives hidden in the songs on Stubborn: Id crawl back in the womb right now if Jesus would show up and point the way. Gonna find me a woman who won’t fall apart on the witness stand. I want to be a Christian rocker but the devils got all the good drummers. She was a Presbyterian in a porno picture\, tossing her values aside. You can all go straight to hell\, you’d better cut and run\, get on your knees\, and thank the lord that I don’t have a gun.\nIt’s a skill that separates Womack from the mundane Music Row factory writers in Nashville even as it marginalizes him from the whitebread world of radio and mainstream music. It also shows his Southern heritage as a religious tradition and rock n roll yearnings clash for the soul of the songwriter with the resulting imagery creating some of Rock’s best rhymes. Among southern rockers\, only Jason & the Scorchers Jason Ringenburg and\, perhaps\, Alex Chilton match Womack word for word.\nABOUT JAY: jaybyrdmusic.com\nUnder A Sky:  https://www.youtube.com/watch?v=XhaptXlWz-8\n“Jay Byrd has a magical way with words and a melody to make songs sound very personal to the listener too.” The Rocking Magpie\nJason (Jay) Byrd has been a professional guitarist\, singer\, and songwriter since his late teens. In his early twenties\, he co-founded the blues-rock trio The Groov with Kerry Brooks\, and in 1996 joined the then-Grateful Dead cover band Wavy Train. Byrd’s original songs and guitar work helped Wavy Train to forge a sound that combined pop-oriented melodies with extended improvisation. After moving to the Washington\, DC area in 2001\, Jason began crafting songs with a decidedly Americana bent. An award-winning songwriter (NewSong\, Mid-Atlantic Songwriting Contest\, Bernard-Ebb Finalist)\, Jason continues to write and perform original roots-influenced music.\nThroughout the years with Wavy Train\, South Rail or as a solo artist\, Jay has opened for Little Feat\, Chely Wright\, Cary Morin\, Don Dixon & Marti Jones\, Kevin Gordon\, Caroline Rose\, Yarn\, etc. and has shared stages with String Cheese Incident\, Tom Constanten\, Col. Bruce Hampton\, Ratdog\, and Steve Winwood\, among many others. His previous band\, South Rail\, has released three EPs\, a self-titled debut in 2012\, “Stars” (2014)\, produced by Don Was\, and most recently\, “Take The Wheel” (2018).\nJay’s latest album\, “At Home Again\,” was released in August of 2022.
URL:https://49westcoffeehouse.com/event/itzall-goode-and-shc-music-tribe-present-tommy-womack-with-special-guest-jay-byrd/
END:VEVENT
BEGIN:VEVENT
DTSTART;TZID=UTC:20240820T190000
DTEND;TZID=UTC:20240820T213000
DTSTAMP:20260423T091650
CREATED:20240727T180258Z
LAST-MODIFIED:20240727T180258Z
UID:16055-1724180400-1724189400@49westcoffeehouse.com
SUMMARY:Unified Jazz Ensemble
DESCRIPTION:The Unified Jazz Ensemble is a dynamic group of masterful musicians from the USA. This ensemble has years of experience educating and entertaining diverse audiences. This is acoustic jazz\, a classic American art form\, done to perfection with audience interaction at its best.
URL:https://49westcoffeehouse.com/event/unified-jazz-ensemble-96-2-2-2-2-2-2-3-2-2-2-2-2-2-2-2-2-2-2-2-2-2-2-2-2-2-2-2-2-2-2-2-2-2-3-2-2-3-2-2-2-2-2-2-2-2-2-2-2-2-2-2-3-2-2-2-2-2-2-3-2-2-2-2-2-2-2-2-2-2-2-2-2-2-3-2-2-2-2-2-2-2-2-2-2-2-2-112/
LOCATION:49 West – The Back Room\, 49 West St.\, Annapolis\, MD\, 21401\, United States
ATTACH;FMTTYPE=image/jpeg:https://49westcoffeehouse.com/wp-content/uploads/2016/07/image.jpeg
END:VEVENT
BEGIN:VEVENT
DTSTART;TZID=UTC:20240821T170000
DTEND;TZID=UTC:20240821T190000
DTSTAMP:20260423T091650
CREATED:20240624T222033Z
LAST-MODIFIED:20240624T222033Z
UID:15892-1724259600-1724266800@49westcoffeehouse.com
SUMMARY:Dave Chappell & Friends- AKA HippieHappy Hour
DESCRIPTION:Dave Chappell\, Jimmy Jacobs\, Rurik Reshetiloff & more!
URL:https://49westcoffeehouse.com/event/dean-rosenthal-friends-60-2-2-2-2-2-2-2-2-2-2-2-2-2-2-2-2-2-2-2-2-2-2-2-2-2-2-2-3-2-2-2-2-2-2-3-2-2-2-2-2-2-2-2-2-2-2-2-2-2-2-2-2-2-2-2-2-2-2-3-2-2-2-2-2-2-2-2-2-2-2-2-2-2-2-2-2-2-2-2-2-2-3-2-2-2-1-16/
LOCATION:49 West – The Front Room\, 49 West St.\, Annapolis\, MD\, 21401\, United States
ATTACH;FMTTYPE=image/jpeg:https://49westcoffeehouse.com/wp-content/uploads/2021/06/8C3B9EB8-D24E-4351-8EE3-E55ADEB7360B.jpeg
END:VEVENT
BEGIN:VEVENT
DTSTART;TZID=America/Halifax:20240822T193000
DTEND;TZID=America/Halifax:20240822T220000
DTSTAMP:20260423T091650
CREATED:20240730T021029Z
LAST-MODIFIED:20240730T021029Z
UID:16140-1724355000-1724364000@49westcoffeehouse.com
SUMMARY:Shook/ Russo 4 Tet
DESCRIPTION:The SR4tet is back! Come warm up with some great food and great jazz!  Hope to see you there! $10 cover\, call 410-626-9796 for reservations. \nAmy Shook – bass\nFrank Russo – drums\nPat Shook – tenor sax\nJonathan Epley – guitar
URL:https://49westcoffeehouse.com/event/shook-russo-5-tet-22-2-2-2-2-5-2-2-2-2-2-2-2-2-2-2-2-2-2-2-2-2-3-2-2-3-3/
LOCATION:49 West – The Back Room\, 49 West St.\, Annapolis\, MD\, 21401\, United States
CATEGORIES:Back Room
ATTACH;FMTTYPE=image/jpeg:https://49westcoffeehouse.com/wp-content/uploads/2018/09/46801545_10157347388639947_615750864019128320_o.jpg
END:VEVENT
BEGIN:VEVENT
DTSTART;TZID=America/Halifax:20240823T200000
DTEND;TZID=America/Halifax:20240823T230000
DTSTAMP:20260423T091650
CREATED:20240727T181935Z
LAST-MODIFIED:20240729T185651Z
UID:16067-1724443200-1724454000@49westcoffeehouse.com
SUMMARY:Mark Schatz & Bryan McDowell
DESCRIPTION:This multi-generational duo presents a broad spectrum of American acoustic music\, and their new CD\, Grit & Polish\, went to #1 on the DJ Folk Charts in 2021. Both Schatz and McDowell are multi-instrumentalists who cruise seamlessly from old-time to bluegrass\, from folk to swing\, playing and singing tunes and songs\, old and new\, including their own original compositions. Western North Carolina native Bryan McDowell grew up in a rich musical environment where he learned everything from Doc Watson to Charlie Parker. Mark has toured and recorded with a who’s who of the acoustic music world including Bela Fleck\, Nickel Creek\, Tony Rice\, and Tim O’Brien. The two worked together in The Claire Lynch Band from 2009 to 2014\, and they’re excited to present a new and dynamic show which of course will include some of Mark’s colorful hambone and Appalachian clog dancing.
URL:https://49westcoffeehouse.com/event/mark-schatz/
ATTACH;FMTTYPE=image/jpeg:https://49westcoffeehouse.com/wp-content/uploads/2024/07/635A2962-copy.jpeg
END:VEVENT
BEGIN:VEVENT
DTSTART;TZID=America/Halifax:20240824T190000
DTEND;TZID=America/Halifax:20240824T230000
DTSTAMP:20260423T091650
CREATED:20240727T181216Z
LAST-MODIFIED:20240727T181216Z
UID:16061-1724526000-1724540400@49westcoffeehouse.com
SUMMARY:Rick Hogue and Friends-  2 SHOWS!!
DESCRIPTION:2 Shows 7pm & 9pm.\nPlease call for reservations and specify which show you are making your reservation for. 410-626-9796
URL:https://49westcoffeehouse.com/event/rick-hogue-and-friends-2-shows/
ATTACH;FMTTYPE=image/jpeg:https://49westcoffeehouse.com/wp-content/uploads/2024/07/452928659_8607732022588401_4999368196865191022_n.jpg
END:VEVENT
BEGIN:VEVENT
DTSTART;TZID=America/Halifax:20240825T110000
DTEND;TZID=America/Halifax:20240825T130000
DTSTAMP:20260423T091650
CREATED:20240812T135657Z
LAST-MODIFIED:20240817T170217Z
UID:16167-1724583600-1724590800@49westcoffeehouse.com
SUMMARY:Diana & Emil with Special guests Kimario Ballantyne and Steve Badger
DESCRIPTION:Diana McFadden (on cello) and Emil Petruncio (on keyboard). They’ll be playing a sweet selection of Americana tunes\, including classics by by John Prine\, Bob Dylan\, and the Grateful Dead. Also\, special guests Kimario Ballantyne and Steve Badger joining in! Please come by and check them out!
URL:https://49westcoffeehouse.com/event/diana-emil-2/
CATEGORIES:Front Room
ATTACH;FMTTYPE=image/jpeg:https://49westcoffeehouse.com/wp-content/uploads/2024/02/image000000.jpeg
END:VEVENT
BEGIN:VEVENT
DTSTART;TZID=America/Halifax:20240825T190000
DTEND;TZID=America/Halifax:20240825T210000
DTSTAMP:20260423T091650
CREATED:20240727T183015Z
LAST-MODIFIED:20240727T183015Z
UID:16080-1724612400-1724619600@49westcoffeehouse.com
SUMMARY:Donato Sovieri
DESCRIPTION:
URL:https://49westcoffeehouse.com/event/donato-sovieri/
END:VEVENT
BEGIN:VEVENT
DTSTART;TZID=America/Halifax:20240826T193000
DTEND;TZID=America/Halifax:20240826T220000
DTSTAMP:20260423T091650
CREATED:20240727T185816Z
LAST-MODIFIED:20240727T185816Z
UID:16095-1724700600-1724709600@49westcoffeehouse.com
SUMMARY:Rehaash
DESCRIPTION:
URL:https://49westcoffeehouse.com/event/rehaash-5/
END:VEVENT
BEGIN:VEVENT
DTSTART;TZID=UTC:20240827T190000
DTEND;TZID=UTC:20240827T213000
DTSTAMP:20260423T091650
CREATED:20240727T180328Z
LAST-MODIFIED:20240727T180328Z
UID:16057-1724785200-1724794200@49westcoffeehouse.com
SUMMARY:Unified Jazz Ensemble
DESCRIPTION:The Unified Jazz Ensemble is a dynamic group of masterful musicians from the USA. This ensemble has years of experience educating and entertaining diverse audiences. This is acoustic jazz\, a classic American art form\, done to perfection with audience interaction at its best.
URL:https://49westcoffeehouse.com/event/unified-jazz-ensemble-96-2-2-2-2-2-2-3-2-2-2-2-2-2-2-2-2-2-2-2-2-2-2-2-2-2-2-2-2-2-2-2-2-2-3-2-2-3-2-2-2-2-2-2-2-2-2-2-2-2-2-2-3-2-2-2-2-2-2-3-2-2-2-2-2-2-2-2-2-2-2-2-2-2-3-2-2-2-2-2-2-2-2-2-2-2-2-113/
LOCATION:49 West – The Back Room\, 49 West St.\, Annapolis\, MD\, 21401\, United States
ATTACH;FMTTYPE=image/jpeg:https://49westcoffeehouse.com/wp-content/uploads/2016/07/image.jpeg
END:VEVENT
BEGIN:VEVENT
DTSTART;TZID=UTC:20240828T170000
DTEND;TZID=UTC:20240828T190000
DTSTAMP:20260423T091650
CREATED:20240727T171720Z
LAST-MODIFIED:20240727T171720Z
UID:16047-1724864400-1724871600@49westcoffeehouse.com
SUMMARY:Dave Chappell & Friends- AKA HippieHappy Hour
DESCRIPTION:Dave Chappell\, Jimmy Jacobs\, Rurik Reshetiloff & more!
URL:https://49westcoffeehouse.com/event/dean-rosenthal-friends-60-2-2-2-2-2-2-2-2-2-2-2-2-2-2-2-2-2-2-2-2-2-2-2-2-2-2-2-3-2-2-2-2-2-2-3-2-2-2-2-2-2-2-2-2-2-2-2-2-2-2-2-2-2-2-2-2-2-2-3-2-2-2-2-2-2-2-2-2-2-2-2-2-2-2-2-2-2-2-2-2-2-3-2-2-2-1-24/
LOCATION:49 West – The Front Room\, 49 West St.\, Annapolis\, MD\, 21401\, United States
ATTACH;FMTTYPE=image/jpeg:https://49westcoffeehouse.com/wp-content/uploads/2021/06/8C3B9EB8-D24E-4351-8EE3-E55ADEB7360B.jpeg
END:VEVENT
BEGIN:VEVENT
DTSTART;TZID=America/Halifax:20240828T200000
DTEND;TZID=America/Halifax:20240828T220000
DTSTAMP:20260423T091650
CREATED:20240809T001433Z
LAST-MODIFIED:20240809T001433Z
UID:16161-1724875200-1724882400@49westcoffeehouse.com
SUMMARY:Madisun Bailey Band
DESCRIPTION:
URL:https://49westcoffeehouse.com/event/madisun-bailey-band/
ATTACH;FMTTYPE=image/jpeg:https://49westcoffeehouse.com/wp-content/uploads/2024/08/Untitled_Artwork.jpeg
END:VEVENT
END:VCALENDAR